| Back to Multiple platform build/check report for BioC 3.12 | 
  | 
This page was generated on 2021-05-06 12:34:48 -0400 (Thu, 06 May 2021).
| 
To the developers/maintainers of the diffGeneAnalysis package: Please make sure to use the following settings in order to reproduce any error or warning you see on this page.  | 
| Package 477/1974 | Hostname | OS / Arch | INSTALL | BUILD | CHECK | BUILD BIN | ||||||||
| diffGeneAnalysis 1.72.0  (landing page) Choudary Jagarlamudi 
  | malbec1 | Linux (Ubuntu 18.04.5 LTS) / x86_64 | OK | OK | OK | |||||||||
| tokay1 | Windows Server 2012 R2 Standard / x64 | OK | OK | OK | OK | |||||||||
| merida1 | macOS 10.14.6 Mojave / x86_64 | OK | OK | OK | OK | |||||||||
| Package: diffGeneAnalysis | 
| Version: 1.72.0 | 
| Command: /Library/Frameworks/R.framework/Versions/Current/Resources/bin/R CMD build --keep-empty-dirs --no-resave-data diffGeneAnalysis | 
| StartedAt: 2021-05-05 19:07:57 -0400 (Wed, 05 May 2021) | 
| EndedAt: 2021-05-05 19:08:04 -0400 (Wed, 05 May 2021) | 
| EllapsedTime: 6.8 seconds | 
| RetCode: 0 | 
| Status: OK | 
| PackageFile: diffGeneAnalysis_1.72.0.tar.gz | 
| PackageFileSize: 170.2 KiB | 
############################################################################## ############################################################################## ### ### Running command: ### ### /Library/Frameworks/R.framework/Versions/Current/Resources/bin/R CMD build --keep-empty-dirs --no-resave-data diffGeneAnalysis ### ############################################################################## ############################################################################## * checking for file ‘diffGeneAnalysis/DESCRIPTION’ ... OK * preparing ‘diffGeneAnalysis’: * checking DESCRIPTION meta-information ... OK * installing the package to build vignettes * creating vignettes ... OK * excluding invalid files Subdirectory 'R' contains invalid file names: ‘diffGeneAnalysis’ * checking for LF line-endings in source and make files and shell scripts * checking for empty or unneeded directories * looking to see if a ‘data/datalist’ file should be added * building ‘diffGeneAnalysis_1.72.0.tar.gz’