| Back to Multiple platform build/check report for BioC 3.12 |
|
This page was generated on 2021-05-06 12:34:45 -0400 (Thu, 06 May 2021).
|
To the developers/maintainers of the debrowser package: Please make sure to use the following settings in order to reproduce any error or warning you see on this page. |
| Package 435/1974 | Hostname | OS / Arch | INSTALL | BUILD | CHECK | BUILD BIN | ||||||||
| debrowser 1.18.3 (landing page) Alper Kucukural
| malbec1 | Linux (Ubuntu 18.04.5 LTS) / x86_64 | OK | OK | OK | |||||||||
| tokay1 | Windows Server 2012 R2 Standard / x64 | OK | OK | OK | OK | |||||||||
| merida1 | macOS 10.14.6 Mojave / x86_64 | OK | OK | OK | OK | |||||||||
| Package: debrowser |
| Version: 1.18.3 |
| Command: /Library/Frameworks/R.framework/Versions/Current/Resources/bin/R CMD build --keep-empty-dirs --no-resave-data debrowser |
| StartedAt: 2021-05-05 19:02:32 -0400 (Wed, 05 May 2021) |
| EndedAt: 2021-05-05 19:04:48 -0400 (Wed, 05 May 2021) |
| EllapsedTime: 136.3 seconds |
| RetCode: 0 |
| Status: OK |
| PackageFile: debrowser_1.18.3.tar.gz |
| PackageFileSize: 18.23 MiB |
############################################################################## ############################################################################## ### ### Running command: ### ### /Library/Frameworks/R.framework/Versions/Current/Resources/bin/R CMD build --keep-empty-dirs --no-resave-data debrowser ### ############################################################################## ############################################################################## * checking for file ‘debrowser/DESCRIPTION’ ... OK * preparing ‘debrowser’: * checking DESCRIPTION meta-information ... OK * installing the package to build vignettes * creating vignettes ... OK * checking for LF line-endings in source and make files and shell scripts * checking for empty or unneeded directories * building ‘debrowser_1.18.3.tar.gz’