Back to Multiple platform build/check report for BioC 3.12 |
|
This page was generated on 2021-05-06 12:34:08 -0400 (Thu, 06 May 2021).
To the developers/maintainers of the UniProt.ws package: Please make sure to use the following settings in order to reproduce any error or warning you see on this page. |
Package 1924/1974 | Hostname | OS / Arch | INSTALL | BUILD | CHECK | BUILD BIN | ||||||||
UniProt.ws 2.30.0 (landing page) Bioconductor Package Maintainer
| malbec1 | Linux (Ubuntu 18.04.5 LTS) / x86_64 | OK | ERROR | skipped | |||||||||
tokay1 | Windows Server 2012 R2 Standard / x64 | OK | ERROR | skipped | skipped | |||||||||
merida1 | macOS 10.14.6 Mojave / x86_64 | OK | OK | TIMEOUT | OK | |||||||||
Package: UniProt.ws |
Version: 2.30.0 |
Command: C:\cygwin\bin\curl.exe -O http://172.29.0.3/BBS/3.12/bioc/src/contrib/UniProt.ws_2.30.0.tar.gz && rm -rf UniProt.ws.buildbin-libdir && mkdir UniProt.ws.buildbin-libdir && C:\Users\biocbuild\bbs-3.12-bioc\R\bin\R.exe CMD INSTALL --merge-multiarch --build --library=UniProt.ws.buildbin-libdir UniProt.ws_2.30.0.tar.gz && C:\Users\biocbuild\bbs-3.12-bioc\R\bin\R.exe CMD INSTALL UniProt.ws_2.30.0.zip && rm UniProt.ws_2.30.0.tar.gz UniProt.ws_2.30.0.zip |
StartedAt: 2021-05-05 17:13:48 -0400 (Wed, 05 May 2021) |
EndedAt: 2021-05-05 17:14:34 -0400 (Wed, 05 May 2021) |
EllapsedTime: 45.6 seconds |
RetCode: 0 |
Status: OK |
############################################################################## ############################################################################## ### ### Running command: ### ### C:\cygwin\bin\curl.exe -O http://172.29.0.3/BBS/3.12/bioc/src/contrib/UniProt.ws_2.30.0.tar.gz && rm -rf UniProt.ws.buildbin-libdir && mkdir UniProt.ws.buildbin-libdir && C:\Users\biocbuild\bbs-3.12-bioc\R\bin\R.exe CMD INSTALL --merge-multiarch --build --library=UniProt.ws.buildbin-libdir UniProt.ws_2.30.0.tar.gz && C:\Users\biocbuild\bbs-3.12-bioc\R\bin\R.exe CMD INSTALL UniProt.ws_2.30.0.zip && rm UniProt.ws_2.30.0.tar.gz UniProt.ws_2.30.0.zip ### ############################################################################## ############################################################################## % Total % Received % Xferd Average Speed Time Time Time Current Dload Upload Total Spent Left Speed 0 0 0 0 0 0 0 0 --:--:-- --:--:-- --:--:-- 0 100 671k 100 671k 0 0 2765k 0 --:--:-- --:--:-- --:--:-- 2776k install for i386 * installing *source* package 'UniProt.ws' ... ** using staged installation ** R ** inst ** byte-compile and prepare package for lazy loading ** help *** installing help indices converting help for package 'UniProt.ws' finding HTML links ... done UniProtWS-class html colsAndKeytypes html utilities html ** building package indices ** installing vignettes ** testing if installed package can be loaded from temporary location ** testing if installed package can be loaded from final location ** testing if installed package keeps a record of temporary installation path install for x64 * installing *source* package 'UniProt.ws' ... ** testing if installed package can be loaded * MD5 sums packaged installation of 'UniProt.ws' as UniProt.ws_2.30.0.zip * DONE (UniProt.ws) * installing to library 'C:/Users/biocbuild/bbs-3.12-bioc/R/library' package 'UniProt.ws' successfully unpacked and MD5 sums checked