Back to Multiple platform build/check report for BioC 3.12 |
|
This page was generated on 2021-05-06 12:26:29 -0400 (Thu, 06 May 2021).
Package 1688/1974 | Hostname | OS / Arch | INSTALL | BUILD | CHECK | BUILD BIN | ||||||||
SeqVarTools 1.28.1 (landing page) Stephanie M. Gogarten
| malbec1 | Linux (Ubuntu 18.04.5 LTS) / x86_64 | OK | OK | OK | ![]() | ||||||||
tokay1 | Windows Server 2012 R2 Standard / x64 | OK | OK | OK | OK | ![]() | ||||||||
merida1 | macOS 10.14.6 Mojave / x86_64 | OK | OK | OK | OK | ![]() | ||||||||
QUICK STATS | OS / Arch | INSTALL | BUILD | CHECK | BUILD BIN | |||||||||||||||||
malbec1 | Linux (Ubuntu 18.04.5 LTS) / x86_64 |
|
|
| ||||||||||||||||||
tokay1 | Windows Server 2012 R2 Standard / x64 |
|
|
|
| |||||||||||||||||
merida1 | macOS 10.14.6 Mojave / x86_64 |
|
|
|
| |||||||||||||||||
Package 1/2 | Hostname | OS / Arch | INSTALL | BUILD | CHECK | BUILD BIN | ||||||||||||||||
GENESIS 2.20.1 (landing page) Stephanie M. Gogarten
| malbec1 | Linux (Ubuntu 18.04.5 LTS) / x86_64 | OK | OK | OK | ![]() | ||||||||||||||||
tokay1 | Windows Server 2012 R2 Standard / x64 | OK | OK | OK | OK | ![]() | ||||||||||||||||
merida1 | macOS 10.14.6 Mojave / x86_64 | OK | OK | OK | OK | ![]() | ||||||||||||||||
Package 2/2 | Hostname | OS / Arch | INSTALL | BUILD | CHECK | BUILD BIN | ||||||||||||||||
VariantExperiment 1.4.2 (landing page) Qian Liu
| malbec1 | Linux (Ubuntu 18.04.5 LTS) / x86_64 | OK | OK | OK | ![]() | ||||||||||||||||
tokay1 | Windows Server 2012 R2 Standard / x64 | OK | OK | OK | OK | ![]() | ||||||||||||||||
merida1 | macOS 10.14.6 Mojave / x86_64 | OK | OK | OK | OK | ![]() | ||||||||||||||||