| Back to Multiple platform build/check report for BioC 3.12 |
|
This page was generated on 2021-05-06 12:33:11 -0400 (Thu, 06 May 2021).
|
To the developers/maintainers of the ReportingTools package: Please make sure to use the following settings in order to reproduce any error or warning you see on this page. |
| Package 1503/1974 | Hostname | OS / Arch | INSTALL | BUILD | CHECK | BUILD BIN | ||||||||
| ReportingTools 2.30.2 (landing page) Jason A. Hackney
| malbec1 | Linux (Ubuntu 18.04.5 LTS) / x86_64 | OK | OK | OK | |||||||||
| tokay1 | Windows Server 2012 R2 Standard / x64 | OK | OK | OK | OK | |||||||||
| merida1 | macOS 10.14.6 Mojave / x86_64 | OK | OK | OK | OK | |||||||||
| Package: ReportingTools |
| Version: 2.30.2 |
| Command: rm -rf ReportingTools.buildbin-libdir && mkdir ReportingTools.buildbin-libdir && C:\Users\biocbuild\bbs-3.12-bioc\R\bin\R.exe CMD INSTALL --merge-multiarch --build --library=ReportingTools.buildbin-libdir ReportingTools_2.30.2.tar.gz |
| StartedAt: 2021-05-06 09:55:02 -0400 (Thu, 06 May 2021) |
| EndedAt: 2021-05-06 09:56:35 -0400 (Thu, 06 May 2021) |
| EllapsedTime: 92.6 seconds |
| RetCode: 0 |
| Status: OK |
| PackageFile: ReportingTools_2.30.2.zip |
| PackageFileSize: 2.324 MiB |
##############################################################################
##############################################################################
###
### Running command:
###
### rm -rf ReportingTools.buildbin-libdir && mkdir ReportingTools.buildbin-libdir && C:\Users\biocbuild\bbs-3.12-bioc\R\bin\R.exe CMD INSTALL --merge-multiarch --build --library=ReportingTools.buildbin-libdir ReportingTools_2.30.2.tar.gz
###
##############################################################################
##############################################################################
install for i386
* installing *source* package 'ReportingTools' ...
** using staged installation
** R
** data
** inst
** byte-compile and prepare package for lazy loading
in method for 'objectToHTML' with signature 'object="ggbio"': no definition for class "ggbio"
** help
*** installing help indices
converting help for package 'ReportingTools'
finding HTML links ... done
BaseReportType-class html
CSVFile-class html
CSVFile html
DataPackage-class html
DataPackage html
HTMLReport-class html
HTMLReport html
HTMLReportRef-class html
Link html
ReportHandlers-class html
addReportColumns-methods html
custHeaderPanel html
filename-methods html
finish-methods html
makeDESeqDF html
mockRnaSeqData html
objectToHTML-methods html
publish-methods html
finding level-2 HTML links ... done
readReport html
reporting.theme html
reporting.theme.alternate html
toReportDF-methods html
validConnection html
** building package indices
** installing vignettes
** testing if installed package can be loaded from temporary location
** testing if installed package can be loaded from final location
** testing if installed package keeps a record of temporary installation path
install for x64
* installing *source* package 'ReportingTools' ...
** testing if installed package can be loaded
* MD5 sums
packaged installation of 'ReportingTools' as ReportingTools_2.30.2.zip
* DONE (ReportingTools)