| Back to Multiple platform build/check report for BioC 3.12 | 
 | 
This page was generated on 2021-05-06 12:36:22 -0400 (Thu, 06 May 2021).
| To the developers/maintainers of the ReportingTools package: Please make sure to use the following settings in order to reproduce any error or warning you see on this page. | 
| Package 1503/1974 | Hostname | OS / Arch | INSTALL | BUILD | CHECK | BUILD BIN | ||||||||
| ReportingTools 2.30.2  (landing page) Jason A. Hackney 
 | malbec1 | Linux (Ubuntu 18.04.5 LTS) / x86_64 | OK | OK | OK |  | ||||||||
| tokay1 | Windows Server 2012 R2 Standard / x64 | OK | OK | OK | OK |  | ||||||||
| merida1 | macOS 10.14.6 Mojave / x86_64 | OK | OK | OK | OK |  | ||||||||
| Package: ReportingTools | 
| Version: 2.30.2 | 
| Command: /Library/Frameworks/R.framework/Versions/Current/Resources/bin/R CMD build --keep-empty-dirs --no-resave-data ReportingTools | 
| StartedAt: 2021-05-05 21:38:54 -0400 (Wed, 05 May 2021) | 
| EndedAt: 2021-05-05 21:40:48 -0400 (Wed, 05 May 2021) | 
| EllapsedTime: 114.1 seconds | 
| RetCode: 0 | 
| Status: OK | 
| PackageFile: ReportingTools_2.30.2.tar.gz | 
| PackageFileSize: 2.196 MiB | 
############################################################################## ############################################################################## ### ### Running command: ### ### /Library/Frameworks/R.framework/Versions/Current/Resources/bin/R CMD build --keep-empty-dirs --no-resave-data ReportingTools ### ############################################################################## ############################################################################## * checking for file ‘ReportingTools/DESCRIPTION’ ... OK * preparing ‘ReportingTools’: * checking DESCRIPTION meta-information ... OK * installing the package to build vignettes * creating vignettes ... OK * checking for LF line-endings in source and make files and shell scripts * checking for empty or unneeded directories * looking to see if a ‘data/datalist’ file should be added * building ‘ReportingTools_2.30.2.tar.gz’