| Back to Multiple platform build/check report for BioC 3.12 |
|
This page was generated on 2021-05-06 12:33:22 -0400 (Thu, 06 May 2021).
|
To the developers/maintainers of the RTCGAToolbox package: Please make sure to use the following settings in order to reproduce any error or warning you see on this page. |
| Package 1592/1974 | Hostname | OS / Arch | INSTALL | BUILD | CHECK | BUILD BIN | ||||||||
| RTCGAToolbox 2.20.0 (landing page) Marcel Ramos
| malbec1 | Linux (Ubuntu 18.04.5 LTS) / x86_64 | OK | OK | OK | |||||||||
| tokay1 | Windows Server 2012 R2 Standard / x64 | OK | OK | OK | OK | |||||||||
| merida1 | macOS 10.14.6 Mojave / x86_64 | OK | OK | OK | OK | |||||||||
| Package: RTCGAToolbox |
| Version: 2.20.0 |
| Command: C:\cygwin\bin\curl.exe -O http://172.29.0.3/BBS/3.12/bioc/src/contrib/RTCGAToolbox_2.20.0.tar.gz && rm -rf RTCGAToolbox.buildbin-libdir && mkdir RTCGAToolbox.buildbin-libdir && C:\Users\biocbuild\bbs-3.12-bioc\R\bin\R.exe CMD INSTALL --merge-multiarch --build --library=RTCGAToolbox.buildbin-libdir RTCGAToolbox_2.20.0.tar.gz && C:\Users\biocbuild\bbs-3.12-bioc\R\bin\R.exe CMD INSTALL RTCGAToolbox_2.20.0.zip && rm RTCGAToolbox_2.20.0.tar.gz RTCGAToolbox_2.20.0.zip |
| StartedAt: 2021-05-05 18:59:24 -0400 (Wed, 05 May 2021) |
| EndedAt: 2021-05-05 19:00:49 -0400 (Wed, 05 May 2021) |
| EllapsedTime: 84.5 seconds |
| RetCode: 0 |
| Status: OK |
##############################################################################
##############################################################################
###
### Running command:
###
### C:\cygwin\bin\curl.exe -O http://172.29.0.3/BBS/3.12/bioc/src/contrib/RTCGAToolbox_2.20.0.tar.gz && rm -rf RTCGAToolbox.buildbin-libdir && mkdir RTCGAToolbox.buildbin-libdir && C:\Users\biocbuild\bbs-3.12-bioc\R\bin\R.exe CMD INSTALL --merge-multiarch --build --library=RTCGAToolbox.buildbin-libdir RTCGAToolbox_2.20.0.tar.gz && C:\Users\biocbuild\bbs-3.12-bioc\R\bin\R.exe CMD INSTALL RTCGAToolbox_2.20.0.zip && rm RTCGAToolbox_2.20.0.tar.gz RTCGAToolbox_2.20.0.zip
###
##############################################################################
##############################################################################
% Total % Received % Xferd Average Speed Time Time Time Current
Dload Upload Total Spent Left Speed
0 0 0 0 0 0 0 0 --:--:-- --:--:-- --:--:-- 0
100 2173k 100 2173k 0 0 22.1M 0 --:--:-- --:--:-- --:--:-- 22.3M
install for i386
* installing *source* package 'RTCGAToolbox' ...
** using staged installation
** R
** data
*** moving datasets to lazyload DB
** inst
** byte-compile and prepare package for lazy loading
** help
*** installing help indices
converting help for package 'RTCGAToolbox'
finding HTML links ... done
CorResult-class html
DGEResult-class html
FirehoseCGHArray-class html
FirehoseData-class html
FirehoseGISTIC-class html
FirehoseMethylationArray-class html
FirehosemRNAArray-class html
RTCGAToolbox html
accmini html
biocExtract html
finding level-2 HTML links ... done
getBroadSubtypes html
getCNGECorrelation html
getData html
getDiffExpressedGenes html
getFirehoseAnalyzeDates html
getFirehoseData html
getFirehoseDatasets html
getFirehoseRunningDates html
getGISTICPeaks html
getLinks html
getMutationRate html
getReport html
getSurvival html
hg19.ucsc.gene.locations html
selectType html
showResults-CorResult html
showResults-DGEResult html
showResults html
** building package indices
** installing vignettes
** testing if installed package can be loaded from temporary location
** testing if installed package can be loaded from final location
** testing if installed package keeps a record of temporary installation path
install for x64
* installing *source* package 'RTCGAToolbox' ...
** testing if installed package can be loaded
* MD5 sums
packaged installation of 'RTCGAToolbox' as RTCGAToolbox_2.20.0.zip
* DONE (RTCGAToolbox)
* installing to library 'C:/Users/biocbuild/bbs-3.12-bioc/R/library'
package 'RTCGAToolbox' successfully unpacked and MD5 sums checked