| Back to Multiple platform build/check report for BioC 3.12 |
|
This page was generated on 2021-05-06 12:33:22 -0400 (Thu, 06 May 2021).
|
To the developers/maintainers of the RTCGAToolbox package: Please make sure to use the following settings in order to reproduce any error or warning you see on this page. |
| Package 1592/1974 | Hostname | OS / Arch | INSTALL | BUILD | CHECK | BUILD BIN | ||||||||
| RTCGAToolbox 2.20.0 (landing page) Marcel Ramos
| malbec1 | Linux (Ubuntu 18.04.5 LTS) / x86_64 | OK | OK | OK | |||||||||
| tokay1 | Windows Server 2012 R2 Standard / x64 | OK | OK | OK | OK | |||||||||
| merida1 | macOS 10.14.6 Mojave / x86_64 | OK | OK | OK | OK | |||||||||
| Package: RTCGAToolbox |
| Version: 2.20.0 |
| Command: chmod a+r RTCGAToolbox -R && C:\Users\biocbuild\bbs-3.12-bioc\R\bin\R.exe CMD build --keep-empty-dirs --no-resave-data RTCGAToolbox |
| StartedAt: 2021-05-05 23:16:41 -0400 (Wed, 05 May 2021) |
| EndedAt: 2021-05-05 23:17:41 -0400 (Wed, 05 May 2021) |
| EllapsedTime: 59.8 seconds |
| RetCode: 0 |
| Status: OK |
| PackageFile: RTCGAToolbox_2.20.0.tar.gz |
| PackageFileSize: 4.691 MiB |
############################################################################## ############################################################################## ### ### Running command: ### ### chmod a+r RTCGAToolbox -R && C:\Users\biocbuild\bbs-3.12-bioc\R\bin\R.exe CMD build --keep-empty-dirs --no-resave-data RTCGAToolbox ### ############################################################################## ############################################################################## * checking for file 'RTCGAToolbox/DESCRIPTION' ... OK * preparing 'RTCGAToolbox': * checking DESCRIPTION meta-information ... OK * installing the package to build vignettes * creating vignettes ... OK * checking for LF line-endings in source and make files and shell scripts * checking for empty or unneeded directories * building 'RTCGAToolbox_2.20.0.tar.gz'