| Back to Multiple platform build/check report for BioC 3.12 |
|
This page was generated on 2021-05-06 12:36:04 -0400 (Thu, 06 May 2021).
|
To the developers/maintainers of the PathwaySplice package: Please make sure to use the following settings in order to reproduce any error or warning you see on this page. |
| Package 1311/1974 | Hostname | OS / Arch | INSTALL | BUILD | CHECK | BUILD BIN | ||||||||
Aimin Yan
| malbec1 | Linux (Ubuntu 18.04.5 LTS) / x86_64 | ERROR | ERROR | skipped | |||||||||
| tokay1 | Windows Server 2012 R2 Standard / x64 | ERROR | ERROR | skipped | skipped | |||||||||
| merida1 | macOS 10.14.6 Mojave / x86_64 | ERROR | ERROR | skipped | skipped | |||||||||
| Package: PathwaySplice |
| Version: 1.14.0 |
| Command: /Library/Frameworks/R.framework/Versions/Current/Resources/bin/R CMD build --keep-empty-dirs --no-resave-data PathwaySplice |
| StartedAt: 2021-05-05 21:08:38 -0400 (Wed, 05 May 2021) |
| EndedAt: 2021-05-05 21:09:04 -0400 (Wed, 05 May 2021) |
| EllapsedTime: 25.5 seconds |
| RetCode: 1 |
| Status: ERROR |
| PackageFile: None |
| PackageFileSize: NA |
##############################################################################
##############################################################################
###
### Running command:
###
### /Library/Frameworks/R.framework/Versions/Current/Resources/bin/R CMD build --keep-empty-dirs --no-resave-data PathwaySplice
###
##############################################################################
##############################################################################
* checking for file ‘PathwaySplice/DESCRIPTION’ ... OK
* preparing ‘PathwaySplice’:
* checking DESCRIPTION meta-information ... OK
* installing the package to build vignettes
-----------------------------------
* installing *source* package ‘PathwaySplice’ ...
** using staged installation
** R
** data
*** moving datasets to lazyload DB
** inst
** byte-compile and prepare package for lazy loading
Error: object 'get.kegg.genesets' is not exported by 'namespace:EnrichmentBrowser'
Execution halted
ERROR: lazy loading failed for package ‘PathwaySplice’
* removing ‘/private/tmp/Rtmp0gmC8o/Rinstc9252e07452c/PathwaySplice’
-----------------------------------
ERROR: package installation failed