| Back to Multiple platform build/check report for BioC 3.12 |
|
This page was generated on 2021-05-06 12:28:30 -0400 (Thu, 06 May 2021).
|
To the developers/maintainers of the PathwaySplice package: Please make sure to use the following settings in order to reproduce any error or warning you see on this page. |
| Package 1311/1974 | Hostname | OS / Arch | INSTALL | BUILD | CHECK | BUILD BIN | ||||||||
Aimin Yan
| malbec1 | Linux (Ubuntu 18.04.5 LTS) / x86_64 | ERROR | ERROR | skipped | |||||||||
| tokay1 | Windows Server 2012 R2 Standard / x64 | ERROR | ERROR | skipped | skipped | |||||||||
| merida1 | macOS 10.14.6 Mojave / x86_64 | ERROR | ERROR | skipped | skipped | |||||||||
| Package: PathwaySplice |
| Version: 1.14.0 |
| Command: /home/biocbuild/bbs-3.12-bioc/R/bin/R CMD INSTALL PathwaySplice |
| StartedAt: 2021-05-05 17:16:34 -0400 (Wed, 05 May 2021) |
| EndedAt: 2021-05-05 17:16:52 -0400 (Wed, 05 May 2021) |
| EllapsedTime: 17.6 seconds |
| RetCode: 1 |
| Status: ERROR |
############################################################################## ############################################################################## ### ### Running command: ### ### /home/biocbuild/bbs-3.12-bioc/R/bin/R CMD INSTALL PathwaySplice ### ############################################################################## ############################################################################## * installing to library ‘/home/biocbuild/bbs-3.12-bioc/R/library’ * installing *source* package ‘PathwaySplice’ ... ** using staged installation ** R ** data *** moving datasets to lazyload DB ** inst ** byte-compile and prepare package for lazy loading Error: object 'get.kegg.genesets' is not exported by 'namespace:EnrichmentBrowser' Execution halted ERROR: lazy loading failed for package ‘PathwaySplice’ * removing ‘/home/biocbuild/bbs-3.12-bioc/R/library/PathwaySplice’