| Back to Multiple platform build/check report for BioC 3.12 | 
  | 
This page was generated on 2021-05-06 12:32:25 -0400 (Thu, 06 May 2021).
| 
To the developers/maintainers of the MVCClass package: Please make sure to use the following settings in order to reproduce any error or warning you see on this page.  | 
| Package 1190/1974 | Hostname | OS / Arch | INSTALL | BUILD | CHECK | BUILD BIN | ||||||||
| MVCClass 1.64.0  (landing page) Elizabeth Whalen 
  | malbec1 | Linux (Ubuntu 18.04.5 LTS) / x86_64 | OK | OK | OK | |||||||||
| tokay1 | Windows Server 2012 R2 Standard / x64 | OK | OK | OK | OK | |||||||||
| merida1 | macOS 10.14.6 Mojave / x86_64 | OK | OK | OK | OK | |||||||||
| Package: MVCClass | 
| Version: 1.64.0 | 
| Command: chmod a+r MVCClass -R && C:\Users\biocbuild\bbs-3.12-bioc\R\bin\R.exe CMD build --keep-empty-dirs --no-resave-data MVCClass | 
| StartedAt: 2021-05-05 22:14:54 -0400 (Wed, 05 May 2021) | 
| EndedAt: 2021-05-05 22:15:24 -0400 (Wed, 05 May 2021) | 
| EllapsedTime: 30.5 seconds | 
| RetCode: 0 | 
| Status: OK | 
| PackageFile: MVCClass_1.64.0.tar.gz | 
| PackageFileSize: 1.064 MiB | 
############################################################################## ############################################################################## ### ### Running command: ### ### chmod a+r MVCClass -R && C:\Users\biocbuild\bbs-3.12-bioc\R\bin\R.exe CMD build --keep-empty-dirs --no-resave-data MVCClass ### ############################################################################## ############################################################################## * checking for file 'MVCClass/DESCRIPTION' ... OK * preparing 'MVCClass': * checking DESCRIPTION meta-information ... OK * installing the package to build vignettes * creating vignettes ... OK * checking for LF line-endings in source and make files and shell scripts * checking for empty or unneeded directories * building 'MVCClass_1.64.0.tar.gz'