| Back to Multiple platform build/check report for BioC 3.12 | 
  | 
This page was generated on 2021-05-06 12:32:25 -0400 (Thu, 06 May 2021).
| 
To the developers/maintainers of the MVCClass package: Please make sure to use the following settings in order to reproduce any error or warning you see on this page.  | 
| Package 1190/1974 | Hostname | OS / Arch | INSTALL | BUILD | CHECK | BUILD BIN | ||||||||
| MVCClass 1.64.0  (landing page) Elizabeth Whalen 
  | malbec1 | Linux (Ubuntu 18.04.5 LTS) / x86_64 | OK | OK | OK | |||||||||
| tokay1 | Windows Server 2012 R2 Standard / x64 | OK | OK | OK | OK | |||||||||
| merida1 | macOS 10.14.6 Mojave / x86_64 | OK | OK | OK | OK | |||||||||
| Package: MVCClass | 
| Version: 1.64.0 | 
| Command: rm -rf MVCClass.buildbin-libdir && mkdir MVCClass.buildbin-libdir && C:\Users\biocbuild\bbs-3.12-bioc\R\bin\R.exe CMD INSTALL --merge-multiarch --build --library=MVCClass.buildbin-libdir MVCClass_1.64.0.tar.gz | 
| StartedAt: 2021-05-06 09:37:01 -0400 (Thu, 06 May 2021) | 
| EndedAt: 2021-05-06 09:37:36 -0400 (Thu, 06 May 2021) | 
| EllapsedTime: 35.3 seconds | 
| RetCode: 0 | 
| Status: OK | 
| PackageFile: MVCClass_1.64.0.zip | 
| PackageFileSize: 1.277 MiB | 
##############################################################################
##############################################################################
###
### Running command:
###
###   rm -rf MVCClass.buildbin-libdir && mkdir MVCClass.buildbin-libdir && C:\Users\biocbuild\bbs-3.12-bioc\R\bin\R.exe CMD INSTALL --merge-multiarch --build --library=MVCClass.buildbin-libdir MVCClass_1.64.0.tar.gz
###
##############################################################################
##############################################################################
install for i386
* installing *source* package 'MVCClass' ...
** using staged installation
** R
** inst
** byte-compile and prepare package for lazy loading
** help
*** installing help indices
  converting help for package 'MVCClass'
    finding HTML links ... done
    MVC-class                               html  
    dfModel-class                           html  
    gAddChildMessage-class                  html  
    gAddDataMessage-class                   html  
    gAddMessage-class                       html  
    gAddViewMessage-class                   html  
    gAskAncestorMessage-class               html  
    gEventFun-class                         html  
    gMessage-class                          html  
    gModel-class                            html  
    gModifyMessage-class                    html  
    gSendChildMessage-class                 html  
    gSendParentMessage-class                html  
    gUpdateDataMessage-class                html  
    gUpdateMessage-class                    html  
    gUpdateViewMessage-class                html  
    genView-class                           html  
    linkedModelMVC-class                    html  
    plotView-class                          html  
    qqPlotView-class                        html  
    sPlotView-class                         html  
    singleModelMVC-class                    html  
    spreadView-class                        html  
** building package indices
** installing vignettes
** testing if installed package can be loaded from temporary location
** testing if installed package can be loaded from final location
** testing if installed package keeps a record of temporary installation path
install for x64
* installing *source* package 'MVCClass' ...
** testing if installed package can be loaded
* MD5 sums
packaged installation of 'MVCClass' as MVCClass_1.64.0.zip
* DONE (MVCClass)