| Back to Multiple platform build/check report for BioC 3.12 | 
 | 
This page was generated on 2021-05-06 12:35:48 -0400 (Thu, 06 May 2021).
| To the developers/maintainers of the MSGFplus package: Please make sure to use the following settings in order to reproduce any error or warning you see on this page. | 
| Package 1157/1974 | Hostname | OS / Arch | INSTALL | BUILD | CHECK | BUILD BIN | ||||||||
| MSGFplus 1.24.0  (landing page) Thomas Lin Pedersen 
 | malbec1 | Linux (Ubuntu 18.04.5 LTS) / x86_64 | OK | OK | WARNINGS |  | ||||||||
| tokay1 | Windows Server 2012 R2 Standard / x64 | OK | OK | WARNINGS | OK |  | ||||||||
| merida1 | macOS 10.14.6 Mojave / x86_64 | OK | OK | WARNINGS | OK |  | ||||||||
| Package: MSGFplus | 
| Version: 1.24.0 | 
| Command: rm -rf MSGFplus.buildbin-libdir && mkdir MSGFplus.buildbin-libdir && /Users/biocbuild/BBS/utils/build-universal.sh MSGFplus_1.24.0.tar.gz /Library/Frameworks/R.framework/Versions/Current/Resources/bin/R MSGFplus.buildbin-libdir | 
| StartedAt: 2021-05-06 09:19:33 -0400 (Thu, 06 May 2021) | 
| EndedAt: 2021-05-06 09:20:19 -0400 (Thu, 06 May 2021) | 
| EllapsedTime: 46.4 seconds | 
| RetCode: 0 | 
| Status: OK | 
| PackageFile: MSGFplus_1.24.0.tgz | 
| PackageFileSize: 336.5 KiB | 
############################################################################## ############################################################################## ### ### Running command: ### ### rm -rf MSGFplus.buildbin-libdir && mkdir MSGFplus.buildbin-libdir && /Users/biocbuild/BBS/utils/build-universal.sh MSGFplus_1.24.0.tar.gz /Library/Frameworks/R.framework/Versions/Current/Resources/bin/R MSGFplus.buildbin-libdir ### ############################################################################## ############################################################################## >>>>>>> >>>>>>> INSTALLATION WITH 'R CMD INSTALL --preclean --no-multiarch --library=MSGFplus.buildbin-libdir MSGFplus_1.24.0.tar.gz' >>>>>>> * installing *source* package ‘MSGFplus’ ... ** using staged installation ** R ** inst ** byte-compile and prepare package for lazy loading ** help *** installing help indices ** building package indices ** installing vignettes ** testing if installed package can be loaded from temporary location ** testing if installed package can be loaded from final location ** testing if installed package keeps a record of temporary installation path * DONE (MSGFplus)