| Back to Multiple platform build/check report for BioC 3.12 | 
 | 
This page was generated on 2021-05-06 12:28:19 -0400 (Thu, 06 May 2021).
| To the developers/maintainers of the MSGFplus package: Please make sure to use the following settings in order to reproduce any error or warning you see on this page. | 
| Package 1157/1974 | Hostname | OS / Arch | INSTALL | BUILD | CHECK | BUILD BIN | ||||||||
| MSGFplus 1.24.0  (landing page) Thomas Lin Pedersen 
 | malbec1 | Linux (Ubuntu 18.04.5 LTS) / x86_64 | OK | OK | WARNINGS |  | ||||||||
| tokay1 | Windows Server 2012 R2 Standard / x64 | OK | OK | WARNINGS | OK |  | ||||||||
| merida1 | macOS 10.14.6 Mojave / x86_64 | OK | OK | WARNINGS | OK |  | ||||||||
| Package: MSGFplus | 
| Version: 1.24.0 | 
| Command: /home/biocbuild/bbs-3.12-bioc/R/bin/R CMD build --keep-empty-dirs --no-resave-data MSGFplus | 
| StartedAt: 2021-05-05 20:26:03 -0400 (Wed, 05 May 2021) | 
| EndedAt: 2021-05-05 20:26:12 -0400 (Wed, 05 May 2021) | 
| EllapsedTime: 8.4 seconds | 
| RetCode: 0 | 
| Status: OK | 
| PackageFile: MSGFplus_1.24.0.tar.gz | 
| PackageFileSize: 49.52 KiB | 
############################################################################## ############################################################################## ### ### Running command: ### ### /home/biocbuild/bbs-3.12-bioc/R/bin/R CMD build --keep-empty-dirs --no-resave-data MSGFplus ### ############################################################################## ############################################################################## * checking for file ‘MSGFplus/DESCRIPTION’ ... OK * preparing ‘MSGFplus’: * checking DESCRIPTION meta-information ... OK * installing the package to build vignettes * creating vignettes ... OK * checking for LF line-endings in source and make files and shell scripts * checking for empty or unneeded directories * building ‘MSGFplus_1.24.0.tar.gz’