| Back to Multiple platform build/check report for BioC 3.12 |
|
This page was generated on 2021-05-06 12:31:56 -0400 (Thu, 06 May 2021).
|
To the developers/maintainers of the LedPred package: Please make sure to use the following settings in order to reproduce any error or warning you see on this page. |
| Package 950/1974 | Hostname | OS / Arch | INSTALL | BUILD | CHECK | BUILD BIN | ||||||||
| LedPred 1.24.0 (landing page) Aitor Gonzalez
| malbec1 | Linux (Ubuntu 18.04.5 LTS) / x86_64 | OK | OK | OK | |||||||||
| tokay1 | Windows Server 2012 R2 Standard / x64 | OK | OK | OK | OK | |||||||||
| merida1 | macOS 10.14.6 Mojave / x86_64 | OK | OK | OK | OK | |||||||||
| Package: LedPred |
| Version: 1.24.0 |
| Command: chmod a+r LedPred -R && C:\Users\biocbuild\bbs-3.12-bioc\R\bin\R.exe CMD build --keep-empty-dirs --no-resave-data LedPred |
| StartedAt: 2021-05-05 21:45:49 -0400 (Wed, 05 May 2021) |
| EndedAt: 2021-05-05 21:46:22 -0400 (Wed, 05 May 2021) |
| EllapsedTime: 32.5 seconds |
| RetCode: 0 |
| Status: OK |
| PackageFile: LedPred_1.24.0.tar.gz |
| PackageFileSize: 1.38 MiB |
##############################################################################
##############################################################################
###
### Running command:
###
### chmod a+r LedPred -R && C:\Users\biocbuild\bbs-3.12-bioc\R\bin\R.exe CMD build --keep-empty-dirs --no-resave-data LedPred
###
##############################################################################
##############################################################################
* checking for file 'LedPred/DESCRIPTION' ... OK
* preparing 'LedPred':
* checking DESCRIPTION meta-information ... OK
* installing the package to build vignettes
* creating vignettes ... OK
Warning: 'inst/doc' files
'LedPred.Rnw', 'LedPred.pdf', 'LedPred.R'
ignored as vignettes have been rebuilt.
Run R CMD build with --no-build-vignettes to prevent rebuilding.
* checking for LF line-endings in source and make files and shell scripts
* checking for empty or unneeded directories
* building 'LedPred_1.24.0.tar.gz'