| Back to Multiple platform build/check report for BioC 3.12 |
|
This page was generated on 2021-05-06 12:31:56 -0400 (Thu, 06 May 2021).
|
To the developers/maintainers of the LedPred package: Please make sure to use the following settings in order to reproduce any error or warning you see on this page. |
| Package 950/1974 | Hostname | OS / Arch | INSTALL | BUILD | CHECK | BUILD BIN | ||||||||
| LedPred 1.24.0 (landing page) Aitor Gonzalez
| malbec1 | Linux (Ubuntu 18.04.5 LTS) / x86_64 | OK | OK | OK | |||||||||
| tokay1 | Windows Server 2012 R2 Standard / x64 | OK | OK | OK | OK | |||||||||
| merida1 | macOS 10.14.6 Mojave / x86_64 | OK | OK | OK | OK | |||||||||
| Package: LedPred |
| Version: 1.24.0 |
| Command: rm -rf LedPred.buildbin-libdir && mkdir LedPred.buildbin-libdir && C:\Users\biocbuild\bbs-3.12-bioc\R\bin\R.exe CMD INSTALL --merge-multiarch --build --library=LedPred.buildbin-libdir LedPred_1.24.0.tar.gz |
| StartedAt: 2021-05-06 09:23:26 -0400 (Thu, 06 May 2021) |
| EndedAt: 2021-05-06 09:24:08 -0400 (Thu, 06 May 2021) |
| EllapsedTime: 42.9 seconds |
| RetCode: 0 |
| Status: OK |
| PackageFile: LedPred_1.24.0.zip |
| PackageFileSize: 1.618 MiB |
##############################################################################
##############################################################################
###
### Running command:
###
### rm -rf LedPred.buildbin-libdir && mkdir LedPred.buildbin-libdir && C:\Users\biocbuild\bbs-3.12-bioc\R\bin\R.exe CMD INSTALL --merge-multiarch --build --library=LedPred.buildbin-libdir LedPred_1.24.0.tar.gz
###
##############################################################################
##############################################################################
install for i386
* installing *source* package 'LedPred' ...
** using staged installation
** R
** data
*** moving datasets to lazyload DB
** inst
** byte-compile and prepare package for lazy loading
** help
*** installing help indices
converting help for package 'LedPred'
finding HTML links ... done
LedPred html
createModel html
crm.features html
evaluateModelPerformance html
feature.ranking html
mapFeaturesToCRMs html
mcTune html
rankFeatures html
scoreData html
tuneFeatureNb html
** building package indices
** installing vignettes
** testing if installed package can be loaded from temporary location
** testing if installed package can be loaded from final location
** testing if installed package keeps a record of temporary installation path
install for x64
* installing *source* package 'LedPred' ...
** testing if installed package can be loaded
* MD5 sums
packaged installation of 'LedPred' as LedPred_1.24.0.zip
* DONE (LedPred)