| Back to Multiple platform build/check report for BioC 3.12 | 
 | 
This page was generated on 2021-05-06 12:31:51 -0400 (Thu, 06 May 2021).
| To the developers/maintainers of the InterMineR package: Please make sure to use the following settings in order to reproduce any error or warning you see on this page. | 
| Package 905/1974 | Hostname | OS / Arch | INSTALL | BUILD | CHECK | BUILD BIN | ||||||||
| InterMineR 1.12.3  (landing page) InterMine Team 
 | malbec1 | Linux (Ubuntu 18.04.5 LTS) / x86_64 | OK | OK | WARNINGS |  | ||||||||
| tokay1 | Windows Server 2012 R2 Standard / x64 | OK | OK | WARNINGS | OK |  | ||||||||
| merida1 | macOS 10.14.6 Mojave / x86_64 | OK | OK | WARNINGS | OK |  | ||||||||
| Package: InterMineR | 
| Version: 1.12.3 | 
| Command: chmod a+r InterMineR -R && C:\Users\biocbuild\bbs-3.12-bioc\R\bin\R.exe CMD build --keep-empty-dirs --no-resave-data InterMineR | 
| StartedAt: 2021-05-05 21:39:59 -0400 (Wed, 05 May 2021) | 
| EndedAt: 2021-05-05 21:41:28 -0400 (Wed, 05 May 2021) | 
| EllapsedTime: 88.8 seconds | 
| RetCode: 0 | 
| Status: OK | 
| PackageFile: InterMineR_1.12.3.tar.gz | 
| PackageFileSize: 4.899 MiB | 
############################################################################## ############################################################################## ### ### Running command: ### ### chmod a+r InterMineR -R && C:\Users\biocbuild\bbs-3.12-bioc\R\bin\R.exe CMD build --keep-empty-dirs --no-resave-data InterMineR ### ############################################################################## ############################################################################## * checking for file 'InterMineR/DESCRIPTION' ... OK * preparing 'InterMineR': * checking DESCRIPTION meta-information ... OK Warning: C:/Users/biocbuild/bbs-3.12-bioc/tmpdir/RtmpIXwLc5/Rbuild3230589d53b3/InterMineR/man/ListManager-methods.Rd:41: unexpected section header '\arguments' Warning: C:/Users/biocbuild/bbs-3.12-bioc/tmpdir/RtmpIXwLc5/Rbuild3230589d53b3/InterMineR/man/ListManager-methods.Rd:42: unknown macro '\item' Warning: C:/Users/biocbuild/bbs-3.12-bioc/tmpdir/RtmpIXwLc5/Rbuild3230589d53b3/InterMineR/man/ListManager-methods.Rd:50: unexpected section header '\arguments' Warning: C:/Users/biocbuild/bbs-3.12-bioc/tmpdir/RtmpIXwLc5/Rbuild3230589d53b3/InterMineR/man/ListManager-methods.Rd:51: unknown macro '\item' Warning: C:/Users/biocbuild/bbs-3.12-bioc/tmpdir/RtmpIXwLc5/Rbuild3230589d53b3/InterMineR/man/ListManager-methods.Rd:59: unexpected section header '\arguments' Warning: C:/Users/biocbuild/bbs-3.12-bioc/tmpdir/RtmpIXwLc5/Rbuild3230589d53b3/InterMineR/man/ListManager-methods.Rd:60: unknown macro '\item' Warning: C:/Users/biocbuild/bbs-3.12-bioc/tmpdir/RtmpIXwLc5/Rbuild3230589d53b3/InterMineR/man/ListManager-methods.Rd:63: unknown macro '\item' Warning: C:/Users/biocbuild/bbs-3.12-bioc/tmpdir/RtmpIXwLc5/Rbuild3230589d53b3/InterMineR/man/ListManager-methods.Rd:66: unknown macro '\item' Warning: C:/Users/biocbuild/bbs-3.12-bioc/tmpdir/RtmpIXwLc5/Rbuild3230589d53b3/InterMineR/man/ListManager-methods.Rd:69: unknown macro '\item' Warning: C:/Users/biocbuild/bbs-3.12-bioc/tmpdir/RtmpIXwLc5/Rbuild3230589d53b3/InterMineR/man/ListManager-methods.Rd:72: unknown macro '\item' Warning: C:/Users/biocbuild/bbs-3.12-bioc/tmpdir/RtmpIXwLc5/Rbuild3230589d53b3/InterMineR/man/ListManager-methods.Rd:80: unexpected section header '\arguments' Warning: C:/Users/biocbuild/bbs-3.12-bioc/tmpdir/RtmpIXwLc5/Rbuild3230589d53b3/InterMineR/man/ListManager-methods.Rd:81: unknown macro '\item' Warning: C:/Users/biocbuild/bbs-3.12-bioc/tmpdir/RtmpIXwLc5/Rbuild3230589d53b3/InterMineR/man/ListManager-methods.Rd:84: unknown macro '\item' Warning: C:/Users/biocbuild/bbs-3.12-bioc/tmpdir/RtmpIXwLc5/Rbuild3230589d53b3/InterMineR/man/ListManager-methods.Rd:87: unknown macro '\item' Warning: C:/Users/biocbuild/bbs-3.12-bioc/tmpdir/RtmpIXwLc5/Rbuild3230589d53b3/InterMineR/man/ListManager-methods.Rd:90: unknown macro '\item' Warning: C:/Users/biocbuild/bbs-3.12-bioc/tmpdir/RtmpIXwLc5/Rbuild3230589d53b3/InterMineR/man/ListManager-methods.Rd:98: unexpected section header '\arguments' Warning: C:/Users/biocbuild/bbs-3.12-bioc/tmpdir/RtmpIXwLc5/Rbuild3230589d53b3/InterMineR/man/ListManager-methods.Rd:99: unknown macro '\item' Warning: C:/Users/biocbuild/bbs-3.12-bioc/tmpdir/RtmpIXwLc5/Rbuild3230589d53b3/InterMineR/man/ListManager-methods.Rd:102: unknown macro '\item' Warning: C:/Users/biocbuild/bbs-3.12-bioc/tmpdir/RtmpIXwLc5/Rbuild3230589d53b3/InterMineR/man/ListManager-methods.Rd:105: unknown macro '\item' Warning: C:/Users/biocbuild/bbs-3.12-bioc/tmpdir/RtmpIXwLc5/Rbuild3230589d53b3/InterMineR/man/ListManager-methods.Rd:108: unknown macro '\item' Warning: C:/Users/biocbuild/bbs-3.12-bioc/tmpdir/RtmpIXwLc5/Rbuild3230589d53b3/InterMineR/man/ListManager-methods.Rd:116: unexpected section header '\arguments' Warning: C:/Users/biocbuild/bbs-3.12-bioc/tmpdir/RtmpIXwLc5/Rbuild3230589d53b3/InterMineR/man/ListManager-methods.Rd:117: unknown macro '\item' Warning: C:/Users/biocbuild/bbs-3.12-bioc/tmpdir/RtmpIXwLc5/Rbuild3230589d53b3/InterMineR/man/ListManager-methods.Rd:120: unknown macro '\item' Warning: C:/Users/biocbuild/bbs-3.12-bioc/tmpdir/RtmpIXwLc5/Rbuild3230589d53b3/InterMineR/man/ListManager-methods.Rd:123: unknown macro '\item' Warning: C:/Users/biocbuild/bbs-3.12-bioc/tmpdir/RtmpIXwLc5/Rbuild3230589d53b3/InterMineR/man/ListManager-methods.Rd:126: unknown macro '\item' Warning: C:/Users/biocbuild/bbs-3.12-bioc/tmpdir/RtmpIXwLc5/Rbuild3230589d53b3/InterMineR/man/ListManager-methods.Rd:134: unexpected section header '\arguments' Warning: C:/Users/biocbuild/bbs-3.12-bioc/tmpdir/RtmpIXwLc5/Rbuild3230589d53b3/InterMineR/man/ListManager-methods.Rd:135: unknown macro '\item' Warning: C:/Users/biocbuild/bbs-3.12-bioc/tmpdir/RtmpIXwLc5/Rbuild3230589d53b3/InterMineR/man/ListManager-methods.Rd:138: unknown macro '\item' Warning: C:/Users/biocbuild/bbs-3.12-bioc/tmpdir/RtmpIXwLc5/Rbuild3230589d53b3/InterMineR/man/ListManager-methods.Rd:141: unknown macro '\item' Warning: C:/Users/biocbuild/bbs-3.12-bioc/tmpdir/RtmpIXwLc5/Rbuild3230589d53b3/InterMineR/man/ListManager-methods.Rd:144: unknown macro '\item' Warning: C:/Users/biocbuild/bbs-3.12-bioc/tmpdir/RtmpIXwLc5/Rbuild3230589d53b3/InterMineR/man/ListManager-methods.Rd:147: unknown macro '\item' * installing the package to build vignettes * creating vignettes ... OK * checking for LF line-endings in source and make files and shell scripts * checking for empty or unneeded directories * building 'InterMineR_1.12.3.tar.gz'