| Back to Multiple platform build/check report for BioC 3.12 |
|
This page was generated on 2021-05-06 12:31:45 -0400 (Thu, 06 May 2021).
|
To the developers/maintainers of the HiCcompare package: Please make sure to use the following settings in order to reproduce any error or warning you see on this page. |
| Package 830/1974 | Hostname | OS / Arch | INSTALL | BUILD | CHECK | BUILD BIN | ||||||||
| HiCcompare 1.12.0 (landing page) John Stansfield
| malbec1 | Linux (Ubuntu 18.04.5 LTS) / x86_64 | OK | OK | OK | |||||||||
| tokay1 | Windows Server 2012 R2 Standard / x64 | OK | OK | OK | OK | |||||||||
| merida1 | macOS 10.14.6 Mojave / x86_64 | OK | OK | OK | OK | |||||||||
| Package: HiCcompare |
| Version: 1.12.0 |
| Command: chmod a+r HiCcompare -R && C:\Users\biocbuild\bbs-3.12-bioc\R\bin\R.exe CMD build --keep-empty-dirs --no-resave-data HiCcompare |
| StartedAt: 2021-05-05 21:29:01 -0400 (Wed, 05 May 2021) |
| EndedAt: 2021-05-05 21:30:18 -0400 (Wed, 05 May 2021) |
| EllapsedTime: 76.7 seconds |
| RetCode: 0 |
| Status: OK |
| PackageFile: HiCcompare_1.12.0.tar.gz |
| PackageFileSize: 3.321 MiB |
############################################################################## ############################################################################## ### ### Running command: ### ### chmod a+r HiCcompare -R && C:\Users\biocbuild\bbs-3.12-bioc\R\bin\R.exe CMD build --keep-empty-dirs --no-resave-data HiCcompare ### ############################################################################## ############################################################################## * checking for file 'HiCcompare/DESCRIPTION' ... OK * preparing 'HiCcompare': * checking DESCRIPTION meta-information ... OK * installing the package to build vignettes * creating vignettes ... OK * checking for LF line-endings in source and make files and shell scripts * checking for empty or unneeded directories * building 'HiCcompare_1.12.0.tar.gz'