| Back to Multiple platform build/check report for BioC 3.12 |
|
This page was generated on 2021-05-06 12:31:45 -0400 (Thu, 06 May 2021).
|
To the developers/maintainers of the HiCcompare package: Please make sure to use the following settings in order to reproduce any error or warning you see on this page. |
| Package 830/1974 | Hostname | OS / Arch | INSTALL | BUILD | CHECK | BUILD BIN | ||||||||
| HiCcompare 1.12.0 (landing page) John Stansfield
| malbec1 | Linux (Ubuntu 18.04.5 LTS) / x86_64 | OK | OK | OK | |||||||||
| tokay1 | Windows Server 2012 R2 Standard / x64 | OK | OK | OK | OK | |||||||||
| merida1 | macOS 10.14.6 Mojave / x86_64 | OK | OK | OK | OK | |||||||||
| Package: HiCcompare |
| Version: 1.12.0 |
| Command: rm -rf HiCcompare.buildbin-libdir && mkdir HiCcompare.buildbin-libdir && C:\Users\biocbuild\bbs-3.12-bioc\R\bin\R.exe CMD INSTALL --merge-multiarch --build --library=HiCcompare.buildbin-libdir HiCcompare_1.12.0.tar.gz |
| StartedAt: 2021-05-06 09:16:50 -0400 (Thu, 06 May 2021) |
| EndedAt: 2021-05-06 09:18:00 -0400 (Thu, 06 May 2021) |
| EllapsedTime: 69.6 seconds |
| RetCode: 0 |
| Status: OK |
| PackageFile: HiCcompare_1.12.0.zip |
| PackageFileSize: 5.65 MiB |
##############################################################################
##############################################################################
###
### Running command:
###
### rm -rf HiCcompare.buildbin-libdir && mkdir HiCcompare.buildbin-libdir && C:\Users\biocbuild\bbs-3.12-bioc\R\bin\R.exe CMD INSTALL --merge-multiarch --build --library=HiCcompare.buildbin-libdir HiCcompare_1.12.0.tar.gz
###
##############################################################################
##############################################################################
install for i386
* installing *source* package 'HiCcompare' ...
** using staged installation
** R
** data
*** moving datasets to lazyload DB
** inst
** byte-compile and prepare package for lazy loading
Note: wrong number of arguments to 'ceiling'
** help
*** installing help indices
converting help for package 'HiCcompare'
finding HTML links ... done
HMEC.chr10 html
HMEC.chr22 html
HiCcompare-package html
KRnorm html
MA_norm html
MD.plot1 html
MD.plot2 html
NHEK.chr10 html
NHEK.chr22 html
SCN html
brain_table html
centromere_locations html
cooler html
cooler2bedpe html
cooler2sparse html
create.hic.table html
filter_params html
full2sparse html
get_CNV html
hg19_blacklist html
hg38_blacklist html
hic_compare html
hic_diff html
hic_loess html
hic_simulate html
hicpro2bedpe html
hmec.IS html
make_InteractionSet html
manhattan_plot html
nhek.IS html
remove_centromere html
sim.other.methods html
sim_matrix html
sparse2full html
split_centromere html
total_sum html
visualize_pvals html
** building package indices
** installing vignettes
** testing if installed package can be loaded from temporary location
** testing if installed package can be loaded from final location
** testing if installed package keeps a record of temporary installation path
install for x64
* installing *source* package 'HiCcompare' ...
** testing if installed package can be loaded
* MD5 sums
packaged installation of 'HiCcompare' as HiCcompare_1.12.0.zip
* DONE (HiCcompare)