| Back to Multiple platform build/check report for BioC 3.12 |
|
This page was generated on 2021-05-06 12:27:51 -0400 (Thu, 06 May 2021).
|
To the developers/maintainers of the HCAMatrixBrowser package: Please make sure to use the following settings in order to reproduce any error or warning you see on this page. |
| Package 818/1974 | Hostname | OS / Arch | INSTALL | BUILD | CHECK | BUILD BIN | ||||||||
| HCAMatrixBrowser 1.0.1 (landing page) Marcel Ramos
| malbec1 | Linux (Ubuntu 18.04.5 LTS) / x86_64 | OK | ERROR | skipped | |||||||||
| tokay1 | Windows Server 2012 R2 Standard / x64 | OK | ERROR | skipped | skipped | |||||||||
| merida1 | macOS 10.14.6 Mojave / x86_64 | OK | ERROR | skipped | skipped | |||||||||
| Package: HCAMatrixBrowser |
| Version: 1.0.1 |
| Command: /home/biocbuild/bbs-3.12-bioc/R/bin/R CMD INSTALL HCAMatrixBrowser |
| StartedAt: 2021-05-05 16:30:55 -0400 (Wed, 05 May 2021) |
| EndedAt: 2021-05-05 16:31:20 -0400 (Wed, 05 May 2021) |
| EllapsedTime: 25.0 seconds |
| RetCode: 0 |
| Status: OK |
############################################################################## ############################################################################## ### ### Running command: ### ### /home/biocbuild/bbs-3.12-bioc/R/bin/R CMD INSTALL HCAMatrixBrowser ### ############################################################################## ############################################################################## * installing to library ‘/home/biocbuild/bbs-3.12-bioc/R/library’ * installing *source* package ‘HCAMatrixBrowser’ ... ** using staged installation ** R ** inst ** byte-compile and prepare package for lazy loading Creating a new generic function for ‘filter’ in package ‘HCAMatrixBrowser’ ** help *** installing help indices ** building package indices ** installing vignettes ** testing if installed package can be loaded from temporary location ** testing if installed package can be loaded from final location ** testing if installed package keeps a record of temporary installation path * DONE (HCAMatrixBrowser)