| Back to Multiple platform build/check report for BioC 3.12 |
|
This page was generated on 2021-05-06 12:34:43 -0400 (Thu, 06 May 2021).
|
To the developers/maintainers of the CytoTree package: Please make sure to use the following settings in order to reproduce any error or warning you see on this page. |
| Package 419/1974 | Hostname | OS / Arch | INSTALL | BUILD | CHECK | BUILD BIN | ||||||||
| CytoTree 1.0.3 (landing page) Yuting Dai
| malbec1 | Linux (Ubuntu 18.04.5 LTS) / x86_64 | OK | OK | OK | |||||||||
| tokay1 | Windows Server 2012 R2 Standard / x64 | OK | OK | OK | OK | |||||||||
| merida1 | macOS 10.14.6 Mojave / x86_64 | OK | OK | OK | OK | |||||||||
| Package: CytoTree |
| Version: 1.0.3 |
| Command: /Library/Frameworks/R.framework/Versions/Current/Resources/bin/R CMD check --install=check:CytoTree.install-out.txt --library=/Library/Frameworks/R.framework/Versions/Current/Resources/library --no-vignettes --timings CytoTree_1.0.3.tar.gz |
| StartedAt: 2021-05-06 00:50:11 -0400 (Thu, 06 May 2021) |
| EndedAt: 2021-05-06 00:57:21 -0400 (Thu, 06 May 2021) |
| EllapsedTime: 430.6 seconds |
| RetCode: 0 |
| Status: OK |
| CheckDir: CytoTree.Rcheck |
| Warnings: 0 |
##############################################################################
##############################################################################
###
### Running command:
###
### /Library/Frameworks/R.framework/Versions/Current/Resources/bin/R CMD check --install=check:CytoTree.install-out.txt --library=/Library/Frameworks/R.framework/Versions/Current/Resources/library --no-vignettes --timings CytoTree_1.0.3.tar.gz
###
##############################################################################
##############################################################################
* using log directory ‘/Users/biocbuild/bbs-3.12-bioc/meat/CytoTree.Rcheck’
* using R version 4.0.5 (2021-03-31)
* using platform: x86_64-apple-darwin17.0 (64-bit)
* using session charset: UTF-8
* using option ‘--no-vignettes’
* checking for file ‘CytoTree/DESCRIPTION’ ... OK
* checking extension type ... Package
* this is package ‘CytoTree’ version ‘1.0.3’
* package encoding: UTF-8
* checking package namespace information ... OK
* checking package dependencies ... OK
* checking if this is a source package ... OK
* checking if there is a namespace ... OK
* checking for hidden files and directories ... OK
* checking for portable file names ... OK
* checking for sufficient/correct file permissions ... OK
* checking whether package ‘CytoTree’ can be installed ... OK
* checking installed package size ... OK
* checking package directory ... OK
* checking ‘build’ directory ... OK
* checking DESCRIPTION meta-information ... OK
* checking top-level files ... OK
* checking for left-over files ... OK
* checking index information ... OK
* checking package subdirectories ... OK
* checking R files for non-ASCII characters ... OK
* checking R files for syntax errors ... OK
* checking whether the package can be loaded ... OK
* checking whether the package can be loaded with stated dependencies ... OK
* checking whether the package can be unloaded cleanly ... OK
* checking whether the namespace can be loaded with stated dependencies ... OK
* checking whether the namespace can be unloaded cleanly ... OK
* checking dependencies in R code ... OK
* checking S3 generic/method consistency ... OK
* checking replacement functions ... OK
* checking foreign function calls ... OK
* checking R code for possible problems ... OK
* checking Rd files ... OK
* checking Rd metadata ... OK
* checking Rd cross-references ... OK
* checking for missing documentation entries ... OK
* checking for code/documentation mismatches ... OK
* checking Rd \usage sections ... OK
* checking Rd contents ... OK
* checking for unstated dependencies in examples ... OK
* checking line endings in C/C++/Fortran sources/headers ... OK
* checking compiled code ... NOTE
Note: information on .o files is not available
* checking files in ‘vignettes’ ... OK
* checking examples ... OK
Examples with CPU (user + system) or elapsed time > 5s
user system elapsed
runCluster 16.364 0.045 16.430
plot2D 12.876 0.206 13.124
runMclust 12.899 0.033 12.947
plotCluster 7.195 0.034 7.240
runUMAP 7.063 0.094 7.180
* checking for unstated dependencies in vignettes ... OK
* checking package vignettes in ‘inst/doc’ ... OK
* checking running R code from vignettes ... SKIPPED
* checking re-building of vignette outputs ... SKIPPED
* checking PDF version of manual ... OK
* DONE
Status: 1 NOTE
See
‘/Users/biocbuild/bbs-3.12-bioc/meat/CytoTree.Rcheck/00check.log’
for details.
CytoTree.Rcheck/00install.out
##############################################################################
##############################################################################
###
### Running command:
###
### /Library/Frameworks/R.framework/Versions/Current/Resources/bin/R CMD INSTALL CytoTree
###
##############################################################################
##############################################################################
* installing to library ‘/Library/Frameworks/R.framework/Versions/4.0/Resources/library’
* installing *source* package ‘CytoTree’ ...
** using staged installation
** libs
clang++ -mmacosx-version-min=10.13 -std=gnu++11 -I"/Library/Frameworks/R.framework/Resources/include" -DNDEBUG -I'/Library/Frameworks/R.framework/Versions/4.0/Resources/library/Rcpp/include' -I/usr/local/include -fPIC -Wall -g -O2 -c RcppExports.cpp -o RcppExports.o
In file included from RcppExports.cpp:4:
In file included from /Library/Frameworks/R.framework/Versions/4.0/Resources/library/Rcpp/include/Rcpp.h:57:
/Library/Frameworks/R.framework/Versions/4.0/Resources/library/Rcpp/include/Rcpp/DataFrame.h:136:18: warning: unused variable 'data' [-Wunused-variable]
SEXP data = Parent::get__();
^
1 warning generated.
clang++ -mmacosx-version-min=10.13 -std=gnu++11 -I"/Library/Frameworks/R.framework/Resources/include" -DNDEBUG -I'/Library/Frameworks/R.framework/Versions/4.0/Resources/library/Rcpp/include' -I/usr/local/include -fPIC -Wall -g -O2 -c jaccard_coeff.cpp -o jaccard_coeff.o
In file included from jaccard_coeff.cpp:1:
In file included from /Library/Frameworks/R.framework/Versions/4.0/Resources/library/Rcpp/include/Rcpp.h:57:
/Library/Frameworks/R.framework/Versions/4.0/Resources/library/Rcpp/include/Rcpp/DataFrame.h:136:18: warning: unused variable 'data' [-Wunused-variable]
SEXP data = Parent::get__();
^
1 warning generated.
clang++ -mmacosx-version-min=10.13 -std=gnu++11 -dynamiclib -Wl,-headerpad_max_install_names -undefined dynamic_lookup -single_module -multiply_defined suppress -L/Library/Frameworks/R.framework/Resources/lib -L/usr/local/lib -o CytoTree.so RcppExports.o jaccard_coeff.o -F/Library/Frameworks/R.framework/.. -framework R -Wl,-framework -Wl,CoreFoundation
installing to /Library/Frameworks/R.framework/Versions/4.0/Resources/library/00LOCK-CytoTree/00new/CytoTree/libs
** R
** inst
** byte-compile and prepare package for lazy loading
No methods found in package ‘flowCore’ for requests: ‘action’, ‘assign’, ‘Data’, ‘gate’, ‘tree’ when loading ‘flowUtils’
** help
*** installing help indices
** building package indices
** installing vignettes
** testing if installed package can be loaded from temporary location
No methods found in package ‘flowCore’ for requests: ‘action’, ‘assign’, ‘Data’, ‘gate’, ‘tree’ when loading ‘flowUtils’
** checking absolute paths in shared objects and dynamic libraries
** testing if installed package can be loaded from final location
No methods found in package ‘flowCore’ for requests: ‘action’, ‘assign’, ‘Data’, ‘gate’, ‘tree’ when loading ‘flowUtils’
** testing if installed package keeps a record of temporary installation path
* DONE (CytoTree)
CytoTree.Rcheck/CytoTree-Ex.timings
| name | user | system | elapsed | |
| CytoTree-package | 0.000 | 0.001 | 0.001 | |
| Rphenograph | 3.347 | 0.016 | 3.367 | |
| addMetaData | 0.025 | 0.003 | 0.028 | |
| buildTree | 0.184 | 0.008 | 0.192 | |
| changeMarker | 0.014 | 0.001 | 0.015 | |
| constraintMatrix | 0.043 | 0.000 | 0.043 | |
| correctBatchCYT | 1.662 | 0.018 | 1.685 | |
| createCYT | 0.148 | 0.004 | 0.154 | |
| defLeafCells | 0.025 | 0.001 | 0.027 | |
| defRootCells | 0.023 | 0.001 | 0.024 | |
| fetchCell | 0.027 | 0.001 | 0.030 | |
| fetchClustMeta | 0.055 | 0.003 | 0.059 | |
| fetchPlotMeta | 0.045 | 0.005 | 0.051 | |
| find_neighbors | 0.001 | 0.000 | 0.002 | |
| gatingMatrix | 0.018 | 0.001 | 0.019 | |
| plot2D | 12.876 | 0.206 | 13.124 | |
| plot3D | 0.055 | 0.003 | 0.059 | |
| plotBranchHeatmap | 0.298 | 0.009 | 0.307 | |
| plotCluster | 7.195 | 0.034 | 7.240 | |
| plotClusterHeatmap | 0.308 | 0.012 | 0.323 | |
| plotHeatmap | 0.693 | 0.029 | 0.725 | |
| plotMarkerDensity | 0 | 0 | 0 | |
| plotPieCluster | 4.723 | 0.103 | 4.832 | |
| plotPieTree | 0.631 | 0.009 | 0.641 | |
| plotPseudotimeDensity | 1.078 | 0.013 | 1.093 | |
| plotPseudotimeTraj | 4.909 | 0.068 | 4.985 | |
| plotTree | 1.758 | 0.010 | 1.773 | |
| plotViolin | 3.577 | 0.061 | 3.644 | |
| processingCluster | 0.775 | 0.016 | 0.794 | |
| runClara | 0.064 | 0.001 | 0.066 | |
| runCluster | 16.364 | 0.045 | 16.430 | |
| runDiff | 0.073 | 0.002 | 0.076 | |
| runDiffusionMap | 0.296 | 0.025 | 0.320 | |
| runExprsExtract | 0.010 | 0.001 | 0.011 | |
| runExprsMerge | 0.060 | 0.001 | 0.062 | |
| runFastPCA | 0.021 | 0.001 | 0.021 | |
| runKmeans | 0.017 | 0.001 | 0.018 | |
| runMclust | 12.899 | 0.033 | 12.947 | |
| runPhenograph | 4.077 | 0.016 | 4.099 | |
| runPseudotime | 0.794 | 0.020 | 0.815 | |
| runSOM | 0.031 | 0.004 | 0.034 | |
| runTSNE | 4.651 | 0.010 | 4.665 | |
| runUMAP | 7.063 | 0.094 | 7.180 | |
| runWalk | 0.416 | 0.014 | 0.435 | |
| show-CYT-method | 0.018 | 0.001 | 0.019 | |
| subsetCYT | 0.023 | 0.001 | 0.024 | |
| updateClustMeta | 0.037 | 0.002 | 0.039 | |
| updatePlotMeta | 0.020 | 0.001 | 0.021 | |