| Back to Multiple platform build/check report for BioC 3.12 |
|
This page was generated on 2021-05-06 12:27:18 -0400 (Thu, 06 May 2021).
|
To the developers/maintainers of the CytoTree package: Please make sure to use the following settings in order to reproduce any error or warning you see on this page. |
| Package 419/1974 | Hostname | OS / Arch | INSTALL | BUILD | CHECK | BUILD BIN | ||||||||
| CytoTree 1.0.3 (landing page) Yuting Dai
| malbec1 | Linux (Ubuntu 18.04.5 LTS) / x86_64 | OK | OK | OK | |||||||||
| tokay1 | Windows Server 2012 R2 Standard / x64 | OK | OK | OK | OK | |||||||||
| merida1 | macOS 10.14.6 Mojave / x86_64 | OK | OK | OK | OK | |||||||||
| Package: CytoTree |
| Version: 1.0.3 |
| Command: /home/biocbuild/bbs-3.12-bioc/R/bin/R CMD check --install=check:CytoTree.install-out.txt --library=/home/biocbuild/bbs-3.12-bioc/R/library --no-vignettes --timings CytoTree_1.0.3.tar.gz |
| StartedAt: 2021-05-06 00:37:49 -0400 (Thu, 06 May 2021) |
| EndedAt: 2021-05-06 00:44:44 -0400 (Thu, 06 May 2021) |
| EllapsedTime: 415.1 seconds |
| RetCode: 0 |
| Status: OK |
| CheckDir: CytoTree.Rcheck |
| Warnings: 0 |
##############################################################################
##############################################################################
###
### Running command:
###
### /home/biocbuild/bbs-3.12-bioc/R/bin/R CMD check --install=check:CytoTree.install-out.txt --library=/home/biocbuild/bbs-3.12-bioc/R/library --no-vignettes --timings CytoTree_1.0.3.tar.gz
###
##############################################################################
##############################################################################
* using log directory ‘/home/biocbuild/bbs-3.12-bioc/meat/CytoTree.Rcheck’
* using R version 4.0.5 (2021-03-31)
* using platform: x86_64-pc-linux-gnu (64-bit)
* using session charset: UTF-8
* using option ‘--no-vignettes’
* checking for file ‘CytoTree/DESCRIPTION’ ... OK
* checking extension type ... Package
* this is package ‘CytoTree’ version ‘1.0.3’
* package encoding: UTF-8
* checking package namespace information ... OK
* checking package dependencies ... OK
* checking if this is a source package ... OK
* checking if there is a namespace ... OK
* checking for hidden files and directories ... OK
* checking for portable file names ... OK
* checking for sufficient/correct file permissions ... OK
* checking whether package ‘CytoTree’ can be installed ... OK
* checking installed package size ... OK
* checking package directory ... OK
* checking ‘build’ directory ... OK
* checking DESCRIPTION meta-information ... OK
* checking top-level files ... OK
* checking for left-over files ... OK
* checking index information ... OK
* checking package subdirectories ... OK
* checking R files for non-ASCII characters ... OK
* checking R files for syntax errors ... OK
* checking whether the package can be loaded ... OK
* checking whether the package can be loaded with stated dependencies ... OK
* checking whether the package can be unloaded cleanly ... OK
* checking whether the namespace can be loaded with stated dependencies ... OK
* checking whether the namespace can be unloaded cleanly ... OK
* checking dependencies in R code ... OK
* checking S3 generic/method consistency ... OK
* checking replacement functions ... OK
* checking foreign function calls ... OK
* checking R code for possible problems ... OK
* checking Rd files ... OK
* checking Rd metadata ... OK
* checking Rd cross-references ... OK
* checking for missing documentation entries ... OK
* checking for code/documentation mismatches ... OK
* checking Rd \usage sections ... OK
* checking Rd contents ... OK
* checking for unstated dependencies in examples ... OK
* checking line endings in C/C++/Fortran sources/headers ... OK
* checking compiled code ... NOTE
Note: information on .o files is not available
* checking files in ‘vignettes’ ... OK
* checking examples ... OK
Examples with CPU (user + system) or elapsed time > 5s
user system elapsed
runCluster 17.312 0.008 17.337
runMclust 13.188 0.000 13.207
plot2D 13.060 0.116 13.209
runUMAP 9.008 0.024 9.049
plotCluster 6.776 0.000 6.781
runTSNE 5.868 0.012 5.890
* checking for unstated dependencies in vignettes ... OK
* checking package vignettes in ‘inst/doc’ ... OK
* checking running R code from vignettes ... SKIPPED
* checking re-building of vignette outputs ... SKIPPED
* checking PDF version of manual ... OK
* DONE
Status: 1 NOTE
See
‘/home/biocbuild/bbs-3.12-bioc/meat/CytoTree.Rcheck/00check.log’
for details.
CytoTree.Rcheck/00install.out
############################################################################## ############################################################################## ### ### Running command: ### ### /home/biocbuild/bbs-3.12-bioc/R/bin/R CMD INSTALL CytoTree ### ############################################################################## ############################################################################## * installing to library ‘/home/biocbuild/bbs-3.12-bioc/R/library’ * installing *source* package ‘CytoTree’ ... ** using staged installation ** libs g++ -std=gnu++11 -I"/home/biocbuild/bbs-3.12-bioc/R/include" -DNDEBUG -I'/home/biocbuild/bbs-3.12-bioc/R/library/Rcpp/include' -I/usr/local/include -fpic -g -O2 -Wall -c RcppExports.cpp -o RcppExports.o g++ -std=gnu++11 -I"/home/biocbuild/bbs-3.12-bioc/R/include" -DNDEBUG -I'/home/biocbuild/bbs-3.12-bioc/R/library/Rcpp/include' -I/usr/local/include -fpic -g -O2 -Wall -c jaccard_coeff.cpp -o jaccard_coeff.o g++ -std=gnu++11 -shared -L/home/biocbuild/bbs-3.12-bioc/R/lib -L/usr/local/lib -o CytoTree.so RcppExports.o jaccard_coeff.o -L/home/biocbuild/bbs-3.12-bioc/R/lib -lR installing to /home/biocbuild/bbs-3.12-bioc/R/library/00LOCK-CytoTree/00new/CytoTree/libs ** R ** inst ** byte-compile and prepare package for lazy loading No methods found in package ‘flowCore’ for requests: ‘action’, ‘assign’, ‘Data’, ‘gate’, ‘tree’ when loading ‘flowUtils’ ** help *** installing help indices ** building package indices ** installing vignettes ** testing if installed package can be loaded from temporary location No methods found in package ‘flowCore’ for requests: ‘action’, ‘assign’, ‘Data’, ‘gate’, ‘tree’ when loading ‘flowUtils’ ** checking absolute paths in shared objects and dynamic libraries ** testing if installed package can be loaded from final location No methods found in package ‘flowCore’ for requests: ‘action’, ‘assign’, ‘Data’, ‘gate’, ‘tree’ when loading ‘flowUtils’ ** testing if installed package keeps a record of temporary installation path * DONE (CytoTree)
CytoTree.Rcheck/CytoTree-Ex.timings
| name | user | system | elapsed | |
| CytoTree-package | 0 | 0 | 0 | |
| Rphenograph | 3.772 | 0.008 | 3.785 | |
| addMetaData | 0.020 | 0.000 | 0.026 | |
| buildTree | 0.200 | 0.000 | 0.201 | |
| changeMarker | 0.016 | 0.004 | 0.018 | |
| constraintMatrix | 0.056 | 0.000 | 0.054 | |
| correctBatchCYT | 2.004 | 0.384 | 2.403 | |
| createCYT | 0.128 | 0.000 | 0.268 | |
| defLeafCells | 0.028 | 0.000 | 0.027 | |
| defRootCells | 0.024 | 0.004 | 0.027 | |
| fetchCell | 0.032 | 0.000 | 0.030 | |
| fetchClustMeta | 0.048 | 0.000 | 0.050 | |
| fetchPlotMeta | 0.052 | 0.004 | 0.057 | |
| find_neighbors | 0.004 | 0.000 | 0.003 | |
| gatingMatrix | 0.024 | 0.008 | 0.030 | |
| plot2D | 13.060 | 0.116 | 13.209 | |
| plot3D | 0.040 | 0.000 | 0.041 | |
| plotBranchHeatmap | 0.196 | 0.012 | 0.209 | |
| plotCluster | 6.776 | 0.000 | 6.781 | |
| plotClusterHeatmap | 0.284 | 0.020 | 0.303 | |
| plotHeatmap | 0.936 | 0.004 | 0.940 | |
| plotMarkerDensity | 0 | 0 | 0 | |
| plotPieCluster | 4.152 | 0.024 | 4.186 | |
| plotPieTree | 0.756 | 0.000 | 0.757 | |
| plotPseudotimeDensity | 1.040 | 0.004 | 1.047 | |
| plotPseudotimeTraj | 4.940 | 0.016 | 4.974 | |
| plotTree | 2.140 | 0.000 | 2.151 | |
| plotViolin | 3.488 | 0.008 | 3.508 | |
| processingCluster | 0.812 | 0.004 | 0.866 | |
| runClara | 0.068 | 0.000 | 0.068 | |
| runCluster | 17.312 | 0.008 | 17.337 | |
| runDiff | 0.092 | 0.000 | 0.091 | |
| runDiffusionMap | 0.476 | 0.004 | 0.481 | |
| runExprsExtract | 0.016 | 0.000 | 0.015 | |
| runExprsMerge | 0.088 | 0.000 | 0.087 | |
| runFastPCA | 0.028 | 0.000 | 0.028 | |
| runKmeans | 0.028 | 0.000 | 0.024 | |
| runMclust | 13.188 | 0.000 | 13.207 | |
| runPhenograph | 4.552 | 0.004 | 4.564 | |
| runPseudotime | 0.920 | 0.008 | 0.931 | |
| runSOM | 0.048 | 0.000 | 0.045 | |
| runTSNE | 5.868 | 0.012 | 5.890 | |
| runUMAP | 9.008 | 0.024 | 9.049 | |
| runWalk | 0.424 | 0.000 | 0.425 | |
| show-CYT-method | 0.016 | 0.000 | 0.017 | |
| subsetCYT | 0.024 | 0.000 | 0.022 | |
| updateClustMeta | 0.020 | 0.008 | 0.027 | |
| updatePlotMeta | 0.012 | 0.000 | 0.014 | |