| Back to Multiple platform build/check report for BioC 3.12 | 
  | 
This page was generated on 2021-05-06 12:30:14 -0400 (Thu, 06 May 2021).
| 
To the developers/maintainers of the ChromHeatMap package: Please make sure to use the following settings in order to reproduce any error or warning you see on this page.  | 
| Package 296/1974 | Hostname | OS / Arch | INSTALL | BUILD | CHECK | BUILD BIN | ||||||||
| ChromHeatMap 1.44.0  (landing page) Tim F. Rayner 
  | malbec1 | Linux (Ubuntu 18.04.5 LTS) / x86_64 | OK | OK | OK | |||||||||
| tokay1 | Windows Server 2012 R2 Standard / x64 | OK | OK | OK | OK | |||||||||
| merida1 | macOS 10.14.6 Mojave / x86_64 | OK | OK | OK | OK | |||||||||
| Package: ChromHeatMap | 
| Version: 1.44.0 | 
| Command: rm -rf ChromHeatMap.buildbin-libdir && mkdir ChromHeatMap.buildbin-libdir && C:\Users\biocbuild\bbs-3.12-bioc\R\bin\R.exe CMD INSTALL --merge-multiarch --build --library=ChromHeatMap.buildbin-libdir ChromHeatMap_1.44.0.tar.gz | 
| StartedAt: 2021-05-06 08:42:25 -0400 (Thu, 06 May 2021) | 
| EndedAt: 2021-05-06 08:43:21 -0400 (Thu, 06 May 2021) | 
| EllapsedTime: 55.0 seconds | 
| RetCode: 0 | 
| Status: OK | 
| PackageFile: ChromHeatMap_1.44.0.zip | 
| PackageFileSize: 647.7 KiB | 
##############################################################################
##############################################################################
###
### Running command:
###
###   rm -rf ChromHeatMap.buildbin-libdir && mkdir ChromHeatMap.buildbin-libdir && C:\Users\biocbuild\bbs-3.12-bioc\R\bin\R.exe CMD INSTALL --merge-multiarch --build --library=ChromHeatMap.buildbin-libdir ChromHeatMap_1.44.0.tar.gz
###
##############################################################################
##############################################################################
install for i386
* installing *source* package 'ChromHeatMap' ...
** using staged installation
** R
** data
** inst
** byte-compile and prepare package for lazy loading
** help
*** installing help indices
  converting help for package 'ChromHeatMap'
    finding HTML links ... done
    ALLs.chr22                              html  
    ChrMapPlot-class                        html  
    ChrStrandData-class                     html  
    ChrStrandMatrix-class                   html  
    chrHeatMap                              html  
    chrNames                                html  
    chrdata                                 html  
    createChrMatrix                         html  
    cytobands                               html  
    drawMapDendro                           html  
    grabChrMapProbes                        html  
    makeChrStrandData-methods               html  
    makeChrStrandData                       html  
    makeRangedDataList                      html  
    plotChrMap                              html  
    stains                                  html  
    strandName                              html  
** building package indices
** installing vignettes
** testing if installed package can be loaded from temporary location
** testing if installed package can be loaded from final location
** testing if installed package keeps a record of temporary installation path
install for x64
* installing *source* package 'ChromHeatMap' ...
** testing if installed package can be loaded
* MD5 sums
packaged installation of 'ChromHeatMap' as ChromHeatMap_1.44.0.zip
* DONE (ChromHeatMap)