| Back to Multiple platform build/check report for BioC 3.12 |
|
This page was generated on 2021-05-06 12:34:32 -0400 (Thu, 06 May 2021).
|
To the developers/maintainers of the ChromHeatMap package: Please make sure to use the following settings in order to reproduce any error or warning you see on this page. |
| Package 296/1974 | Hostname | OS / Arch | INSTALL | BUILD | CHECK | BUILD BIN | ||||||||
| ChromHeatMap 1.44.0 (landing page) Tim F. Rayner
| malbec1 | Linux (Ubuntu 18.04.5 LTS) / x86_64 | OK | OK | OK | |||||||||
| tokay1 | Windows Server 2012 R2 Standard / x64 | OK | OK | OK | OK | |||||||||
| merida1 | macOS 10.14.6 Mojave / x86_64 | OK | OK | OK | OK | |||||||||
| Package: ChromHeatMap |
| Version: 1.44.0 |
| Command: /Library/Frameworks/R.framework/Versions/Current/Resources/bin/R CMD check --install=check:ChromHeatMap.install-out.txt --library=/Library/Frameworks/R.framework/Versions/Current/Resources/library --no-vignettes --timings ChromHeatMap_1.44.0.tar.gz |
| StartedAt: 2021-05-06 00:14:47 -0400 (Thu, 06 May 2021) |
| EndedAt: 2021-05-06 00:19:03 -0400 (Thu, 06 May 2021) |
| EllapsedTime: 256.3 seconds |
| RetCode: 0 |
| Status: OK |
| CheckDir: ChromHeatMap.Rcheck |
| Warnings: 0 |
##############################################################################
##############################################################################
###
### Running command:
###
### /Library/Frameworks/R.framework/Versions/Current/Resources/bin/R CMD check --install=check:ChromHeatMap.install-out.txt --library=/Library/Frameworks/R.framework/Versions/Current/Resources/library --no-vignettes --timings ChromHeatMap_1.44.0.tar.gz
###
##############################################################################
##############################################################################
* using log directory ‘/Users/biocbuild/bbs-3.12-bioc/meat/ChromHeatMap.Rcheck’
* using R version 4.0.5 (2021-03-31)
* using platform: x86_64-apple-darwin17.0 (64-bit)
* using session charset: UTF-8
* using option ‘--no-vignettes’
* checking for file ‘ChromHeatMap/DESCRIPTION’ ... OK
* this is package ‘ChromHeatMap’ version ‘1.44.0’
* checking package namespace information ... OK
* checking package dependencies ... OK
* checking if this is a source package ... OK
* checking if there is a namespace ... OK
* checking for hidden files and directories ... OK
* checking for portable file names ... OK
* checking for sufficient/correct file permissions ... OK
* checking whether package ‘ChromHeatMap’ can be installed ... OK
* checking installed package size ... OK
* checking package directory ... OK
* checking ‘build’ directory ... OK
* checking DESCRIPTION meta-information ... OK
* checking top-level files ... OK
* checking for left-over files ... OK
* checking index information ... OK
* checking package subdirectories ... OK
* checking R files for non-ASCII characters ... OK
* checking R files for syntax errors ... OK
* checking whether the package can be loaded ... OK
* checking whether the package can be loaded with stated dependencies ... OK
* checking whether the package can be unloaded cleanly ... OK
* checking whether the namespace can be loaded with stated dependencies ... OK
* checking whether the namespace can be unloaded cleanly ... OK
* checking dependencies in R code ... OK
* checking S3 generic/method consistency ... OK
* checking replacement functions ... OK
* checking foreign function calls ... OK
* checking R code for possible problems ... NOTE
createChrMatrix: no visible global function definition for ‘new’
makeRangedDataList : .makeGRanges: no visible global function
definition for ‘as’
plotChrMap: no visible global function definition for ‘new’
makeChrStrandData,matrix: no visible global function definition for
‘new’
Undefined global functions or variables:
as new
Consider adding
importFrom("methods", "as", "new")
to your NAMESPACE file (and ensure that your DESCRIPTION Imports field
contains 'methods').
* checking Rd files ... OK
* checking Rd metadata ... OK
* checking Rd cross-references ... OK
* checking for missing documentation entries ... OK
* checking for code/documentation mismatches ... OK
* checking Rd \usage sections ... OK
* checking Rd contents ... OK
* checking for unstated dependencies in examples ... OK
* checking contents of ‘data’ directory ... OK
* checking data for non-ASCII characters ... OK
* checking data for ASCII and uncompressed saves ... OK
* checking sizes of PDF files under ‘inst/doc’ ... OK
* checking files in ‘vignettes’ ... OK
* checking examples ... OK
* checking for unstated dependencies in vignettes ... OK
* checking package vignettes in ‘inst/doc’ ... OK
* checking running R code from vignettes ... SKIPPED
* checking re-building of vignette outputs ... SKIPPED
* checking PDF version of manual ... OK
* DONE
Status: 1 NOTE
See
‘/Users/biocbuild/bbs-3.12-bioc/meat/ChromHeatMap.Rcheck/00check.log’
for details.
ChromHeatMap.Rcheck/00install.out
############################################################################## ############################################################################## ### ### Running command: ### ### /Library/Frameworks/R.framework/Versions/Current/Resources/bin/R CMD INSTALL ChromHeatMap ### ############################################################################## ############################################################################## * installing to library ‘/Library/Frameworks/R.framework/Versions/4.0/Resources/library’ * installing *source* package ‘ChromHeatMap’ ... ** using staged installation ** R ** data ** byte-compile and prepare package for lazy loading ** help *** installing help indices ** building package indices ** installing vignettes ** testing if installed package can be loaded from temporary location ** testing if installed package can be loaded from final location ** testing if installed package keeps a record of temporary installation path * DONE (ChromHeatMap)
ChromHeatMap.Rcheck/ChromHeatMap-Ex.timings
| name | user | system | elapsed | |
| ChrMapPlot-class | 0.715 | 0.052 | 0.769 | |
| ChrStrandData-class | 0.152 | 0.007 | 0.160 | |
| ChrStrandMatrix-class | 0.029 | 0.003 | 0.032 | |
| chrHeatMap | 0.052 | 0.003 | 0.055 | |
| createChrMatrix | 0.030 | 0.003 | 0.033 | |
| drawMapDendro | 0.059 | 0.003 | 0.062 | |
| grabChrMapProbes | 0.252 | 0.015 | 0.268 | |
| makeChrStrandData | 0.095 | 0.010 | 0.104 | |
| makeRangedDataList | 4.481 | 0.473 | 4.964 | |
| plotChrMap | 0.206 | 0.012 | 0.218 | |