| Back to Multiple platform build/check report for BioC 3.12 |
|
This page was generated on 2021-05-06 12:30:10 -0400 (Thu, 06 May 2021).
|
To the developers/maintainers of the CellMixS package: Please make sure to use the following settings in order to reproduce any error or warning you see on this page. |
| Package 255/1974 | Hostname | OS / Arch | INSTALL | BUILD | CHECK | BUILD BIN | ||||||||
| CellMixS 1.6.1 (landing page) Almut Lütge
| malbec1 | Linux (Ubuntu 18.04.5 LTS) / x86_64 | OK | OK | OK | |||||||||
| tokay1 | Windows Server 2012 R2 Standard / x64 | OK | OK | OK | OK | |||||||||
| merida1 | macOS 10.14.6 Mojave / x86_64 | OK | OK | OK | OK | |||||||||
| Package: CellMixS |
| Version: 1.6.1 |
| Command: rm -rf CellMixS.buildbin-libdir && mkdir CellMixS.buildbin-libdir && C:\Users\biocbuild\bbs-3.12-bioc\R\bin\R.exe CMD INSTALL --merge-multiarch --build --library=CellMixS.buildbin-libdir CellMixS_1.6.1.tar.gz |
| StartedAt: 2021-05-06 08:39:10 -0400 (Thu, 06 May 2021) |
| EndedAt: 2021-05-06 08:40:36 -0400 (Thu, 06 May 2021) |
| EllapsedTime: 85.4 seconds |
| RetCode: 0 |
| Status: OK |
| PackageFile: CellMixS_1.6.1.zip |
| PackageFileSize: 2.2 MiB |
##############################################################################
##############################################################################
###
### Running command:
###
### rm -rf CellMixS.buildbin-libdir && mkdir CellMixS.buildbin-libdir && C:\Users\biocbuild\bbs-3.12-bioc\R\bin\R.exe CMD INSTALL --merge-multiarch --build --library=CellMixS.buildbin-libdir CellMixS_1.6.1.tar.gz
###
##############################################################################
##############################################################################
install for i386
* installing *source* package 'CellMixS' ...
** using staged installation
** R
** inst
** byte-compile and prepare package for lazy loading
** help
*** installing help indices
converting help for package 'CellMixS'
finding HTML links ... done
CellMixS-package html
cms html
finding level-2 HTML links ... done
dot-cmsCell html
dot-defineSubspace html
dot-filterKnn html
dot-filterLocMin html
dot-ldfKnn html
dot-smoothCms html
entropy html
evalIntegration html
isi html
ldfDiff html
ldfSce html
locStructure html
mixMetric html
visCluster html
visGroup html
visHist html
visIntegration html
visMetric html
visOverview html
** building package indices
** installing vignettes
** testing if installed package can be loaded from temporary location
** testing if installed package can be loaded from final location
** testing if installed package keeps a record of temporary installation path
install for x64
* installing *source* package 'CellMixS' ...
** testing if installed package can be loaded
* MD5 sums
packaged installation of 'CellMixS' as CellMixS_1.6.1.zip
* DONE (CellMixS)