| Back to Multiple platform build/check report for BioC 3.12 |
|
This page was generated on 2021-05-06 12:34:26 -0400 (Thu, 06 May 2021).
|
To the developers/maintainers of the BiocSklearn package: Please make sure to use the following settings in order to reproduce any error or warning you see on this page. |
| Package 170/1974 | Hostname | OS / Arch | INSTALL | BUILD | CHECK | BUILD BIN | ||||||||
| BiocSklearn 1.12.0 (landing page) VJ Carey
| malbec1 | Linux (Ubuntu 18.04.5 LTS) / x86_64 | OK | OK | OK | |||||||||
| tokay1 | Windows Server 2012 R2 Standard / x64 | OK | ERROR | skipped | skipped | |||||||||
| merida1 | macOS 10.14.6 Mojave / x86_64 | OK | OK | OK | OK | |||||||||
| Package: BiocSklearn |
| Version: 1.12.0 |
| Command: rm -rf BiocSklearn.buildbin-libdir && mkdir BiocSklearn.buildbin-libdir && /Users/biocbuild/BBS/utils/build-universal.sh BiocSklearn_1.12.0.tar.gz /Library/Frameworks/R.framework/Versions/Current/Resources/bin/R BiocSklearn.buildbin-libdir |
| StartedAt: 2021-05-06 08:02:05 -0400 (Thu, 06 May 2021) |
| EndedAt: 2021-05-06 08:03:02 -0400 (Thu, 06 May 2021) |
| EllapsedTime: 57.4 seconds |
| RetCode: 0 |
| Status: OK |
| PackageFile: BiocSklearn_1.12.0.tgz |
| PackageFileSize: 32.73 MiB |
############################################################################## ############################################################################## ### ### Running command: ### ### rm -rf BiocSklearn.buildbin-libdir && mkdir BiocSklearn.buildbin-libdir && /Users/biocbuild/BBS/utils/build-universal.sh BiocSklearn_1.12.0.tar.gz /Library/Frameworks/R.framework/Versions/Current/Resources/bin/R BiocSklearn.buildbin-libdir ### ############################################################################## ############################################################################## >>>>>>> >>>>>>> INSTALLATION WITH 'R CMD INSTALL --preclean --no-multiarch --library=BiocSklearn.buildbin-libdir BiocSklearn_1.12.0.tar.gz' >>>>>>> * installing *source* package ‘BiocSklearn’ ... ** using non-staged installation via StagedInstall field ** R ** inst ** byte-compile and prepare package for lazy loading ** help *** installing help indices ** building package indices ** installing vignettes ** testing if installed package can be loaded * DONE (BiocSklearn)