| Back to Multiple platform build/check report for BioC 3.12 |
|
This page was generated on 2021-05-06 12:29:58 -0400 (Thu, 06 May 2021).
|
To the developers/maintainers of the BasicSTARRseq package: Please make sure to use the following settings in order to reproduce any error or warning you see on this page. |
| Package 120/1974 | Hostname | OS / Arch | INSTALL | BUILD | CHECK | BUILD BIN | ||||||||
| BasicSTARRseq 1.18.0 (landing page) Annika Buerger
| malbec1 | Linux (Ubuntu 18.04.5 LTS) / x86_64 | OK | OK | OK | |||||||||
| tokay1 | Windows Server 2012 R2 Standard / x64 | OK | OK | OK | OK | |||||||||
| merida1 | macOS 10.14.6 Mojave / x86_64 | OK | OK | OK | OK | |||||||||
| Package: BasicSTARRseq |
| Version: 1.18.0 |
| Command: C:\Users\biocbuild\bbs-3.12-bioc\R\bin\R.exe CMD check --force-multiarch --install=check:BasicSTARRseq.install-out.txt --library=C:\Users\biocbuild\bbs-3.12-bioc\R\library --no-vignettes --timings BasicSTARRseq_1.18.0.tar.gz |
| StartedAt: 2021-05-06 00:37:56 -0400 (Thu, 06 May 2021) |
| EndedAt: 2021-05-06 00:41:57 -0400 (Thu, 06 May 2021) |
| EllapsedTime: 240.8 seconds |
| RetCode: 0 |
| Status: OK |
| CheckDir: BasicSTARRseq.Rcheck |
| Warnings: 0 |
##############################################################################
##############################################################################
###
### Running command:
###
### C:\Users\biocbuild\bbs-3.12-bioc\R\bin\R.exe CMD check --force-multiarch --install=check:BasicSTARRseq.install-out.txt --library=C:\Users\biocbuild\bbs-3.12-bioc\R\library --no-vignettes --timings BasicSTARRseq_1.18.0.tar.gz
###
##############################################################################
##############################################################################
* using log directory 'C:/Users/biocbuild/bbs-3.12-bioc/meat/BasicSTARRseq.Rcheck'
* using R version 4.0.5 (2021-03-31)
* using platform: x86_64-w64-mingw32 (64-bit)
* using session charset: ISO8859-1
* using option '--no-vignettes'
* checking for file 'BasicSTARRseq/DESCRIPTION' ... OK
* checking extension type ... Package
* this is package 'BasicSTARRseq' version '1.18.0'
* checking package namespace information ... OK
* checking package dependencies ... OK
* checking if this is a source package ... OK
* checking if there is a namespace ... OK
* checking for hidden files and directories ... OK
* checking for portable file names ... OK
* checking whether package 'BasicSTARRseq' can be installed ... OK
* checking installed package size ... OK
* checking package directory ... OK
* checking 'build' directory ... OK
* checking DESCRIPTION meta-information ... OK
* checking top-level files ... OK
* checking for left-over files ... OK
* checking index information ... OK
* checking package subdirectories ... OK
* checking R files for non-ASCII characters ... OK
* checking R files for syntax errors ... OK
* loading checks for arch 'i386'
** checking whether the package can be loaded ... OK
** checking whether the package can be loaded with stated dependencies ... OK
** checking whether the package can be unloaded cleanly ... OK
** checking whether the namespace can be loaded with stated dependencies ... OK
** checking whether the namespace can be unloaded cleanly ... OK
* loading checks for arch 'x64'
** checking whether the package can be loaded ... OK
** checking whether the package can be loaded with stated dependencies ... OK
** checking whether the package can be unloaded cleanly ... OK
** checking whether the namespace can be loaded with stated dependencies ... OK
** checking whether the namespace can be unloaded cleanly ... OK
* checking dependencies in R code ... OK
* checking S3 generic/method consistency ... OK
* checking replacement functions ... OK
* checking foreign function calls ... OK
* checking R code for possible problems ... NOTE
getPeaks,STARRseqData : <anonymous>: no visible global function
definition for 'pbinom'
Undefined global functions or variables:
pbinom
Consider adding
importFrom("stats", "pbinom")
to your NAMESPACE file.
* checking Rd files ... OK
* checking Rd metadata ... OK
* checking Rd cross-references ... OK
* checking for missing documentation entries ... OK
* checking for code/documentation mismatches ... OK
* checking Rd \usage sections ... OK
* checking Rd contents ... OK
* checking for unstated dependencies in examples ... OK
* checking files in 'vignettes' ... OK
* checking examples ...
** running examples for arch 'i386' ... OK
** running examples for arch 'x64' ... OK
* checking for unstated dependencies in vignettes ... OK
* checking package vignettes in 'inst/doc' ... OK
* checking running R code from vignettes ... SKIPPED
* checking re-building of vignette outputs ... SKIPPED
* checking PDF version of manual ... OK
* DONE
Status: 1 NOTE
See
'C:/Users/biocbuild/bbs-3.12-bioc/meat/BasicSTARRseq.Rcheck/00check.log'
for details.
BasicSTARRseq.Rcheck/00install.out
##############################################################################
##############################################################################
###
### Running command:
###
### C:\cygwin\bin\curl.exe -O http://172.29.0.3/BBS/3.12/bioc/src/contrib/BasicSTARRseq_1.18.0.tar.gz && rm -rf BasicSTARRseq.buildbin-libdir && mkdir BasicSTARRseq.buildbin-libdir && C:\Users\biocbuild\bbs-3.12-bioc\R\bin\R.exe CMD INSTALL --merge-multiarch --build --library=BasicSTARRseq.buildbin-libdir BasicSTARRseq_1.18.0.tar.gz && C:\Users\biocbuild\bbs-3.12-bioc\R\bin\R.exe CMD INSTALL BasicSTARRseq_1.18.0.zip && rm BasicSTARRseq_1.18.0.tar.gz BasicSTARRseq_1.18.0.zip
###
##############################################################################
##############################################################################
% Total % Received % Xferd Average Speed Time Time Time Current
Dload Upload Total Spent Left Speed
0 0 0 0 0 0 0 0 --:--:-- --:--:-- --:--:-- 0
100 306k 100 306k 0 0 15.8M 0 --:--:-- --:--:-- --:--:-- 16.6M
install for i386
* installing *source* package 'BasicSTARRseq' ...
** using staged installation
** R
** inst
** byte-compile and prepare package for lazy loading
Creating a new generic function for 'sample' in package 'BasicSTARRseq'
** help
*** installing help indices
converting help for package 'BasicSTARRseq'
finding HTML links ... done
STARRseqData-class html
finding level-2 HTML links ... done
getPeaks html
** building package indices
** installing vignettes
** testing if installed package can be loaded from temporary location
** testing if installed package can be loaded from final location
** testing if installed package keeps a record of temporary installation path
install for x64
* installing *source* package 'BasicSTARRseq' ...
** testing if installed package can be loaded
* MD5 sums
packaged installation of 'BasicSTARRseq' as BasicSTARRseq_1.18.0.zip
* DONE (BasicSTARRseq)
* installing to library 'C:/Users/biocbuild/bbs-3.12-bioc/R/library'
package 'BasicSTARRseq' successfully unpacked and MD5 sums checked
|
BasicSTARRseq.Rcheck/examples_i386/BasicSTARRseq-Ex.timings
|
BasicSTARRseq.Rcheck/examples_x64/BasicSTARRseq-Ex.timings
|