| Back to Multiple platform build/check report for BioC 3.12 |
|
This page was generated on 2021-05-06 12:29:58 -0400 (Thu, 06 May 2021).
|
To the developers/maintainers of the BasicSTARRseq package: Please make sure to use the following settings in order to reproduce any error or warning you see on this page. |
| Package 120/1974 | Hostname | OS / Arch | INSTALL | BUILD | CHECK | BUILD BIN | ||||||||
| BasicSTARRseq 1.18.0 (landing page) Annika Buerger
| malbec1 | Linux (Ubuntu 18.04.5 LTS) / x86_64 | OK | OK | OK | |||||||||
| tokay1 | Windows Server 2012 R2 Standard / x64 | OK | OK | OK | OK | |||||||||
| merida1 | macOS 10.14.6 Mojave / x86_64 | OK | OK | OK | OK | |||||||||
| Package: BasicSTARRseq |
| Version: 1.18.0 |
| Command: rm -rf BasicSTARRseq.buildbin-libdir && mkdir BasicSTARRseq.buildbin-libdir && C:\Users\biocbuild\bbs-3.12-bioc\R\bin\R.exe CMD INSTALL --merge-multiarch --build --library=BasicSTARRseq.buildbin-libdir BasicSTARRseq_1.18.0.tar.gz |
| StartedAt: 2021-05-06 08:29:45 -0400 (Thu, 06 May 2021) |
| EndedAt: 2021-05-06 08:30:43 -0400 (Thu, 06 May 2021) |
| EllapsedTime: 58.0 seconds |
| RetCode: 0 |
| Status: OK |
| PackageFile: BasicSTARRseq_1.18.0.zip |
| PackageFileSize: 707.5 KiB |
##############################################################################
##############################################################################
###
### Running command:
###
### rm -rf BasicSTARRseq.buildbin-libdir && mkdir BasicSTARRseq.buildbin-libdir && C:\Users\biocbuild\bbs-3.12-bioc\R\bin\R.exe CMD INSTALL --merge-multiarch --build --library=BasicSTARRseq.buildbin-libdir BasicSTARRseq_1.18.0.tar.gz
###
##############################################################################
##############################################################################
install for i386
* installing *source* package 'BasicSTARRseq' ...
** using staged installation
** R
** inst
** byte-compile and prepare package for lazy loading
Creating a new generic function for 'sample' in package 'BasicSTARRseq'
** help
*** installing help indices
converting help for package 'BasicSTARRseq'
finding HTML links ... done
STARRseqData-class html
finding level-2 HTML links ... done
getPeaks html
** building package indices
** installing vignettes
** testing if installed package can be loaded from temporary location
** testing if installed package can be loaded from final location
** testing if installed package keeps a record of temporary installation path
install for x64
* installing *source* package 'BasicSTARRseq' ...
** testing if installed package can be loaded
* MD5 sums
packaged installation of 'BasicSTARRseq' as BasicSTARRseq_1.18.0.zip
* DONE (BasicSTARRseq)