| Back to Multiple platform build/check report for BioC 3.12 | 
 | 
This page was generated on 2021-05-06 12:34:18 -0400 (Thu, 06 May 2021).
| To the developers/maintainers of the AnnotationHub package: Please make sure to use the following settings in order to reproduce any error or warning you see on this page. | 
| Package 66/1974 | Hostname | OS / Arch | INSTALL | BUILD | CHECK | BUILD BIN | ||||||||
| AnnotationHub 2.22.1  (landing page) Bioconductor Package Maintainer 
 | malbec1 | Linux (Ubuntu 18.04.5 LTS) / x86_64 | OK | OK | WARNINGS |  | ||||||||
| tokay1 | Windows Server 2012 R2 Standard / x64 | OK | OK | WARNINGS | OK |  | ||||||||
| merida1 | macOS 10.14.6 Mojave / x86_64 | OK | OK | WARNINGS | OK |  | ||||||||
| Package: AnnotationHub | 
| Version: 2.22.1 | 
| Command: rm -rf AnnotationHub.buildbin-libdir && mkdir AnnotationHub.buildbin-libdir && /Users/biocbuild/BBS/utils/build-universal.sh AnnotationHub_2.22.1.tar.gz /Library/Frameworks/R.framework/Versions/Current/Resources/bin/R AnnotationHub.buildbin-libdir | 
| StartedAt: 2021-05-06 07:53:48 -0400 (Thu, 06 May 2021) | 
| EndedAt: 2021-05-06 07:54:50 -0400 (Thu, 06 May 2021) | 
| EllapsedTime: 61.6 seconds | 
| RetCode: 0 | 
| Status: OK | 
| PackageFile: AnnotationHub_2.22.1.tgz | 
| PackageFileSize: 1.427 MiB | 
############################################################################## ############################################################################## ### ### Running command: ### ### rm -rf AnnotationHub.buildbin-libdir && mkdir AnnotationHub.buildbin-libdir && /Users/biocbuild/BBS/utils/build-universal.sh AnnotationHub_2.22.1.tar.gz /Library/Frameworks/R.framework/Versions/Current/Resources/bin/R AnnotationHub.buildbin-libdir ### ############################################################################## ############################################################################## >>>>>>> >>>>>>> INSTALLATION WITH 'R CMD INSTALL --preclean --no-multiarch --library=AnnotationHub.buildbin-libdir AnnotationHub_2.22.1.tar.gz' >>>>>>> * installing *source* package ‘AnnotationHub’ ... ** using staged installation ** R ** inst ** byte-compile and prepare package for lazy loading ** help *** installing help indices ** building package indices ** installing vignettes ** testing if installed package can be loaded from temporary location ** testing if installed package can be loaded from final location ** testing if installed package keeps a record of temporary installation path * DONE (AnnotationHub)