| Back to Multiple platform build/check report for BioC 3.12 |
|
This page was generated on 2021-05-06 12:26:52 -0400 (Thu, 06 May 2021).
|
To the developers/maintainers of the AnnotationHub package: Please make sure to use the following settings in order to reproduce any error or warning you see on this page. |
| Package 66/1974 | Hostname | OS / Arch | INSTALL | BUILD | CHECK | BUILD BIN | ||||||||
| AnnotationHub 2.22.1 (landing page) Bioconductor Package Maintainer
| malbec1 | Linux (Ubuntu 18.04.5 LTS) / x86_64 | OK | OK | WARNINGS | |||||||||
| tokay1 | Windows Server 2012 R2 Standard / x64 | OK | OK | WARNINGS | OK | |||||||||
| merida1 | macOS 10.14.6 Mojave / x86_64 | OK | OK | WARNINGS | OK | |||||||||
| Package: AnnotationHub |
| Version: 2.22.1 |
| Command: /home/biocbuild/bbs-3.12-bioc/R/bin/R CMD build --keep-empty-dirs --no-resave-data AnnotationHub |
| StartedAt: 2021-05-05 17:35:17 -0400 (Wed, 05 May 2021) |
| EndedAt: 2021-05-05 17:38:04 -0400 (Wed, 05 May 2021) |
| EllapsedTime: 167.3 seconds |
| RetCode: 0 |
| Status: OK |
| PackageFile: AnnotationHub_2.22.1.tar.gz |
| PackageFileSize: 1.247 MiB |
############################################################################## ############################################################################## ### ### Running command: ### ### /home/biocbuild/bbs-3.12-bioc/R/bin/R CMD build --keep-empty-dirs --no-resave-data AnnotationHub ### ############################################################################## ############################################################################## * checking for file ‘AnnotationHub/DESCRIPTION’ ... OK * preparing ‘AnnotationHub’: * checking DESCRIPTION meta-information ... OK * installing the package to build vignettes * creating vignettes ... OK * checking for LF line-endings in source and make files and shell scripts * checking for empty or unneeded directories * building ‘AnnotationHub_2.22.1.tar.gz’