| Back to Multiple platform build/check report for BioC 3.12 |
|
This page was generated on 2021-05-06 12:34:20 -0400 (Thu, 06 May 2021).
|
To the developers/maintainers of the ASICS package: Please make sure to use the following settings in order to reproduce any error or warning you see on this page. |
| Package 93/1974 | Hostname | OS / Arch | INSTALL | BUILD | CHECK | BUILD BIN | ||||||||
| ASICS 2.6.1 (landing page) Gaëlle Lefort
| malbec1 | Linux (Ubuntu 18.04.5 LTS) / x86_64 | OK | OK | OK | |||||||||
| tokay1 | Windows Server 2012 R2 Standard / x64 | OK | OK | OK | OK | |||||||||
| merida1 | macOS 10.14.6 Mojave / x86_64 | OK | OK | OK | OK | |||||||||
| Package: ASICS |
| Version: 2.6.1 |
| Command: /Library/Frameworks/R.framework/Versions/Current/Resources/bin/R CMD build --keep-empty-dirs --no-resave-data ASICS |
| StartedAt: 2021-05-05 18:11:13 -0400 (Wed, 05 May 2021) |
| EndedAt: 2021-05-05 18:14:23 -0400 (Wed, 05 May 2021) |
| EllapsedTime: 189.2 seconds |
| RetCode: 0 |
| Status: OK |
| PackageFile: ASICS_2.6.1.tar.gz |
| PackageFileSize: 3.192 MiB |
############################################################################## ############################################################################## ### ### Running command: ### ### /Library/Frameworks/R.framework/Versions/Current/Resources/bin/R CMD build --keep-empty-dirs --no-resave-data ASICS ### ############################################################################## ############################################################################## * checking for file ‘ASICS/DESCRIPTION’ ... OK * preparing ‘ASICS’: * checking DESCRIPTION meta-information ... OK * installing the package to build vignettes * creating vignettes ... OK * checking for LF line-endings in source and make files and shell scripts * checking for empty or unneeded directories * building ‘ASICS_2.6.1.tar.gz’