| Back to Multiple platform build/check report for BioC 3.12 |
|
This page was generated on 2021-05-06 12:26:55 -0400 (Thu, 06 May 2021).
|
To the developers/maintainers of the ASICS package: Please make sure to use the following settings in order to reproduce any error or warning you see on this page. |
| Package 93/1974 | Hostname | OS / Arch | INSTALL | BUILD | CHECK | BUILD BIN | ||||||||
| ASICS 2.6.1 (landing page) Gaëlle Lefort
| malbec1 | Linux (Ubuntu 18.04.5 LTS) / x86_64 | OK | OK | OK | |||||||||
| tokay1 | Windows Server 2012 R2 Standard / x64 | OK | OK | OK | OK | |||||||||
| merida1 | macOS 10.14.6 Mojave / x86_64 | OK | OK | OK | OK | |||||||||
| Package: ASICS |
| Version: 2.6.1 |
| Command: /home/biocbuild/bbs-3.12-bioc/R/bin/R CMD check --install=check:ASICS.install-out.txt --library=/home/biocbuild/bbs-3.12-bioc/R/library --no-vignettes --timings ASICS_2.6.1.tar.gz |
| StartedAt: 2021-05-05 23:06:00 -0400 (Wed, 05 May 2021) |
| EndedAt: 2021-05-05 23:17:14 -0400 (Wed, 05 May 2021) |
| EllapsedTime: 674.0 seconds |
| RetCode: 0 |
| Status: OK |
| CheckDir: ASICS.Rcheck |
| Warnings: 0 |
##############################################################################
##############################################################################
###
### Running command:
###
### /home/biocbuild/bbs-3.12-bioc/R/bin/R CMD check --install=check:ASICS.install-out.txt --library=/home/biocbuild/bbs-3.12-bioc/R/library --no-vignettes --timings ASICS_2.6.1.tar.gz
###
##############################################################################
##############################################################################
* using log directory ‘/home/biocbuild/bbs-3.12-bioc/meat/ASICS.Rcheck’
* using R version 4.0.5 (2021-03-31)
* using platform: x86_64-pc-linux-gnu (64-bit)
* using session charset: UTF-8
* using option ‘--no-vignettes’
* checking for file ‘ASICS/DESCRIPTION’ ... OK
* checking extension type ... Package
* this is package ‘ASICS’ version ‘2.6.1’
* package encoding: UTF-8
* checking package namespace information ... OK
* checking package dependencies ... OK
* checking if this is a source package ... OK
* checking if there is a namespace ... OK
* checking for hidden files and directories ... OK
* checking for portable file names ... OK
* checking for sufficient/correct file permissions ... OK
* checking whether package ‘ASICS’ can be installed ... OK
* checking installed package size ... NOTE
installed size is 5.9Mb
sub-directories of 1Mb or more:
doc 2.7Mb
extdata 1.6Mb
* checking package directory ... OK
* checking ‘build’ directory ... OK
* checking DESCRIPTION meta-information ... OK
* checking top-level files ... OK
* checking for left-over files ... OK
* checking index information ... OK
* checking package subdirectories ... OK
* checking R files for non-ASCII characters ... OK
* checking R files for syntax errors ... OK
* checking whether the package can be loaded ... OK
* checking whether the package can be loaded with stated dependencies ... OK
* checking whether the package can be unloaded cleanly ... OK
* checking whether the namespace can be loaded with stated dependencies ... OK
* checking whether the namespace can be unloaded cleanly ... OK
* checking dependencies in R code ... OK
* checking S3 generic/method consistency ... OK
* checking replacement functions ... OK
* checking foreign function calls ... OK
* checking R code for possible problems ... NOTE
.shift_spec: no visible binding for global variable ‘pure_library’
simulate_spectra: no visible binding for global variable ‘pure_library’
simulate_spectra : <anonymous>: no visible binding for global variable
‘pure_library’
Undefined global functions or variables:
pure_library
* checking Rd files ... OK
* checking Rd metadata ... OK
* checking Rd cross-references ... OK
* checking for missing documentation entries ... OK
* checking for code/documentation mismatches ... OK
* checking Rd \usage sections ... OK
* checking Rd contents ... OK
* checking for unstated dependencies in examples ... OK
* checking contents of ‘data’ directory ... OK
* checking data for non-ASCII characters ... OK
* checking data for ASCII and uncompressed saves ... OK
* checking installed files from ‘inst/doc’ ... OK
* checking files in ‘vignettes’ ... OK
* checking examples ... OK
Examples with CPU (user + system) or elapsed time > 5s
user system elapsed
simulate_spectra 48.536 2.900 51.605
ASICS 38.460 0.692 39.227
* checking for unstated dependencies in ‘tests’ ... OK
* checking tests ...
Running ‘testthat.R’
OK
* checking for unstated dependencies in vignettes ... OK
* checking package vignettes in ‘inst/doc’ ... OK
* checking running R code from vignettes ... SKIPPED
* checking re-building of vignette outputs ... SKIPPED
* checking PDF version of manual ... OK
* DONE
Status: 2 NOTEs
See
‘/home/biocbuild/bbs-3.12-bioc/meat/ASICS.Rcheck/00check.log’
for details.
ASICS.Rcheck/00install.out
############################################################################## ############################################################################## ### ### Running command: ### ### /home/biocbuild/bbs-3.12-bioc/R/bin/R CMD INSTALL ASICS ### ############################################################################## ############################################################################## * installing to library ‘/home/biocbuild/bbs-3.12-bioc/R/library’ * installing *source* package ‘ASICS’ ... ** using staged installation ** R ** data *** moving datasets to lazyload DB ** inst ** byte-compile and prepare package for lazy loading ** help *** installing help indices ** building package indices ** installing vignettes ‘ASICS.Rmd’ using ‘UTF-8’ ‘ASICSUsersGuide.Rmd’ using ‘UTF-8’ ** testing if installed package can be loaded from temporary location ** testing if installed package can be loaded from final location ** testing if installed package keeps a record of temporary installation path * DONE (ASICS)
ASICS.Rcheck/tests/testthat.Rout
R version 4.0.5 (2021-03-31) -- "Shake and Throw"
Copyright (C) 2021 The R Foundation for Statistical Computing
Platform: x86_64-pc-linux-gnu (64-bit)
R is free software and comes with ABSOLUTELY NO WARRANTY.
You are welcome to redistribute it under certain conditions.
Type 'license()' or 'licence()' for distribution details.
R is a collaborative project with many contributors.
Type 'contributors()' for more information and
'citation()' on how to cite R or R packages in publications.
Type 'demo()' for some demos, 'help()' for on-line help, or
'help.start()' for an HTML browser interface to help.
Type 'q()' to quit R.
> library(testthat)
> library(ASICS)
>
> test_check("ASICS")
Binning
|
| | 0%
|
|= | 2%
|
|=== | 4%
|
|==== | 6%
|
|====== | 8%
|
|======= | 10%
|
|======== | 12%
|
|========== | 14%
|
|=========== | 16%
|
|============= | 18%
|
|============== | 20%
|
|=============== | 22%
|
|================= | 24%
|
|================== | 26%
|
|==================== | 28%
|
|===================== | 30%
|
|====================== | 32%
|
|======================== | 34%
|
|========================= | 36%
|
|=========================== | 38%
|
|============================ | 40%
|
|============================= | 42%
|
|=============================== | 44%
|
|================================ | 46%
|
|================================== | 48%
|
|=================================== | 50%
|
|==================================== | 52%
|
|====================================== | 54%
|
|======================================= | 56%
|
|========================================= | 58%
|
|========================================== | 60%
|
|=========================================== | 62%
|
|============================================= | 64%
|
|============================================== | 66%
|
|================================================ | 68%
|
|================================================= | 70%
|
|================================================== | 72%
|
|==================================================== | 74%
|
|===================================================== | 76%
|
|======================================================= | 78%
|
|======================================================== | 80%
|
|========================================================= | 82%
|
|=========================================================== | 84%
|
|============================================================ | 86%
|
|============================================================== | 88%
|
|=============================================================== | 90%
|
|================================================================ | 92%
|
|================================================================== | 94%
|
|=================================================================== | 96%
|
|===================================================================== | 98%
|
|======================================================================| 100%
Normalisation method : CS
|
| | 0%
|
|=================================== | 50%
|
|======================================================================| 100%
|
| | 0%
|
|=================================== | 50%
|
|======================================================================| 100%
|
| | 0%
|
|=================================== | 50%
|
|======================================================================| 100%
Import spectra from txt or csv files...
Normalisation method : CS
Import spectra from fid files...
Begin PreprocessingChain
Begin ReadFids
dim Fid_data: 2 16384
IDs: AG_faq_Beck01 AG_faq_Beck051
non-unique IDs? 0
End ReadFids
It lasted 0.016 s user time, 0 s system time and 0.014 s elapsed time.
Begin GroupDelayCorrection
End GroupDelayCorrection
It lasted 0.048 s user time, 0 s system time and 0.046 s elapsed time.
Begin SolventSuppression
End SolventSuppression
It lasted 0.008 s user time, 0 s system time and 0.008 s elapsed time.
Begin Apodization
End Apodization
It lasted 0 s user time, 0 s system time and 0.001 s elapsed time.
Begin ZeroFilling
End ZeroFilling
It lasted 0.056 s user time, 0 s system time and 0.054 s elapsed time.
Begin FourierTransform
End FourierTransform
It lasted 0.008 s user time, 0 s system time and 0.011 s elapsed time.
Begin ZeroOrderPhaseCorrection
End ZeroOrderPhaseCorrection
It lasted 0.172 s user time, 0.016 s system time and 0.188 s elapsed time.
Begin InternalReferencing
End InternalReferencing
It lasted 0.016 s user time, 0 s system time and 0.017 s elapsed time.
Begin WindowSelection
End WindowSelection
It lasted 0.088 s user time, 0 s system time and 0.09 s elapsed time.
End PreprocessingChain
It lasted 0.416 s user time, 0.016 s system time and 0.431 s elapsed time.
Normalisation method : CS
Import spectra from txt or csv files...
Normalisation method : CS
Normalisation method : CS
Alignment...
Peak detection
|
| | 0%
|
|================== | 25%
|
|=================================== | 50%
|
|==================================================== | 75%
|
|======================================================================| 100%
Finding reference spectrum
Compute FFT correlations
|
| | 0%
|
|================== | 25%
|
|=================================== | 50%
|
|==================================================== | 75%
|
|======================================================================| 100%
The reference spectrum is the number 3 : AG_faq_Beck139
Align spectra
|
| | 0%
|
|================== | 25%
|
|=================================== | 50%
|
|==================================================== | 75%
|
|======================================================================| 100%
Import spectra from txt or csv files...
Normalisation method : CS
Binning
|
| | 0%
|
|================== | 25%
|
|=================================== | 50%
|
|==================================================== | 75%
|
|======================================================================| 100%
Normalisation method : CS
Import spectra from txt or csv files...
Normalisation method : CS
Remove areas from spectrum and library
|
| | 0%
|
|================== | 25%
|
|=================================== | 50%
|
|==================================================== | 75%
|
|======================================================================| 100%
Compute weights
|
| | 0%
|
|================== | 25%
|
|=================================== | 50%
|
|==================================================== | 75%
|
|======================================================================| 100%
Remove metabolites that cannot belong to the mixture
|
| | 0%
|
|================== | 25%
|
|=================================== | 50%
|
|==================================================== | 75%
|
|======================================================================| 100%
Translate library
|
| | 0%
|
|================== | 25%
|
|=================================== | 50%
|
|==================================================== | 75%
|
|======================================================================| 100%
Deform library peaks
|
| | 0%
|
|================== | 25%
|
|=================================== | 50%
|
|==================================================== | 75%
|
|======================================================================| 100%
Compute quantifications
|
| | 0%
|
|================== | 25%
|
|=================================== | 50%
|
|==================================================== | 75%
|
|======================================================================| 100%
Format global results...
Remove areas from spectrum and library
|
| | 0%
|
|================== | 25%
|
|=================================== | 50%
|
|==================================================== | 75%
|
|======================================================================| 100%
Compute weights
|
| | 0%
|
|================== | 25%
|
|=================================== | 50%
|
|==================================================== | 75%
|
|======================================================================| 100%
Remove metabolites that cannot belong to the mixture
|
| | 0%
|
|================== | 25%
|
|=================================== | 50%
|
|==================================================== | 75%
|
|======================================================================| 100%
Translate library
|
| | 0%
|
|================== | 25%
|
|=================================== | 50%
|
|==================================================== | 75%
|
|======================================================================| 100%
Deform library peaks
|
| | 0%
|
|================== | 25%
|
|=================================== | 50%
|
|==================================================== | 75%
|
|======================================================================| 100%
Compute quantifications
|
| | 0%
|
|================== | 25%
|
|=================================== | 50%
|
|==================================================== | 75%
|
|======================================================================| 100%
Format global results...
Import spectra from 1r files...
|
| | 0%
|
|=================================== | 50%
|
|======================================================================| 100%
Normalisation method : CS
Remove areas from spectrum and library
|
| | 0%
|
|=================================== | 50%
|
|======================================================================| 100%
Compute weights
|
| | 0%
|
|=================================== | 50%
|
|======================================================================| 100%
Remove metabolites that cannot belong to the mixture
|
| | 0%
|
|=================================== | 50%
|
|======================================================================| 100%
Translate library
Compute shifts for all maximum shift values
|
| | 0%
|
|=================================== | 50%
|
|======================================================================| 100%
|
| | 0%
|
|============== | 20%
|
|============================ | 40%
|
|========================================== | 60%
|
|======================================================== | 80%
|
|======================================================================| 100%
|
| | 0%
|
|============== | 20%
|
|============================ | 40%
|
|========================================== | 60%
|
|======================================================== | 80%
|
|======================================================================| 100%
Put the median shift for extreme shift values
|
| | 0%
|
|============== | 20%
|
|============================ | 40%
|
|========================================== | 60%
|
|======================================================== | 80%
|
|======================================================================| 100%
|
| | 0%
|
|============== | 20%
|
|============================ | 40%
|
|========================================== | 60%
|
|======================================================== | 80%
|
|======================================================================| 100%
|
| | 0%
|
|============== | 20%
|
|============================ | 40%
|
|========================================== | 60%
|
|======================================================== | 80%
|
|======================================================================| 100%
Compute correlations between buckets and quantifications
|
| | 0%
|
|============== | 20%
|
|============================ | 40%
|
|========================================== | 60%
|
|======================================================== | 80%
|
|======================================================================| 100%
Shift all spectra according to the best shift
|
| | 0%
|
|=================================== | 50%
|
|======================================================================| 100%
Deform library peaks
|
| | 0%
|
|=================================== | 50%
|
|======================================================================| 100%
Compute quantifications
|
| | 0%
|
|=================================== | 50%
|
|======================================================================| 100%
Format global results...
Remove areas from spectrum and library
|
| | 0%
|
|=================================== | 50%
|
|======================================================================| 100%
Compute weights
|
| | 0%
|
|=================================== | 50%
|
|======================================================================| 100%
Remove metabolites that cannot belong to the mixture
|
| | 0%
|
|=================================== | 50%
|
|======================================================================| 100%
Translate library
Compute shifts for all maximum shift values
|
| | 0%
|
|=================================== | 50%
|
|======================================================================| 100%
|
| | 0%
|
|============== | 20%
|
|============================ | 40%
|
|========================================== | 60%
|
|======================================================== | 80%
|
|======================================================================| 100%
|
| | 0%
|
|============== | 20%
|
|============================ | 40%
|
|========================================== | 60%
|
|======================================================== | 80%
|
|======================================================================| 100%
Put the median shift for extreme shift values
|
| | 0%
|
|============== | 20%
|
|============================ | 40%
|
|========================================== | 60%
|
|======================================================== | 80%
|
|======================================================================| 100%
|
| | 0%
|
|============== | 20%
|
|============================ | 40%
|
|========================================== | 60%
|
|======================================================== | 80%
|
|======================================================================| 100%
|
| | 0%
|
|============== | 20%
|
|============================ | 40%
|
|========================================== | 60%
|
|======================================================== | 80%
|
|======================================================================| 100%
Compute correlations between buckets and quantifications
|
| | 0%
|
|============== | 20%
|
|============================ | 40%
|
|========================================== | 60%
|
|======================================================== | 80%
|
|======================================================================| 100%
Shift all spectra according to the best shift
|
| | 0%
|
|=================================== | 50%
|
|======================================================================| 100%
Deform library peaks
|
| | 0%
|
|=================================== | 50%
|
|======================================================================| 100%
Compute quantifications
|
| | 0%
|
|=================================== | 50%
|
|======================================================================| 100%
Format global results...
[ FAIL 0 | WARN 6 | SKIP 0 | PASS 23 ]
>
> proc.time()
user system elapsed
373.408 11.920 386.310
ASICS.Rcheck/ASICS-Ex.timings
| name | user | system | elapsed | |
| ASICS | 38.460 | 0.692 | 39.227 | |
| ASICSUsersGuide | 0.000 | 0.000 | 0.002 | |
| accessors-methods | 0.140 | 0.016 | 0.155 | |
| alignSpectra | 1.968 | 0.036 | 2.007 | |
| binning | 0.208 | 0.000 | 0.211 | |
| combineAndSubset-methods | 0.052 | 0.000 | 0.053 | |
| createPureLibrary | 0.176 | 0.008 | 0.222 | |
| createSpectra | 0.148 | 0.000 | 0.164 | |
| formatForAnalysis | 1.280 | 0.040 | 1.355 | |
| importSpectra | 0.828 | 0.024 | 0.981 | |
| importSpectraBruker | 0.088 | 0.000 | 0.092 | |
| kruskalWallis | 0.396 | 0.000 | 0.400 | |
| normaliseSpectra | 0.048 | 0.000 | 0.050 | |
| oplsda | 0.196 | 0.000 | 0.197 | |
| pca | 0.652 | 0.000 | 0.652 | |
| plotAlignment | 0.520 | 0.000 | 0.525 | |
| simulate_spectra | 48.536 | 2.900 | 51.605 | |
| summary-methods | 0.016 | 0.004 | 0.020 | |
| visualisation-methods-analyses | 1.176 | 0.008 | 1.187 | |
| visualisation-methods-spectra | 0.836 | 0.000 | 0.840 | |