| Back to Workflows build report for BioC 3.11 | 
This page was generated on 2020-10-16 17:00:15 -0400 (Fri, 16 Oct 2020).
| TO THE DEVELOPERS/MAINTAINERS OF THE EGSEA123 PACKAGE: Please make sure to use the following settings in order to reproduce any error or warning you see on this page. | 
| Package 8/27 | Hostname | OS / Arch | INSTALL | BUILD | ||||||
| EGSEA123 1.12.0 Matthew Ritchie 
 | malbec2 | Linux (Ubuntu 18.04.4 LTS) / x86_64 | [ OK ] | ERROR | 
| Package: EGSEA123 | 
| Version: 1.12.0 | 
| Command: /home/biocbuild/bbs-3.11-bioc/R/bin/R CMD INSTALL EGSEA123 | 
| StartedAt: 2020-10-16 09:01:14 -0400 (Fri, 16 Oct 2020) | 
| EndedAt: 2020-10-16 09:01:41 -0400 (Fri, 16 Oct 2020) | 
| EllapsedTime: 26.4 seconds | 
| RetCode: 0 | 
| Status: OK | 
############################################################################## ############################################################################## ### ### Running command: ### ### /home/biocbuild/bbs-3.11-bioc/R/bin/R CMD INSTALL EGSEA123 ### ############################################################################## ############################################################################## * installing to library ‘/home/biocbuild/bbs-3.11-bioc/R/library’ * installing *source* package ‘EGSEA123’ ... ** using staged installation ** help No man pages found in package ‘EGSEA123’ *** installing help indices ** building package indices ** installing vignettes ** testing if installed package can be loaded from temporary location groupGOTerms: GOBPTerm, GOMFTerm, GOCCTerm environments built. ** testing if installed package can be loaded from final location groupGOTerms: GOBPTerm, GOMFTerm, GOCCTerm environments built. ** testing if installed package keeps a record of temporary installation path * DONE (EGSEA123)