| Back to Build/check report for BioC 3.11 experimental data |
This page was generated on 2020-10-15 20:46:01 -0400 (Thu, 15 Oct 2020).
| TO THE DEVELOPERS/MAINTAINERS OF THE signatureSearchData PACKAGE: Please make sure to use the following settings in order to reproduce any error or warning you see on this page. |
| Package 338/391 | Hostname | OS / Arch | INSTALL | BUILD | CHECK | ||||||
| signatureSearchData 1.2.2 Yuzhu Duan
| malbec2 | Linux (Ubuntu 18.04.4 LTS) / x86_64 | OK | [ OK ] | OK |
| Package: signatureSearchData |
| Version: 1.2.2 |
| Command: /home/biocbuild/bbs-3.11-bioc/R/bin/R CMD build --keep-empty-dirs --no-resave-data signatureSearchData |
| StartedAt: 2020-10-15 12:34:50 -0400 (Thu, 15 Oct 2020) |
| EndedAt: 2020-10-15 12:37:46 -0400 (Thu, 15 Oct 2020) |
| EllapsedTime: 175.8 seconds |
| RetCode: 0 |
| Status: OK |
| PackageFile: signatureSearchData_1.2.2.tar.gz |
| PackageFileSize: 642.8 KiB |
############################################################################## ############################################################################## ### ### Running command: ### ### /home/biocbuild/bbs-3.11-bioc/R/bin/R CMD build --keep-empty-dirs --no-resave-data signatureSearchData ### ############################################################################## ############################################################################## * checking for file ‘signatureSearchData/DESCRIPTION’ ... OK * preparing ‘signatureSearchData’: * checking DESCRIPTION meta-information ... OK * installing the package to build vignettes * creating vignettes ... OK * checking for LF line-endings in source and make files and shell scripts * checking for empty or unneeded directories * building ‘signatureSearchData_1.2.2.tar.gz’