Back to "Blame Jeroen" build/check report for BioC 3.11 |
This page was generated on 2020-04-15 03:20:12 -0400 (Wed, 15 Apr 2020).
These builds are using Rtools40 and R-testing by Jeroen Ooms (available at https://cran.r-project.org/bin/windows/testing/rtools40.html) |
TO THE DEVELOPERS/MAINTAINERS OF THE tximeta PACKAGE: Please make sure to use the following settings in order to reproduce any error or warning you see on this page. |
Package 83/89 | Hostname | OS / Arch | INSTALL | BUILD | CHECK | BUILD BIN | |||||
tximeta 1.5.31 Michael Love
| tokay2 | Windows Server 2012 R2 Standard / x64 | [ OK ] | OK | OK | OK |
Package: tximeta |
Version: 1.5.31 |
Command: C:\cygwin\bin\curl.exe -O https://malbec2.bioconductor.org/BBS/3.11/bioc-testing/src/contrib/tximeta_1.5.31.tar.gz && rm -rf tximeta.buildbin-libdir && mkdir tximeta.buildbin-libdir && C:\Users\bioctesting\bbs-3.11-bioc-testing\R\bin\R.exe CMD INSTALL --merge-multiarch --build --library=tximeta.buildbin-libdir tximeta_1.5.31.tar.gz && C:\Users\bioctesting\bbs-3.11-bioc-testing\R\bin\R.exe CMD INSTALL tximeta_1.5.31.zip && rm tximeta_1.5.31.tar.gz tximeta_1.5.31.zip |
StartedAt: 2020-04-14 18:28:05 -0400 (Tue, 14 Apr 2020) |
EndedAt: 2020-04-14 18:28:47 -0400 (Tue, 14 Apr 2020) |
EllapsedTime: 42.6 seconds |
RetCode: 0 |
Status: OK |
############################################################################## ############################################################################## ### ### Running command: ### ### C:\cygwin\bin\curl.exe -O https://malbec2.bioconductor.org/BBS/3.11/bioc-testing/src/contrib/tximeta_1.5.31.tar.gz && rm -rf tximeta.buildbin-libdir && mkdir tximeta.buildbin-libdir && C:\Users\bioctesting\bbs-3.11-bioc-testing\R\bin\R.exe CMD INSTALL --merge-multiarch --build --library=tximeta.buildbin-libdir tximeta_1.5.31.tar.gz && C:\Users\bioctesting\bbs-3.11-bioc-testing\R\bin\R.exe CMD INSTALL tximeta_1.5.31.zip && rm tximeta_1.5.31.tar.gz tximeta_1.5.31.zip ### ############################################################################## ############################################################################## % Total % Received % Xferd Average Speed Time Time Time Current Dload Upload Total Spent Left Speed 0 0 0 0 0 0 0 0 --:--:-- --:--:-- --:--:-- 0 100 372k 100 372k 0 0 3364k 0 --:--:-- --:--:-- --:--:-- 3549k install for i386 * installing *source* package 'tximeta' ... ** using staged installation ** R ** inst ** byte-compile and prepare package for lazy loading ** help *** installing help indices converting help for package 'tximeta' finding HTML links ... done addExons html addIds html getTximetaBFC html linkedTxome html makeDGEList html retrieveDb html splitSE html summarizeToGene html tximeta-package html finding level-2 HTML links ... done tximeta html ** building package indices ** installing vignettes ** testing if installed package can be loaded from temporary location ** testing if installed package can be loaded from final location ** testing if installed package keeps a record of temporary installation path install for x64 * installing *source* package 'tximeta' ... ** testing if installed package can be loaded * MD5 sums packaged installation of 'tximeta' as tximeta_1.5.31.zip * DONE (tximeta) * installing to library 'C:/Users/bioctesting/bbs-3.11-bioc-testing/R/library' package 'tximeta' successfully unpacked and MD5 sums checked