Back to "Blame Jeroen" build/check report for BioC 3.11 |
This page was generated on 2020-04-15 03:20:12 -0400 (Wed, 15 Apr 2020).
These builds are using Rtools40 and R-testing by Jeroen Ooms (available at https://cran.r-project.org/bin/windows/testing/rtools40.html) |
TO THE DEVELOPERS/MAINTAINERS OF THE tximeta PACKAGE: Please make sure to use the following settings in order to reproduce any error or warning you see on this page. |
Package 83/89 | Hostname | OS / Arch | INSTALL | BUILD | CHECK | BUILD BIN | |||||
tximeta 1.5.31 Michael Love
| tokay2 | Windows Server 2012 R2 Standard / x64 | OK | [ OK ] | OK | OK |
Package: tximeta |
Version: 1.5.31 |
Command: chmod a+r tximeta -R && C:\Users\bioctesting\bbs-3.11-bioc-testing\R\bin\R.exe CMD build --keep-empty-dirs --no-resave-data tximeta |
StartedAt: 2020-04-14 19:29:46 -0400 (Tue, 14 Apr 2020) |
EndedAt: 2020-04-14 19:33:01 -0400 (Tue, 14 Apr 2020) |
EllapsedTime: 195.3 seconds |
RetCode: 0 |
Status: OK |
PackageFile: tximeta_1.5.31.tar.gz |
PackageFileSize: 972.8 KiB |
############################################################################## ############################################################################## ### ### Running command: ### ### chmod a+r tximeta -R && C:\Users\bioctesting\bbs-3.11-bioc-testing\R\bin\R.exe CMD build --keep-empty-dirs --no-resave-data tximeta ### ############################################################################## ############################################################################## * checking for file 'tximeta/DESCRIPTION' ... OK * preparing 'tximeta': * checking DESCRIPTION meta-information ... OK * installing the package to build vignettes * creating vignettes ... OK * checking for LF line-endings in source and make files and shell scripts * checking for empty or unneeded directories * building 'tximeta_1.5.31.tar.gz'