Back to Multiple platform build/check report for BioC 3.11 (small subset of software packages ONLY) |
This page was generated on 2020-01-24 03:57:03 -0500 (Fri, 24 Jan 2020).
Package 13/41 | Hostname | OS / Arch | INSTALL | BUILD | CHECK | BUILD BIN | |||||
biomaRt 2.43.1 Mike Smith
| malbec2 | Linux (Ubuntu 18.04.3 LTS) / x86_64 | OK | [ OK ] | OK | ||||||
tokay2 | Windows Server 2012 R2 Standard / x64 | OK | ERROR | skipped | skipped |
Package: biomaRt |
Version: 2.43.1 |
Command: /home/biocbuild/bbs-3.11-bioc/R/bin/R CMD build --keep-empty-dirs --no-resave-data biomaRt |
StartedAt: 2020-01-24 02:32:50 -0500 (Fri, 24 Jan 2020) |
EndedAt: 2020-01-24 02:35:04 -0500 (Fri, 24 Jan 2020) |
EllapsedTime: 134.5 seconds |
RetCode: 0 |
Status: OK |
PackageFile: biomaRt_2.43.1.tar.gz |
PackageFileSize: 356.9 KiB |
############################################################################## ############################################################################## ### ### Running command: ### ### /home/biocbuild/bbs-3.11-bioc/R/bin/R CMD build --keep-empty-dirs --no-resave-data biomaRt ### ############################################################################## ############################################################################## * checking for file ‘biomaRt/DESCRIPTION’ ... OK * preparing ‘biomaRt’: * checking DESCRIPTION meta-information ... OK * installing the package to build vignettes * creating vignettes ... OK * checking for LF line-endings in source and make files and shell scripts * checking for empty or unneeded directories * building ‘biomaRt_2.43.1.tar.gz’