Back to Multiple platform build/check report for BioC 3.11 (small subset of software packages ONLY) |
This page was generated on 2020-01-24 03:57:03 -0500 (Fri, 24 Jan 2020).
Package 13/41 | Hostname | OS / Arch | INSTALL | BUILD | CHECK | BUILD BIN | |||||
biomaRt 2.43.1 Mike Smith
| malbec2 | Linux (Ubuntu 18.04.3 LTS) / x86_64 | [ OK ] | OK | OK | ||||||
tokay2 | Windows Server 2012 R2 Standard / x64 | OK | ERROR | skipped | skipped |
Package: biomaRt |
Version: 2.43.1 |
Command: /home/biocbuild/bbs-3.11-bioc/R/bin/R CMD INSTALL biomaRt |
StartedAt: 2020-01-24 02:10:06 -0500 (Fri, 24 Jan 2020) |
EndedAt: 2020-01-24 02:10:23 -0500 (Fri, 24 Jan 2020) |
EllapsedTime: 17.0 seconds |
RetCode: 0 |
Status: OK |
############################################################################## ############################################################################## ### ### Running command: ### ### /home/biocbuild/bbs-3.11-bioc/R/bin/R CMD INSTALL biomaRt ### ############################################################################## ############################################################################## * installing to library ‘/home/biocbuild/bbs-3.11-bioc-testing/Rlibs’ * installing *source* package ‘biomaRt’ ... ** using staged installation ** R ** inst ** byte-compile and prepare package for lazy loading ** help *** installing help indices ** building package indices ** installing vignettes ** testing if installed package can be loaded from temporary location ** testing if installed package can be loaded from final location ** testing if installed package keeps a record of temporary installation path * DONE (biomaRt)