Back to "Blame Jeroen" build/check report for BioC 3.11 |
This page was generated on 2020-04-15 03:20:14 -0400 (Wed, 15 Apr 2020).
These builds are using Rtools40 and R-testing by Jeroen Ooms (available at https://cran.r-project.org/bin/windows/testing/rtools40.html) |
TO THE DEVELOPERS/MAINTAINERS OF THE Rgraphviz PACKAGE: Please make sure to use the following settings in order to reproduce any error or warning you see on this page. |
Package 67/89 | Hostname | OS / Arch | INSTALL | BUILD | CHECK | BUILD BIN | |||||
Rgraphviz 2.31.0 Kasper Daniel Hansen
| tokay2 | Windows Server 2012 R2 Standard / x64 | [ OK ] | ERROR | skipped | skipped |
Package: Rgraphviz |
Version: 2.31.0 |
Command: C:\cygwin\bin\curl.exe -O https://malbec2.bioconductor.org/BBS/3.11/bioc-testing/src/contrib/Rgraphviz_2.31.0.tar.gz && rm -rf Rgraphviz.buildbin-libdir && mkdir Rgraphviz.buildbin-libdir && C:\Users\bioctesting\bbs-3.11-bioc-testing\R\bin\R.exe CMD INSTALL --merge-multiarch --build --library=Rgraphviz.buildbin-libdir Rgraphviz_2.31.0.tar.gz && C:\Users\bioctesting\bbs-3.11-bioc-testing\R\bin\R.exe CMD INSTALL Rgraphviz_2.31.0.zip && rm Rgraphviz_2.31.0.tar.gz Rgraphviz_2.31.0.zip |
StartedAt: 2020-04-14 18:13:19 -0400 (Tue, 14 Apr 2020) |
EndedAt: 2020-04-14 18:14:05 -0400 (Tue, 14 Apr 2020) |
EllapsedTime: 46.0 seconds |
RetCode: 0 |
Status: OK |
############################################################################## ############################################################################## ### ### Running command: ### ### C:\cygwin\bin\curl.exe -O https://malbec2.bioconductor.org/BBS/3.11/bioc-testing/src/contrib/Rgraphviz_2.31.0.tar.gz && rm -rf Rgraphviz.buildbin-libdir && mkdir Rgraphviz.buildbin-libdir && C:\Users\bioctesting\bbs-3.11-bioc-testing\R\bin\R.exe CMD INSTALL --merge-multiarch --build --library=Rgraphviz.buildbin-libdir Rgraphviz_2.31.0.tar.gz && C:\Users\bioctesting\bbs-3.11-bioc-testing\R\bin\R.exe CMD INSTALL Rgraphviz_2.31.0.zip && rm Rgraphviz_2.31.0.tar.gz Rgraphviz_2.31.0.zip ### ############################################################################## ############################################################################## % Total % Received % Xferd Average Speed Time Time Time Current Dload Upload Total Spent Left Speed 0 0 0 0 0 0 0 0 --:--:-- --:--:-- --:--:-- 0 100 6787k 100 6787k 0 0 18.1M 0 --:--:-- --:--:-- --:--:-- 18.4M install for i386 * installing *source* package 'Rgraphviz' ... ** using staged installation ********************************************** WARNING: this package has a configure script It probably needs manual configuration ********************************************** ** libs /mingw32/bin/gcc -I"C:/Users/BIOCTE~1/BBS-3~1.11-/R/include" -DNDEBUG -I"C:/extsoft/include" -Ilibwin/i386/include/graphviz -DHAVE_STDBOOL_H=1 -DHAVE_BOOL=1 -DGRAPHVIZ_MAJOR=2 -DGRAPHVIZ_MINOR=28 -DGRAPHVIZ_STATIC -O2 -Wall -std=gnu99 -mfpmath=sse -msse2 -mstackrealign -c LL_funcs.c -o LL_funcs.o LL_funcs.c: In function 'Rgraphviz_agopenSimple': LL_funcs.c:430:29: warning: variable 'curNode' set but not used [-Wunused-but-set-variable] Agnode_t *head, *tail, *curNode; ^~~~~~~ /mingw32/bin/gcc -I"C:/Users/BIOCTE~1/BBS-3~1.11-/R/include" -DNDEBUG -I"C:/extsoft/include" -Ilibwin/i386/include/graphviz -DHAVE_STDBOOL_H=1 -DHAVE_BOOL=1 -DGRAPHVIZ_MAJOR=2 -DGRAPHVIZ_MINOR=28 -DGRAPHVIZ_STATIC -O2 -Wall -std=gnu99 -mfpmath=sse -msse2 -mstackrealign -c Rgraphviz.c -o Rgraphviz.o /mingw32/bin/gcc -I"C:/Users/BIOCTE~1/BBS-3~1.11-/R/include" -DNDEBUG -I"C:/extsoft/include" -Ilibwin/i386/include/graphviz -DHAVE_STDBOOL_H=1 -DHAVE_BOOL=1 -DGRAPHVIZ_MAJOR=2 -DGRAPHVIZ_MINOR=28 -DGRAPHVIZ_STATIC -O2 -Wall -std=gnu99 -mfpmath=sse -msse2 -mstackrealign -c RgraphvizInit.c -o RgraphvizInit.o /mingw32/bin/gcc -I"C:/Users/BIOCTE~1/BBS-3~1.11-/R/include" -DNDEBUG -I"C:/extsoft/include" -Ilibwin/i386/include/graphviz -DHAVE_STDBOOL_H=1 -DHAVE_BOOL=1 -DGRAPHVIZ_MAJOR=2 -DGRAPHVIZ_MINOR=28 -DGRAPHVIZ_STATIC -O2 -Wall -std=gnu99 -mfpmath=sse -msse2 -mstackrealign -c agopen.c -o agopen.o /mingw32/bin/gcc -I"C:/Users/BIOCTE~1/BBS-3~1.11-/R/include" -DNDEBUG -I"C:/extsoft/include" -Ilibwin/i386/include/graphviz -DHAVE_STDBOOL_H=1 -DHAVE_BOOL=1 -DGRAPHVIZ_MAJOR=2 -DGRAPHVIZ_MINOR=28 -DGRAPHVIZ_STATIC -O2 -Wall -std=gnu99 -mfpmath=sse -msse2 -mstackrealign -c agread.c -o agread.o /mingw32/bin/gcc -I"C:/Users/BIOCTE~1/BBS-3~1.11-/R/include" -DNDEBUG -I"C:/extsoft/include" -Ilibwin/i386/include/graphviz -DHAVE_STDBOOL_H=1 -DHAVE_BOOL=1 -DGRAPHVIZ_MAJOR=2 -DGRAPHVIZ_MINOR=28 -DGRAPHVIZ_STATIC -O2 -Wall -std=gnu99 -mfpmath=sse -msse2 -mstackrealign -c agwrite.c -o agwrite.o /mingw32/bin/gcc -I"C:/Users/BIOCTE~1/BBS-3~1.11-/R/include" -DNDEBUG -I"C:/extsoft/include" -Ilibwin/i386/include/graphviz -DHAVE_STDBOOL_H=1 -DHAVE_BOOL=1 -DGRAPHVIZ_MAJOR=2 -DGRAPHVIZ_MINOR=28 -DGRAPHVIZ_STATIC -O2 -Wall -std=gnu99 -mfpmath=sse -msse2 -mstackrealign -c bezier.c -o bezier.o /mingw32/bin/gcc -I"C:/Users/BIOCTE~1/BBS-3~1.11-/R/include" -DNDEBUG -I"C:/extsoft/include" -Ilibwin/i386/include/graphviz -DHAVE_STDBOOL_H=1 -DHAVE_BOOL=1 -DGRAPHVIZ_MAJOR=2 -DGRAPHVIZ_MINOR=28 -DGRAPHVIZ_STATIC -O2 -Wall -std=gnu99 -mfpmath=sse -msse2 -mstackrealign -c buildEdgeList.c -o buildEdgeList.o /mingw32/bin/gcc -I"C:/Users/BIOCTE~1/BBS-3~1.11-/R/include" -DNDEBUG -I"C:/extsoft/include" -Ilibwin/i386/include/graphviz -DHAVE_STDBOOL_H=1 -DHAVE_BOOL=1 -DGRAPHVIZ_MAJOR=2 -DGRAPHVIZ_MINOR=28 -DGRAPHVIZ_STATIC -O2 -Wall -std=gnu99 -mfpmath=sse -msse2 -mstackrealign -c buildNodeList.c -o buildNodeList.o /mingw32/bin/gcc -I"C:/Users/BIOCTE~1/BBS-3~1.11-/R/include" -DNDEBUG -I"C:/extsoft/include" -Ilibwin/i386/include/graphviz -DHAVE_STDBOOL_H=1 -DHAVE_BOOL=1 -DGRAPHVIZ_MAJOR=2 -DGRAPHVIZ_MINOR=28 -DGRAPHVIZ_STATIC -O2 -Wall -std=gnu99 -mfpmath=sse -msse2 -mstackrealign -c doLayout.c -o doLayout.o /mingw32/bin/gcc -I"C:/Users/BIOCTE~1/BBS-3~1.11-/R/include" -DNDEBUG -I"C:/extsoft/include" -Ilibwin/i386/include/graphviz -DHAVE_STDBOOL_H=1 -DHAVE_BOOL=1 -DGRAPHVIZ_MAJOR=2 -DGRAPHVIZ_MINOR=28 -DGRAPHVIZ_STATIC -O2 -Wall -std=gnu99 -mfpmath=sse -msse2 -mstackrealign -c graphvizVersion.c -o graphvizVersion.o /mingw32/bin/gcc -I"C:/Users/BIOCTE~1/BBS-3~1.11-/R/include" -DNDEBUG -I"C:/extsoft/include" -Ilibwin/i386/include/graphviz -DHAVE_STDBOOL_H=1 -DHAVE_BOOL=1 -DGRAPHVIZ_MAJOR=2 -DGRAPHVIZ_MINOR=28 -DGRAPHVIZ_STATIC -O2 -Wall -std=gnu99 -mfpmath=sse -msse2 -mstackrealign -c init.c -o init.o /mingw32/bin/gcc -shared -s -static-libgcc -o Rgraphviz.dll tmp.def LL_funcs.o Rgraphviz.o RgraphvizInit.o agopen.o agread.o agwrite.o bezier.o buildEdgeList.o buildNodeList.o doLayout.o graphvizVersion.o init.o libwin/i386/lib/libxdot.a libwin/i386/lib/libgvplugin_dot_layout.a libwin/i386/lib/libgvplugin_neato_layout.a libwin/i386/lib/libgvplugin_core.a libwin/i386/lib/libgvc.a libwin/i386/lib/libpathplan.a libwin/i386/lib/libgraph.a libwin/i386/lib/libcdt.a -LC:/extsoft/lib/i386 -LC:/extsoft/lib -LC:/Users/BIOCTE~1/BBS-3~1.11-/R/bin/i386 -lR sed "s!@GRAPHVIZ_VERSION@!"2.28.0"!" ../R/graphviz_build_version.R.in |\ sed "s!@GRAPHVIZ_BUNDLED@!TRUE!" > ../R/graphviz_build_version.R installing to C:/Users/bioctesting/bbs-3.11-bioc-testing/meat/Rgraphviz.buildbin-libdir/00LOCK-Rgraphviz/00new/Rgraphviz/libs/i386 ** R ** inst ** byte-compile and prepare package for lazy loading ** help *** installing help indices converting help for package 'Rgraphviz' finding HTML links ... done AgEdge-class html AgNode-class html AgTextLabel-class html BezierCurve-class html GraphvizAttributes html GraphvizLayouts html Ragraph-class html agopen html agopenSimple html agwrite html boundingBox-class html buildNodeList html clusterData-methods html getDefaultAttrs html graphData-methods html graphDataDefaults-methods html graphLayout html graphvizCapabilities html graphvizVersion html layoutGraph html makeNodeAttrs html pEdge-class html pNode-class html pieGlyph html plot-methods html removedEdges html renderGraph html toDot-methods html toFile html xyPoint-class html ** building package indices ** installing vignettes ** testing if installed package can be loaded from temporary location ** testing if installed package can be loaded from final location ** testing if installed package keeps a record of temporary installation path install for x64 * installing *source* package 'Rgraphviz' ... ********************************************** WARNING: this package has a configure script It probably needs manual configuration ********************************************** ** libs /mingw64/bin/gcc -I"C:/Users/BIOCTE~1/BBS-3~1.11-/R/include" -DNDEBUG -I"C:/extsoft/include" -Ilibwin/x64/include/graphviz -DHAVE_STDBOOL_H=1 -DHAVE_BOOL=1 -DGRAPHVIZ_MAJOR=2 -DGRAPHVIZ_MINOR=28 -DGRAPHVIZ_STATIC -O2 -Wall -std=gnu99 -mfpmath=sse -msse2 -mstackrealign -c LL_funcs.c -o LL_funcs.o LL_funcs.c: In function 'Rgraphviz_agopenSimple': LL_funcs.c:430:29: warning: variable 'curNode' set but not used [-Wunused-but-set-variable] Agnode_t *head, *tail, *curNode; ^~~~~~~ /mingw64/bin/gcc -I"C:/Users/BIOCTE~1/BBS-3~1.11-/R/include" -DNDEBUG -I"C:/extsoft/include" -Ilibwin/x64/include/graphviz -DHAVE_STDBOOL_H=1 -DHAVE_BOOL=1 -DGRAPHVIZ_MAJOR=2 -DGRAPHVIZ_MINOR=28 -DGRAPHVIZ_STATIC -O2 -Wall -std=gnu99 -mfpmath=sse -msse2 -mstackrealign -c Rgraphviz.c -o Rgraphviz.o /mingw64/bin/gcc -I"C:/Users/BIOCTE~1/BBS-3~1.11-/R/include" -DNDEBUG -I"C:/extsoft/include" -Ilibwin/x64/include/graphviz -DHAVE_STDBOOL_H=1 -DHAVE_BOOL=1 -DGRAPHVIZ_MAJOR=2 -DGRAPHVIZ_MINOR=28 -DGRAPHVIZ_STATIC -O2 -Wall -std=gnu99 -mfpmath=sse -msse2 -mstackrealign -c RgraphvizInit.c -o RgraphvizInit.o /mingw64/bin/gcc -I"C:/Users/BIOCTE~1/BBS-3~1.11-/R/include" -DNDEBUG -I"C:/extsoft/include" -Ilibwin/x64/include/graphviz -DHAVE_STDBOOL_H=1 -DHAVE_BOOL=1 -DGRAPHVIZ_MAJOR=2 -DGRAPHVIZ_MINOR=28 -DGRAPHVIZ_STATIC -O2 -Wall -std=gnu99 -mfpmath=sse -msse2 -mstackrealign -c agopen.c -o agopen.o /mingw64/bin/gcc -I"C:/Users/BIOCTE~1/BBS-3~1.11-/R/include" -DNDEBUG -I"C:/extsoft/include" -Ilibwin/x64/include/graphviz -DHAVE_STDBOOL_H=1 -DHAVE_BOOL=1 -DGRAPHVIZ_MAJOR=2 -DGRAPHVIZ_MINOR=28 -DGRAPHVIZ_STATIC -O2 -Wall -std=gnu99 -mfpmath=sse -msse2 -mstackrealign -c agread.c -o agread.o /mingw64/bin/gcc -I"C:/Users/BIOCTE~1/BBS-3~1.11-/R/include" -DNDEBUG -I"C:/extsoft/include" -Ilibwin/x64/include/graphviz -DHAVE_STDBOOL_H=1 -DHAVE_BOOL=1 -DGRAPHVIZ_MAJOR=2 -DGRAPHVIZ_MINOR=28 -DGRAPHVIZ_STATIC -O2 -Wall -std=gnu99 -mfpmath=sse -msse2 -mstackrealign -c agwrite.c -o agwrite.o /mingw64/bin/gcc -I"C:/Users/BIOCTE~1/BBS-3~1.11-/R/include" -DNDEBUG -I"C:/extsoft/include" -Ilibwin/x64/include/graphviz -DHAVE_STDBOOL_H=1 -DHAVE_BOOL=1 -DGRAPHVIZ_MAJOR=2 -DGRAPHVIZ_MINOR=28 -DGRAPHVIZ_STATIC -O2 -Wall -std=gnu99 -mfpmath=sse -msse2 -mstackrealign -c bezier.c -o bezier.o /mingw64/bin/gcc -I"C:/Users/BIOCTE~1/BBS-3~1.11-/R/include" -DNDEBUG -I"C:/extsoft/include" -Ilibwin/x64/include/graphviz -DHAVE_STDBOOL_H=1 -DHAVE_BOOL=1 -DGRAPHVIZ_MAJOR=2 -DGRAPHVIZ_MINOR=28 -DGRAPHVIZ_STATIC -O2 -Wall -std=gnu99 -mfpmath=sse -msse2 -mstackrealign -c buildEdgeList.c -o buildEdgeList.o /mingw64/bin/gcc -I"C:/Users/BIOCTE~1/BBS-3~1.11-/R/include" -DNDEBUG -I"C:/extsoft/include" -Ilibwin/x64/include/graphviz -DHAVE_STDBOOL_H=1 -DHAVE_BOOL=1 -DGRAPHVIZ_MAJOR=2 -DGRAPHVIZ_MINOR=28 -DGRAPHVIZ_STATIC -O2 -Wall -std=gnu99 -mfpmath=sse -msse2 -mstackrealign -c buildNodeList.c -o buildNodeList.o /mingw64/bin/gcc -I"C:/Users/BIOCTE~1/BBS-3~1.11-/R/include" -DNDEBUG -I"C:/extsoft/include" -Ilibwin/x64/include/graphviz -DHAVE_STDBOOL_H=1 -DHAVE_BOOL=1 -DGRAPHVIZ_MAJOR=2 -DGRAPHVIZ_MINOR=28 -DGRAPHVIZ_STATIC -O2 -Wall -std=gnu99 -mfpmath=sse -msse2 -mstackrealign -c doLayout.c -o doLayout.o /mingw64/bin/gcc -I"C:/Users/BIOCTE~1/BBS-3~1.11-/R/include" -DNDEBUG -I"C:/extsoft/include" -Ilibwin/x64/include/graphviz -DHAVE_STDBOOL_H=1 -DHAVE_BOOL=1 -DGRAPHVIZ_MAJOR=2 -DGRAPHVIZ_MINOR=28 -DGRAPHVIZ_STATIC -O2 -Wall -std=gnu99 -mfpmath=sse -msse2 -mstackrealign -c graphvizVersion.c -o graphvizVersion.o /mingw64/bin/gcc -I"C:/Users/BIOCTE~1/BBS-3~1.11-/R/include" -DNDEBUG -I"C:/extsoft/include" -Ilibwin/x64/include/graphviz -DHAVE_STDBOOL_H=1 -DHAVE_BOOL=1 -DGRAPHVIZ_MAJOR=2 -DGRAPHVIZ_MINOR=28 -DGRAPHVIZ_STATIC -O2 -Wall -std=gnu99 -mfpmath=sse -msse2 -mstackrealign -c init.c -o init.o /mingw64/bin/gcc -shared -s -static-libgcc -o Rgraphviz.dll tmp.def LL_funcs.o Rgraphviz.o RgraphvizInit.o agopen.o agread.o agwrite.o bezier.o buildEdgeList.o buildNodeList.o doLayout.o graphvizVersion.o init.o libwin/x64/lib/libxdot.a libwin/x64/lib/libgvplugin_dot_layout.a libwin/x64/lib/libgvplugin_neato_layout.a libwin/x64/lib/libgvplugin_core.a libwin/x64/lib/libgvc.a libwin/x64/lib/libpathplan.a libwin/x64/lib/libgraph.a libwin/x64/lib/libcdt.a -LC:/extsoft/lib/x64 -LC:/extsoft/lib -LC:/Users/BIOCTE~1/BBS-3~1.11-/R/bin/x64 -lR sed "s!@GRAPHVIZ_VERSION@!"2.28.0"!" ../R/graphviz_build_version.R.in |\ sed "s!@GRAPHVIZ_BUNDLED@!TRUE!" > ../R/graphviz_build_version.R installing to C:/Users/bioctesting/bbs-3.11-bioc-testing/meat/Rgraphviz.buildbin-libdir/Rgraphviz/libs/x64 ** testing if installed package can be loaded * MD5 sums packaged installation of 'Rgraphviz' as Rgraphviz_2.31.0.zip * DONE (Rgraphviz) * installing to library 'C:/Users/bioctesting/bbs-3.11-bioc-testing/R/library' package 'Rgraphviz' successfully unpacked and MD5 sums checked