Back to "Blame Jeroen" build/check report for BioC 3.11 |
This page was generated on 2020-04-15 03:20:14 -0400 (Wed, 15 Apr 2020).
These builds are using Rtools40 and R-testing by Jeroen Ooms (available at https://cran.r-project.org/bin/windows/testing/rtools40.html) |
TO THE DEVELOPERS/MAINTAINERS OF THE ProtGenerics PACKAGE: Please make sure to use the following settings in order to reproduce any error or warning you see on this page. |
Package 63/89 | Hostname | OS / Arch | INSTALL | BUILD | CHECK | BUILD BIN | |||||
ProtGenerics 1.19.3 Laurent Gatto
| tokay2 | Windows Server 2012 R2 Standard / x64 | [ OK ] | OK | WARNINGS | OK |
Package: ProtGenerics |
Version: 1.19.3 |
Command: C:\cygwin\bin\curl.exe -O https://malbec2.bioconductor.org/BBS/3.11/bioc-testing/src/contrib/ProtGenerics_1.19.3.tar.gz && rm -rf ProtGenerics.buildbin-libdir && mkdir ProtGenerics.buildbin-libdir && C:\Users\bioctesting\bbs-3.11-bioc-testing\R\bin\R.exe CMD INSTALL --merge-multiarch --build --library=ProtGenerics.buildbin-libdir ProtGenerics_1.19.3.tar.gz && C:\Users\bioctesting\bbs-3.11-bioc-testing\R\bin\R.exe CMD INSTALL ProtGenerics_1.19.3.zip && rm ProtGenerics_1.19.3.tar.gz ProtGenerics_1.19.3.zip |
StartedAt: 2020-04-14 17:43:06 -0400 (Tue, 14 Apr 2020) |
EndedAt: 2020-04-14 17:43:13 -0400 (Tue, 14 Apr 2020) |
EllapsedTime: 6.6 seconds |
RetCode: 0 |
Status: OK |
############################################################################## ############################################################################## ### ### Running command: ### ### C:\cygwin\bin\curl.exe -O https://malbec2.bioconductor.org/BBS/3.11/bioc-testing/src/contrib/ProtGenerics_1.19.3.tar.gz && rm -rf ProtGenerics.buildbin-libdir && mkdir ProtGenerics.buildbin-libdir && C:\Users\bioctesting\bbs-3.11-bioc-testing\R\bin\R.exe CMD INSTALL --merge-multiarch --build --library=ProtGenerics.buildbin-libdir ProtGenerics_1.19.3.tar.gz && C:\Users\bioctesting\bbs-3.11-bioc-testing\R\bin\R.exe CMD INSTALL ProtGenerics_1.19.3.zip && rm ProtGenerics_1.19.3.tar.gz ProtGenerics_1.19.3.zip ### ############################################################################## ############################################################################## % Total % Received % Xferd Average Speed Time Time Time Current Dload Upload Total Spent Left Speed 0 0 0 0 0 0 0 0 --:--:-- --:--:-- --:--:-- 0 100 5809 100 5809 0 0 120k 0 --:--:-- --:--:-- --:--:-- 141k install for i386 * installing *source* package 'ProtGenerics' ... ** using staged installation ** R ** byte-compile and prepare package for lazy loading Creating a new generic function for 'smooth' in package 'ProtGenerics' ** help *** installing help indices converting help for package 'ProtGenerics' finding HTML links ... done protgenerics html Rd warning: C:/Users/bioctesting/bbs-3.11-bioc-testing/tmpdir/Rtmpk3EGYX/R.INSTALL4d4104a56a3/ProtGenerics/man/protgenerics.Rd:206: file link 'selectMethod' in package 'methods' does not exist and so has been treated as a topic ** building package indices ** testing if installed package can be loaded from temporary location ** testing if installed package can be loaded from final location ** testing if installed package keeps a record of temporary installation path install for x64 * installing *source* package 'ProtGenerics' ... ** testing if installed package can be loaded * MD5 sums packaged installation of 'ProtGenerics' as ProtGenerics_1.19.3.zip * DONE (ProtGenerics) * installing to library 'C:/Users/bioctesting/bbs-3.11-bioc-testing/R/library' package 'ProtGenerics' successfully unpacked and MD5 sums checked