Back to "Blame Jeroen" build/check report for BioC 3.11 |
This page was generated on 2020-04-15 03:20:14 -0400 (Wed, 15 Apr 2020).
These builds are using Rtools40 and R-testing by Jeroen Ooms (available at https://cran.r-project.org/bin/windows/testing/rtools40.html) |
TO THE DEVELOPERS/MAINTAINERS OF THE ProtGenerics PACKAGE: Please make sure to use the following settings in order to reproduce any error or warning you see on this page. |
Package 63/89 | Hostname | OS / Arch | INSTALL | BUILD | CHECK | BUILD BIN | |||||
ProtGenerics 1.19.3 Laurent Gatto
| tokay2 | Windows Server 2012 R2 Standard / x64 | OK | [ OK ] | WARNINGS | OK |
Package: ProtGenerics |
Version: 1.19.3 |
Command: chmod a+r ProtGenerics -R && C:\Users\bioctesting\bbs-3.11-bioc-testing\R\bin\R.exe CMD build --keep-empty-dirs --no-resave-data ProtGenerics |
StartedAt: 2020-04-14 19:42:20 -0400 (Tue, 14 Apr 2020) |
EndedAt: 2020-04-14 19:42:21 -0400 (Tue, 14 Apr 2020) |
EllapsedTime: 1.0 seconds |
RetCode: 0 |
Status: OK |
PackageFile: ProtGenerics_1.19.3.tar.gz |
PackageFileSize: 5.48 KiB |
############################################################################## ############################################################################## ### ### Running command: ### ### chmod a+r ProtGenerics -R && C:\Users\bioctesting\bbs-3.11-bioc-testing\R\bin\R.exe CMD build --keep-empty-dirs --no-resave-data ProtGenerics ### ############################################################################## ############################################################################## * checking for file 'ProtGenerics/DESCRIPTION' ... OK * preparing 'ProtGenerics': * checking DESCRIPTION meta-information ... OK * checking for LF line-endings in source and make files and shell scripts * checking for empty or unneeded directories * building 'ProtGenerics_1.19.3.tar.gz'