| Back to "Blame Jeroen" build/check report for BioC 3.11 |
This page was generated on 2020-04-15 03:20:09 -0400 (Wed, 15 Apr 2020).
| These builds are using Rtools40 and R-testing by Jeroen Ooms (available at https://cran.r-project.org/bin/windows/testing/rtools40.html) |
| TO THE DEVELOPERS/MAINTAINERS OF THE OrganismDbi PACKAGE: Please make sure to use the following settings in order to reproduce any error or warning you see on this page. |
| Package 60/89 | Hostname | OS / Arch | INSTALL | BUILD | CHECK | BUILD BIN | |||||
| OrganismDbi 1.29.1 Bioconductor Package Maintainer
| tokay2 | Windows Server 2012 R2 Standard / x64 | [ OK ] | OK | WARNINGS | OK |
| Package: OrganismDbi |
| Version: 1.29.1 |
| Command: C:\cygwin\bin\curl.exe -O https://malbec2.bioconductor.org/BBS/3.11/bioc-testing/src/contrib/OrganismDbi_1.29.1.tar.gz && rm -rf OrganismDbi.buildbin-libdir && mkdir OrganismDbi.buildbin-libdir && C:\Users\bioctesting\bbs-3.11-bioc-testing\R\bin\R.exe CMD INSTALL --merge-multiarch --build --library=OrganismDbi.buildbin-libdir OrganismDbi_1.29.1.tar.gz && C:\Users\bioctesting\bbs-3.11-bioc-testing\R\bin\R.exe CMD INSTALL OrganismDbi_1.29.1.zip && rm OrganismDbi_1.29.1.tar.gz OrganismDbi_1.29.1.zip |
| StartedAt: 2020-04-14 18:22:22 -0400 (Tue, 14 Apr 2020) |
| EndedAt: 2020-04-14 18:23:08 -0400 (Tue, 14 Apr 2020) |
| EllapsedTime: 46.2 seconds |
| RetCode: 0 |
| Status: OK |
##############################################################################
##############################################################################
###
### Running command:
###
### C:\cygwin\bin\curl.exe -O https://malbec2.bioconductor.org/BBS/3.11/bioc-testing/src/contrib/OrganismDbi_1.29.1.tar.gz && rm -rf OrganismDbi.buildbin-libdir && mkdir OrganismDbi.buildbin-libdir && C:\Users\bioctesting\bbs-3.11-bioc-testing\R\bin\R.exe CMD INSTALL --merge-multiarch --build --library=OrganismDbi.buildbin-libdir OrganismDbi_1.29.1.tar.gz && C:\Users\bioctesting\bbs-3.11-bioc-testing\R\bin\R.exe CMD INSTALL OrganismDbi_1.29.1.zip && rm OrganismDbi_1.29.1.tar.gz OrganismDbi_1.29.1.zip
###
##############################################################################
##############################################################################
% Total % Received % Xferd Average Speed Time Time Time Current
Dload Upload Total Spent Left Speed
0 0 0 0 0 0 0 0 --:--:-- --:--:-- --:--:-- 0
100 58768 100 58768 0 0 954k 0 --:--:-- --:--:-- --:--:-- 1062k
install for i386
* installing *source* package 'OrganismDbi' ...
** using staged installation
** R
** inst
** byte-compile and prepare package for lazy loading
** help
*** installing help indices
converting help for package 'OrganismDbi'
finding HTML links ... done
OrganismDb html
finding level-2 HTML links ... done
Rd warning: C:/Users/bioctesting/bbs-3.11-bioc-testing/tmpdir/RtmpEVGCD4/R.INSTALLc70404e6410/OrganismDbi/man/OrganismDb.Rd:191: missing link 'GenomeInfoDb'
coordinate-mapping-method html
makeOrganismDbFromBiomart html
makeOrganismDbFromTxDb html
makeOrganismDbFromUCSC html
makeOrganismPackage html
rangeBasedAccessors html
** building package indices
** installing vignettes
** testing if installed package can be loaded from temporary location
** testing if installed package can be loaded from final location
** testing if installed package keeps a record of temporary installation path
install for x64
* installing *source* package 'OrganismDbi' ...
** testing if installed package can be loaded
* MD5 sums
packaged installation of 'OrganismDbi' as OrganismDbi_1.29.1.zip
* DONE (OrganismDbi)
* installing to library 'C:/Users/bioctesting/bbs-3.11-bioc-testing/R/library'
package 'OrganismDbi' successfully unpacked and MD5 sums checked