| Back to "Blame Jeroen" build/check report for BioC 3.11 | 
This page was generated on 2020-04-15 03:20:09 -0400 (Wed, 15 Apr 2020).
| These builds are using Rtools40 and R-testing by Jeroen Ooms (available at https://cran.r-project.org/bin/windows/testing/rtools40.html) | 
| TO THE DEVELOPERS/MAINTAINERS OF THE OrganismDbi PACKAGE: Please make sure to use the following settings in order to reproduce any error or warning you see on this page. | 
| Package 60/89 | Hostname | OS / Arch | INSTALL | BUILD | CHECK | BUILD BIN | |||||
| OrganismDbi 1.29.1 Bioconductor Package Maintainer 
 | tokay2 | Windows Server 2012 R2 Standard / x64 | OK | [ OK ] | WARNINGS | OK | 
| Package: OrganismDbi | 
| Version: 1.29.1 | 
| Command: chmod a+r OrganismDbi -R && C:\Users\bioctesting\bbs-3.11-bioc-testing\R\bin\R.exe CMD build --keep-empty-dirs --no-resave-data OrganismDbi | 
| StartedAt: 2020-04-14 18:36:58 -0400 (Tue, 14 Apr 2020) | 
| EndedAt: 2020-04-14 18:38:29 -0400 (Tue, 14 Apr 2020) | 
| EllapsedTime: 90.6 seconds | 
| RetCode: 0 | 
| Status: OK | 
| PackageFile: OrganismDbi_1.29.1.tar.gz | 
| PackageFileSize: 190.3 KiB | 
############################################################################## ############################################################################## ### ### Running command: ### ### chmod a+r OrganismDbi -R && C:\Users\bioctesting\bbs-3.11-bioc-testing\R\bin\R.exe CMD build --keep-empty-dirs --no-resave-data OrganismDbi ### ############################################################################## ############################################################################## * checking for file 'OrganismDbi/DESCRIPTION' ... OK * preparing 'OrganismDbi': * checking DESCRIPTION meta-information ... OK * installing the package to build vignettes * creating vignettes ... OK * checking for LF line-endings in source and make files and shell scripts * checking for empty or unneeded directories * building 'OrganismDbi_1.29.1.tar.gz'