Back to Multiple platform build/check report for BioC 3.11 (small subset of software packages ONLY) |
This page was generated on 2020-01-24 03:57:02 -0500 (Fri, 24 Jan 2020).
Package 22/41 | Hostname | OS / Arch | INSTALL | BUILD | CHECK | BUILD BIN | |||||
GenomicAlignments 1.23.1 Bioconductor Package Maintainer
| malbec2 | Linux (Ubuntu 18.04.3 LTS) / x86_64 | OK | OK | [ OK ] | ||||||
tokay2 | Windows Server 2012 R2 Standard / x64 | OK | ERROR | skipped | skipped |
Package: GenomicAlignments |
Version: 1.23.1 |
Command: /home/biocbuild/bbs-3.11-bioc/R/bin/R CMD check --install=check:GenomicAlignments.install-out.txt --library=/home/biocbuild/bbs-3.11-bioc/R/library --no-vignettes --timings GenomicAlignments_1.23.1.tar.gz |
StartedAt: 2020-01-24 03:21:06 -0500 (Fri, 24 Jan 2020) |
EndedAt: 2020-01-24 03:27:14 -0500 (Fri, 24 Jan 2020) |
EllapsedTime: 367.0 seconds |
RetCode: 0 |
Status: OK |
CheckDir: GenomicAlignments.Rcheck |
Warnings: 0 |
############################################################################## ############################################################################## ### ### Running command: ### ### /home/biocbuild/bbs-3.11-bioc/R/bin/R CMD check --install=check:GenomicAlignments.install-out.txt --library=/home/biocbuild/bbs-3.11-bioc/R/library --no-vignettes --timings GenomicAlignments_1.23.1.tar.gz ### ############################################################################## ############################################################################## * using log directory ‘/home/biocbuild/bbs-3.11-bioc-testing/meat/GenomicAlignments.Rcheck’ * using R Under development (unstable) (2019-12-14 r77569) * using platform: x86_64-pc-linux-gnu (64-bit) * using session charset: UTF-8 * using option ‘--no-vignettes’ * checking for file ‘GenomicAlignments/DESCRIPTION’ ... OK * this is package ‘GenomicAlignments’ version ‘1.23.1’ * package encoding: UTF-8 * checking package namespace information ... OK * checking package dependencies ... NOTE Depends: includes the non-default packages: 'BiocGenerics', 'S4Vectors', 'IRanges', 'GenomeInfoDb', 'GenomicRanges', 'SummarizedExperiment', 'Biostrings', 'Rsamtools' Adding so many packages to the search path is excessive and importing selectively is preferable. * checking if this is a source package ... OK * checking if there is a namespace ... OK * checking for hidden files and directories ... OK * checking for portable file names ... OK * checking for sufficient/correct file permissions ... OK * checking whether package ‘GenomicAlignments’ can be installed ... OK * checking installed package size ... OK * checking package directory ... OK * checking ‘build’ directory ... OK * checking DESCRIPTION meta-information ... NOTE Packages listed in more than one of Depends, Imports, Suggests, Enhances: ‘methods’ ‘BiocGenerics’ ‘S4Vectors’ ‘IRanges’ ‘GenomicRanges’ ‘Biostrings’ ‘Rsamtools’ A package should be listed in only one of these fields. * checking top-level files ... OK * checking for left-over files ... OK * checking index information ... OK * checking package subdirectories ... OK * checking R files for non-ASCII characters ... OK * checking R files for syntax errors ... OK * checking whether the package can be loaded ... OK * checking whether the package can be loaded with stated dependencies ... OK * checking whether the package can be unloaded cleanly ... OK * checking whether the namespace can be loaded with stated dependencies ... OK * checking whether the namespace can be unloaded cleanly ... OK * checking dependencies in R code ... NOTE ':::' call which should be '::': ‘S4Vectors:::makePrettyMatrixForCompactPrinting’ See the note in ?`:::` about the use of this operator. Unexported objects imported by ':::' calls: ‘Biostrings:::.normarg_padding.letter’ ‘Rsamtools:::.BamViews_delegate’ ‘Rsamtools:::.findMateWithinGroups’ ‘Rsamtools:::.load_bamcols_from_scanBam_res’ See the note in ?`:::` about the use of this operator. * checking S3 generic/method consistency ... OK * checking replacement functions ... OK * checking foreign function calls ... OK * checking R code for possible problems ... OK * checking Rd files ... OK * checking Rd metadata ... OK * checking Rd cross-references ... OK * checking for missing documentation entries ... OK * checking for code/documentation mismatches ... OK * checking Rd \usage sections ... OK * checking Rd contents ... OK * checking for unstated dependencies in examples ... OK * checking line endings in C/C++/Fortran sources/headers ... OK * checking compiled code ... NOTE Note: information on .o files is not available * checking files in ‘vignettes’ ... OK * checking examples ... OK Examples with CPU (user + system) or elapsed time > 5s user system elapsed junctions-methods 20.972 0.405 21.839 readGAlignments 16.754 0.959 17.753 summarizeOverlaps-methods 9.927 0.506 10.115 sequenceLayer 7.873 0.312 8.229 findSpliceOverlaps-methods 8.037 0.059 8.250 coordinate-mapping-methods 7.845 0.088 8.052 stackStringsFromGAlignments 6.937 0.076 7.031 * checking for unstated dependencies in ‘tests’ ... OK * checking tests ... Running ‘run_unitTests.R’ OK * checking for unstated dependencies in vignettes ... OK * checking package vignettes in ‘inst/doc’ ... OK * checking running R code from vignettes ... SKIPPED * checking re-building of vignette outputs ... SKIPPED * checking PDF version of manual ... OK * DONE Status: 4 NOTEs See ‘/home/biocbuild/bbs-3.11-bioc-testing/meat/GenomicAlignments.Rcheck/00check.log’ for details.
GenomicAlignments.Rcheck/00install.out
############################################################################## ############################################################################## ### ### Running command: ### ### /home/biocbuild/bbs-3.11-bioc/R/bin/R CMD INSTALL GenomicAlignments ### ############################################################################## ############################################################################## * installing to library ‘/home/biocbuild/bbs-3.11-bioc-testing/Rlibs’ * installing *source* package ‘GenomicAlignments’ ... ** using staged installation ** libs gcc -I"/home/biocbuild/bbs-3.11-bioc/R/include" -DNDEBUG -I'/home/biocbuild/bbs-3.11-bioc-testing/Rlibs/S4Vectors/include' -I'/home/biocbuild/bbs-3.11-bioc-testing/Rlibs/IRanges/include' -I/usr/local/include -fpic -g -O2 -Wall -c IRanges_stubs.c -o IRanges_stubs.o gcc -I"/home/biocbuild/bbs-3.11-bioc/R/include" -DNDEBUG -I'/home/biocbuild/bbs-3.11-bioc-testing/Rlibs/S4Vectors/include' -I'/home/biocbuild/bbs-3.11-bioc-testing/Rlibs/IRanges/include' -I/usr/local/include -fpic -g -O2 -Wall -c R_init_GenomicAlignments.c -o R_init_GenomicAlignments.o gcc -I"/home/biocbuild/bbs-3.11-bioc/R/include" -DNDEBUG -I'/home/biocbuild/bbs-3.11-bioc-testing/Rlibs/S4Vectors/include' -I'/home/biocbuild/bbs-3.11-bioc-testing/Rlibs/IRanges/include' -I/usr/local/include -fpic -g -O2 -Wall -c S4Vectors_stubs.c -o S4Vectors_stubs.o gcc -I"/home/biocbuild/bbs-3.11-bioc/R/include" -DNDEBUG -I'/home/biocbuild/bbs-3.11-bioc-testing/Rlibs/S4Vectors/include' -I'/home/biocbuild/bbs-3.11-bioc-testing/Rlibs/IRanges/include' -I/usr/local/include -fpic -g -O2 -Wall -c cigar_utils.c -o cigar_utils.o cigar_utils.c: In function ‘cigar_ranges’: cigar_utils.c:676:9: warning: ‘f_elt’ may be used uninitialized in this function [-Wmaybe-uninitialized] f_elt++; ~~~~~^~ cigar_utils.c:658:27: warning: ‘range_buf2’ may be used uninitialized in this function [-Wmaybe-uninitialized] range_buf1 = range_buf2->elts[*f_elt - 1]; ~~~~~~~~~~^~~~~~ cigar_utils.c:674:22: warning: ‘range_buf1’ may be used uninitialized in this function [-Wmaybe-uninitialized] *(breakpoint++) = IntPairAE_get_nelt(range_buf1); ^~~~~~~~~~~~~~~~~~~~~~~~~~~~~~ cigar_utils.c:674:16: warning: ‘breakpoint’ may be used uninitialized in this function [-Wmaybe-uninitialized] *(breakpoint++) = IntPairAE_get_nelt(range_buf1); ~~~~~~~~~~~^~~ cigar_utils.c:626:8: warning: ‘flag_elt’ may be used uninitialized in this function [-Wmaybe-uninitialized] if (*flag_elt == NA_INTEGER) { ^~~~~~~~~ cigar_utils.c: In function ‘cigar_width’: cigar_utils.c:708:8: warning: ‘flag_elt’ may be used uninitialized in this function [-Wmaybe-uninitialized] if (*flag_elt == NA_INTEGER) { ^~~~~~~~~ cigar_utils.c: In function ‘cigar_narrow’: cigar_utils.c:880:6: warning: ‘Roffset’ may be used uninitialized in this function [-Wmaybe-uninitialized] if (offset == Roffset) ^ cigar_utils.c:852:15: note: ‘Roffset’ was declared here int Loffset, Roffset, buf_offset; ^~~~~~~ cigar_utils.c:878:6: warning: ‘Loffset’ may be used uninitialized in this function [-Wmaybe-uninitialized] if (offset == Loffset) ^ cigar_utils.c:852:6: note: ‘Loffset’ was declared here int Loffset, Roffset, buf_offset; ^~~~~~~ cigar_utils.c: In function ‘cigar_qnarrow’: cigar_utils.c:1064:6: warning: ‘Roffset’ may be used uninitialized in this function [-Wmaybe-uninitialized] if (offset == Roffset) ^ cigar_utils.c:1036:15: note: ‘Roffset’ was declared here int Loffset, Roffset, buf_offset; ^~~~~~~ cigar_utils.c:1062:6: warning: ‘Loffset’ may be used uninitialized in this function [-Wmaybe-uninitialized] if (offset == Loffset) ^ cigar_utils.c:1036:6: note: ‘Loffset’ was declared here int Loffset, Roffset, buf_offset; ^~~~~~~ gcc -I"/home/biocbuild/bbs-3.11-bioc/R/include" -DNDEBUG -I'/home/biocbuild/bbs-3.11-bioc-testing/Rlibs/S4Vectors/include' -I'/home/biocbuild/bbs-3.11-bioc-testing/Rlibs/IRanges/include' -I/usr/local/include -fpic -g -O2 -Wall -c coordinate_mapping_methods.c -o coordinate_mapping_methods.o gcc -I"/home/biocbuild/bbs-3.11-bioc/R/include" -DNDEBUG -I'/home/biocbuild/bbs-3.11-bioc-testing/Rlibs/S4Vectors/include' -I'/home/biocbuild/bbs-3.11-bioc-testing/Rlibs/IRanges/include' -I/usr/local/include -fpic -g -O2 -Wall -c encodeOverlaps_methods.c -o encodeOverlaps_methods.o gcc -shared -L/home/biocbuild/bbs-3.11-bioc/R/lib -L/usr/local/lib -o GenomicAlignments.so IRanges_stubs.o R_init_GenomicAlignments.o S4Vectors_stubs.o cigar_utils.o coordinate_mapping_methods.o encodeOverlaps_methods.o -L/home/biocbuild/bbs-3.11-bioc/R/lib -lR installing to /home/biocbuild/bbs-3.11-bioc-testing/Rlibs/00LOCK-GenomicAlignments/00new/GenomicAlignments/libs ** R ** inst ** byte-compile and prepare package for lazy loading ** help *** installing help indices ** building package indices ** installing vignettes ** testing if installed package can be loaded from temporary location ** checking absolute paths in shared objects and dynamic libraries ** testing if installed package can be loaded from final location ** testing if installed package keeps a record of temporary installation path * DONE (GenomicAlignments)
GenomicAlignments.Rcheck/tests/run_unitTests.Rout
R Under development (unstable) (2019-12-14 r77569) -- "Unsuffered Consequences" Copyright (C) 2019 The R Foundation for Statistical Computing Platform: x86_64-pc-linux-gnu (64-bit) R is free software and comes with ABSOLUTELY NO WARRANTY. You are welcome to redistribute it under certain conditions. Type 'license()' or 'licence()' for distribution details. R is a collaborative project with many contributors. Type 'contributors()' for more information and 'citation()' on how to cite R or R packages in publications. Type 'demo()' for some demos, 'help()' for on-line help, or 'help.start()' for an HTML browser interface to help. Type 'q()' to quit R. > require("GenomicAlignments") || stop("unable to load GenomicRanges package") Loading required package: GenomicAlignments Loading required package: BiocGenerics Loading required package: parallel Attaching package: 'BiocGenerics' The following objects are masked from 'package:parallel': clusterApply, clusterApplyLB, clusterCall, clusterEvalQ, clusterExport, clusterMap, parApply, parCapply, parLapply, parLapplyLB, parRapply, parSapply, parSapplyLB The following objects are masked from 'package:stats': IQR, mad, sd, var, xtabs The following objects are masked from 'package:base': Filter, Find, Map, Position, Reduce, anyDuplicated, append, as.data.frame, basename, cbind, colnames, dirname, do.call, duplicated, eval, evalq, get, grep, grepl, intersect, is.unsorted, lapply, mapply, match, mget, order, paste, pmax, pmax.int, pmin, pmin.int, rank, rbind, rownames, sapply, setdiff, sort, table, tapply, union, unique, unsplit, which, which.max, which.min Loading required package: S4Vectors Loading required package: stats4 Attaching package: 'S4Vectors' The following object is masked from 'package:base': expand.grid Loading required package: IRanges Loading required package: GenomeInfoDb Loading required package: GenomicRanges Loading required package: SummarizedExperiment Loading required package: Biobase Welcome to Bioconductor Vignettes contain introductory material; view with 'browseVignettes()'. To cite Bioconductor, see 'citation("Biobase")', and for packages 'citation("pkgname")'. Loading required package: DelayedArray Loading required package: matrixStats Attaching package: 'matrixStats' The following objects are masked from 'package:Biobase': anyMissing, rowMedians Loading required package: BiocParallel Attaching package: 'DelayedArray' The following objects are masked from 'package:matrixStats': colMaxs, colMins, colRanges, rowMaxs, rowMins, rowRanges The following objects are masked from 'package:base': aperm, apply, rowsum Loading required package: Biostrings Loading required package: XVector Attaching package: 'Biostrings' The following object is masked from 'package:base': strsplit Loading required package: Rsamtools [1] TRUE > GenomicAlignments:::.test() RUNIT TEST PROTOCOL -- Fri Jan 24 03:27:06 2020 *********************************************** Number of test functions: 42 Number of errors: 0 Number of failures: 0 1 Test Suite : GenomicAlignments RUnit Tests - 42 test functions, 0 errors, 0 failures Number of test functions: 42 Number of errors: 0 Number of failures: 0 Warning message: In .make_GAlignmentPairs_from_GAlignments(gal, strandMode = strandMode, : 4 alignments with ambiguous pairing were dumped. Use 'getDumpedAlignments()' to retrieve them from the dump environment. > > proc.time() user system elapsed 39.200 1.604 40.846
GenomicAlignments.Rcheck/GenomicAlignments-Ex.timings
name | user | system | elapsed | |
GAlignmentPairs-class | 1.953 | 0.088 | 2.042 | |
GAlignments-class | 0.493 | 0.032 | 0.524 | |
GAlignmentsList-class | 3.684 | 0.056 | 3.840 | |
GappedReads-class | 0.102 | 0.000 | 0.102 | |
OverlapEncodings-class | 1.774 | 0.000 | 1.788 | |
cigar-utils | 0.319 | 0.012 | 0.343 | |
coordinate-mapping-methods | 7.845 | 0.088 | 8.052 | |
coverage-methods | 3.916 | 0.016 | 3.936 | |
encodeOverlaps-methods | 0.049 | 0.000 | 0.049 | |
findCompatibleOverlaps-methods | 1.644 | 0.009 | 1.658 | |
findMateAlignment | 0.18 | 0.00 | 0.18 | |
findOverlaps-methods | 0.773 | 0.000 | 0.773 | |
findSpliceOverlaps-methods | 8.037 | 0.059 | 8.250 | |
intra-range-methods | 0.495 | 0.004 | 0.504 | |
junctions-methods | 20.972 | 0.405 | 21.839 | |
pileLettersAt | 0.932 | 0.008 | 0.939 | |
readGAlignments | 16.754 | 0.959 | 17.753 | |
sequenceLayer | 7.873 | 0.312 | 8.229 | |
setops-methods | 0.135 | 0.000 | 0.135 | |
stackStringsFromGAlignments | 6.937 | 0.076 | 7.031 | |
summarizeOverlaps-methods | 9.927 | 0.506 | 10.115 | |