Back to "Blame Jeroen" build/check report for BioC 3.11 |
This page was generated on 2020-04-15 03:20:10 -0400 (Wed, 15 Apr 2020).
These builds are using Rtools40 and R-testing by Jeroen Ooms (available at https://cran.r-project.org/bin/windows/testing/rtools40.html) |
TO THE DEVELOPERS/MAINTAINERS OF THE GenomicAlignments PACKAGE: Please make sure to use the following settings in order to reproduce any error or warning you see on this page. |
Package 41/89 | Hostname | OS / Arch | INSTALL | BUILD | CHECK | BUILD BIN | |||||
GenomicAlignments 1.23.2 Bioconductor Package Maintainer
| tokay2 | Windows Server 2012 R2 Standard / x64 | OK | [ OK ] | WARNINGS | OK |
Package: GenomicAlignments |
Version: 1.23.2 |
Command: chmod a+r GenomicAlignments -R && C:\Users\bioctesting\bbs-3.11-bioc-testing\R\bin\R.exe CMD build --keep-empty-dirs --no-resave-data GenomicAlignments |
StartedAt: 2020-04-14 18:52:36 -0400 (Tue, 14 Apr 2020) |
EndedAt: 2020-04-14 18:54:58 -0400 (Tue, 14 Apr 2020) |
EllapsedTime: 141.6 seconds |
RetCode: 0 |
Status: OK |
PackageFile: GenomicAlignments_1.23.2.tar.gz |
PackageFileSize: 2.212 MiB |
############################################################################## ############################################################################## ### ### Running command: ### ### chmod a+r GenomicAlignments -R && C:\Users\bioctesting\bbs-3.11-bioc-testing\R\bin\R.exe CMD build --keep-empty-dirs --no-resave-data GenomicAlignments ### ############################################################################## ############################################################################## * checking for file 'GenomicAlignments/DESCRIPTION' ... OK * preparing 'GenomicAlignments': * checking DESCRIPTION meta-information ... OK * cleaning src * installing the package to build vignettes * creating vignettes ... OK * cleaning src * checking for LF line-endings in source and make files and shell scripts * checking for empty or unneeded directories NB: this package now depends on R (>= 3.5.0) WARNING: Added dependency on R >= 3.5.0 because serialized objects in serialize/load version 3 cannot be read in older versions of R. File(s) containing such objects: 'GenomicAlignments/vignettes/precomputed_results/exbytx.rda' * building 'GenomicAlignments_1.23.2.tar.gz'