Back to Multiple platform build/check report for BioC 3.11 (small subset of software packages ONLY) |
This page was generated on 2020-01-24 03:57:02 -0500 (Fri, 24 Jan 2020).
Package 12/41 | Hostname | OS / Arch | INSTALL | BUILD | CHECK | BUILD BIN | |||||
BiocVersion 3.11.1 Bioconductor Package Maintainer
| malbec2 | Linux (Ubuntu 18.04.3 LTS) / x86_64 | [ OK ] | OK | OK | ||||||
tokay2 | Windows Server 2012 R2 Standard / x64 | OK | OK | OK | OK |
Package: BiocVersion |
Version: 3.11.1 |
Command: /home/biocbuild/bbs-3.11-bioc/R/bin/R CMD INSTALL BiocVersion |
StartedAt: 2020-01-24 01:56:52 -0500 (Fri, 24 Jan 2020) |
EndedAt: 2020-01-24 01:56:54 -0500 (Fri, 24 Jan 2020) |
EllapsedTime: 2.0 seconds |
RetCode: 0 |
Status: OK |
############################################################################## ############################################################################## ### ### Running command: ### ### /home/biocbuild/bbs-3.11-bioc/R/bin/R CMD INSTALL BiocVersion ### ############################################################################## ############################################################################## * installing to library ‘/home/biocbuild/bbs-3.11-bioc-testing/Rlibs’ * installing *source* package ‘BiocVersion’ ... ** using staged installation ** help *** installing help indices ** building package indices ** testing if installed package can be loaded from temporary location ** testing if installed package can be loaded from final location ** testing if installed package keeps a record of temporary installation path * DONE (BiocVersion)