Back to Multiple platform build/check report for BioC 3.11 (small subset of software packages ONLY) |
This page was generated on 2020-01-24 03:57:02 -0500 (Fri, 24 Jan 2020).
Package 12/41 | Hostname | OS / Arch | INSTALL | BUILD | CHECK | BUILD BIN | |||||
BiocVersion 3.11.1 Bioconductor Package Maintainer
| malbec2 | Linux (Ubuntu 18.04.3 LTS) / x86_64 | OK | [ OK ] | OK | ||||||
tokay2 | Windows Server 2012 R2 Standard / x64 | OK | OK | OK | OK |
Package: BiocVersion |
Version: 3.11.1 |
Command: /home/biocbuild/bbs-3.11-bioc/R/bin/R CMD build --keep-empty-dirs --no-resave-data BiocVersion |
StartedAt: 2020-01-24 02:14:54 -0500 (Fri, 24 Jan 2020) |
EndedAt: 2020-01-24 02:14:54 -0500 (Fri, 24 Jan 2020) |
EllapsedTime: 0.5 seconds |
RetCode: 0 |
Status: OK |
PackageFile: BiocVersion_3.11.1.tar.gz |
PackageFileSize: 985 bytes |
############################################################################## ############################################################################## ### ### Running command: ### ### /home/biocbuild/bbs-3.11-bioc/R/bin/R CMD build --keep-empty-dirs --no-resave-data BiocVersion ### ############################################################################## ############################################################################## * checking for file ‘BiocVersion/DESCRIPTION’ ... OK * preparing ‘BiocVersion’: * checking DESCRIPTION meta-information ... OK * checking for LF line-endings in source and make files and shell scripts * checking for empty or unneeded directories * creating default NAMESPACE file * building ‘BiocVersion_3.11.1.tar.gz’