| Back to Multiple platform build/check report for BioC 3.11 (small subset of software packages ONLY) |
This page was generated on 2020-01-24 03:57:03 -0500 (Fri, 24 Jan 2020).
| Package 15/41 | Hostname | OS / Arch | INSTALL | BUILD | CHECK | BUILD BIN | |||||
| BSgenome 1.55.2 H. Pagès
| malbec2 | Linux (Ubuntu 18.04.3 LTS) / x86_64 | OK | [ OK ] | WARNINGS | ||||||
| tokay2 | Windows Server 2012 R2 Standard / x64 | OK | OK | WARNINGS | OK |
| Package: BSgenome |
| Version: 1.55.2 |
| Command: /home/biocbuild/bbs-3.11-bioc/R/bin/R CMD build --keep-empty-dirs --no-resave-data BSgenome |
| StartedAt: 2020-01-24 02:30:12 -0500 (Fri, 24 Jan 2020) |
| EndedAt: 2020-01-24 02:32:13 -0500 (Fri, 24 Jan 2020) |
| EllapsedTime: 121.7 seconds |
| RetCode: 0 |
| Status: OK |
| PackageFile: BSgenome_1.55.2.tar.gz |
| PackageFileSize: 5.799 MiB |
############################################################################## ############################################################################## ### ### Running command: ### ### /home/biocbuild/bbs-3.11-bioc/R/bin/R CMD build --keep-empty-dirs --no-resave-data BSgenome ### ############################################################################## ############################################################################## * checking for file ‘BSgenome/DESCRIPTION’ ... OK * preparing ‘BSgenome’: * checking DESCRIPTION meta-information ... OK * installing the package to build vignettes * creating vignettes ... OK * checking for LF line-endings in source and make files and shell scripts * checking for empty or unneeded directories WARNING: directory ‘BSgenome/inst/pkgtemplates/BSgenome_datapkg/inst/extdata’ is empty WARNING: directory ‘BSgenome/inst/pkgtemplates/MaskedBSgenome_datapkg/inst/extdata’ is empty * building ‘BSgenome_1.55.2.tar.gz’