| Back to Multiple platform build/check report for BioC 3.11 |
|
This page was generated on 2020-10-08 12:28:07 -0400 (Thu, 08 Oct 2020).
| TO THE DEVELOPERS/MAINTAINERS OF THE wiggleplotr PACKAGE: Please make sure to use the following settings in order to reproduce any error or warning you see on this page. |
| Package 1888/1905 | Hostname | OS / Arch | INSTALL | BUILD | CHECK | BUILD BIN | ||||||
| wiggleplotr 1.12.1 Kaur Alasoo
| malbec2 | Linux (Ubuntu 18.04.4 LTS) / x86_64 | OK | OK | OK | |||||||
| tokay2 | Windows Server 2012 R2 Standard / x64 | OK | OK | OK | [ OK ] | |||||||
| machv2 | macOS 10.14.6 Mojave / x86_64 | OK | OK | OK | OK |
| Package: wiggleplotr |
| Version: 1.12.1 |
| Command: rm -rf wiggleplotr.buildbin-libdir && mkdir wiggleplotr.buildbin-libdir && C:\Users\biocbuild\bbs-3.11-bioc\R\bin\R.exe CMD INSTALL --merge-multiarch --build --library=wiggleplotr.buildbin-libdir wiggleplotr_1.12.1.tar.gz |
| StartedAt: 2020-10-08 11:31:08 -0400 (Thu, 08 Oct 2020) |
| EndedAt: 2020-10-08 11:31:51 -0400 (Thu, 08 Oct 2020) |
| EllapsedTime: 43.0 seconds |
| RetCode: 0 |
| Status: OK |
| PackageFile: wiggleplotr_1.12.1.zip |
| PackageFileSize: 240.1 KiB |
##############################################################################
##############################################################################
###
### Running command:
###
### rm -rf wiggleplotr.buildbin-libdir && mkdir wiggleplotr.buildbin-libdir && C:\Users\biocbuild\bbs-3.11-bioc\R\bin\R.exe CMD INSTALL --merge-multiarch --build --library=wiggleplotr.buildbin-libdir wiggleplotr_1.12.1.tar.gz
###
##############################################################################
##############################################################################
install for i386
* installing *source* package 'wiggleplotr' ...
** using staged installation
** R
** data
*** moving datasets to lazyload DB
** inst
** byte-compile and prepare package for lazy loading
** help
*** installing help indices
converting help for package 'wiggleplotr'
finding HTML links ... done
getGenotypePalette html
makeManhattanPlot html
ncoa7_cdss html
ncoa7_exons html
ncoa7_metadata html
pasteFactors html
plotCoverage html
plotCoverageFromEnsembldb html
plotCoverageFromUCSC html
plotTranscripts html
plotTranscriptsFromEnsembldb html
plotTranscriptsFromUCSC html
wiggleplotr html
** building package indices
** installing vignettes
** testing if installed package can be loaded from temporary location
** testing if installed package can be loaded from final location
** testing if installed package keeps a record of temporary installation path
install for x64
* installing *source* package 'wiggleplotr' ...
** testing if installed package can be loaded
* MD5 sums
packaged installation of 'wiggleplotr' as wiggleplotr_1.12.1.zip
* DONE (wiggleplotr)