| Back to Multiple platform build/check report for BioC 3.11 |
|
This page was generated on 2020-10-17 11:58:00 -0400 (Sat, 17 Oct 2020).
| TO THE DEVELOPERS/MAINTAINERS OF THE wiggleplotr PACKAGE: Please make sure to use the following settings in order to reproduce any error or warning you see on this page. |
| Package 1888/1905 | Hostname | OS / Arch | INSTALL | BUILD | CHECK | BUILD BIN | ||||||
| wiggleplotr 1.12.1 Kaur Alasoo
| malbec2 | Linux (Ubuntu 18.04.4 LTS) / x86_64 | OK | OK | OK | |||||||
| tokay2 | Windows Server 2012 R2 Standard / x64 | [ OK ] | OK | OK | NA | |||||||
| machv2 | macOS 10.14.6 Mojave / x86_64 | OK | OK | OK | OK |
| Package: wiggleplotr |
| Version: 1.12.1 |
| Command: C:\cygwin\bin\curl.exe -O https://malbec2.bioconductor.org/BBS/3.11/bioc/src/contrib/wiggleplotr_1.12.1.tar.gz && rm -rf wiggleplotr.buildbin-libdir && mkdir wiggleplotr.buildbin-libdir && C:\Users\biocbuild\bbs-3.11-bioc\R\bin\R.exe CMD INSTALL --merge-multiarch --build --library=wiggleplotr.buildbin-libdir wiggleplotr_1.12.1.tar.gz && C:\Users\biocbuild\bbs-3.11-bioc\R\bin\R.exe CMD INSTALL wiggleplotr_1.12.1.zip && rm wiggleplotr_1.12.1.tar.gz wiggleplotr_1.12.1.zip |
| StartedAt: 2020-10-16 18:39:17 -0400 (Fri, 16 Oct 2020) |
| EndedAt: 2020-10-16 18:39:36 -0400 (Fri, 16 Oct 2020) |
| EllapsedTime: 18.8 seconds |
| RetCode: 0 |
| Status: OK |
##############################################################################
##############################################################################
###
### Running command:
###
### C:\cygwin\bin\curl.exe -O https://malbec2.bioconductor.org/BBS/3.11/bioc/src/contrib/wiggleplotr_1.12.1.tar.gz && rm -rf wiggleplotr.buildbin-libdir && mkdir wiggleplotr.buildbin-libdir && C:\Users\biocbuild\bbs-3.11-bioc\R\bin\R.exe CMD INSTALL --merge-multiarch --build --library=wiggleplotr.buildbin-libdir wiggleplotr_1.12.1.tar.gz && C:\Users\biocbuild\bbs-3.11-bioc\R\bin\R.exe CMD INSTALL wiggleplotr_1.12.1.zip && rm wiggleplotr_1.12.1.tar.gz wiggleplotr_1.12.1.zip
###
##############################################################################
##############################################################################
% Total % Received % Xferd Average Speed Time Time Time Current
Dload Upload Total Spent Left Speed
0 0 0 0 0 0 0 0 --:--:-- --:--:-- --:--:-- 0
100 518k 100 518k 0 0 7440k 0 --:--:-- --:--:-- --:--:-- 8104k
install for i386
* installing *source* package 'wiggleplotr' ...
** using staged installation
** R
** data
*** moving datasets to lazyload DB
** inst
** byte-compile and prepare package for lazy loading
** help
*** installing help indices
converting help for package 'wiggleplotr'
finding HTML links ... done
getGenotypePalette html
makeManhattanPlot html
ncoa7_cdss html
ncoa7_exons html
ncoa7_metadata html
pasteFactors html
plotCoverage html
plotCoverageFromEnsembldb html
plotCoverageFromUCSC html
plotTranscripts html
plotTranscriptsFromEnsembldb html
plotTranscriptsFromUCSC html
wiggleplotr html
** building package indices
** installing vignettes
** testing if installed package can be loaded from temporary location
** testing if installed package can be loaded from final location
** testing if installed package keeps a record of temporary installation path
install for x64
* installing *source* package 'wiggleplotr' ...
** testing if installed package can be loaded
* MD5 sums
packaged installation of 'wiggleplotr' as wiggleplotr_1.12.1.zip
* DONE (wiggleplotr)
* installing to library 'C:/Users/biocbuild/bbs-3.11-bioc/R/library'
package 'wiggleplotr' successfully unpacked and MD5 sums checked